Workbook
Name Tb_mg_mr: Tabel!$D$57:$K$71
Name Tb_mg_mr_l: Tabel!$D$58:$K$71
Name Tb_mg_mr_t: Tabel!$E$59:$K$71
Name Tb_mg_ur: Tabel!$D$25:$K$39
Name Tb_mg_ur_l: Tabel!$D$26:$K$39
Name Tb_mg_ur_t: Tabel!$E$27:$K$39
Name Tb_ug_mr: Tabel!$D$73:$K$87
Name Tb_ug_mr_l: Tabel!$D$74:$K$87
Name Tb_ug_mr_t: Tabel!$E$75:$K$87
Name Tb_ug_ur: Tabel!$D$41:$K$55
Name Tb_ug_ur_l: Tabel!$D$42:$K$55
Name Tb_ug_ur_t: Tabel!$E$43:$K$55
Name Tl_mg_mr: Tabel!$D$121:$K$135
Name Tl_mg_mr_l: Tabel!$D$122:$K$135
Name Tl_mg_mr_t: Tabel!$E$123:$K$135
Name Tl_mg_ur: Tabel!$D$89:$K$103
Name Tl_mg_ur_l: Tabel!$D$90:$K$103
Name Tl_mg_ur_t: Tabel!$E$91:$K$103
Name Tl_ug_mr: Tabel!$D$137:$K$151
Name Tl_ug_mr_l: Tabel!$D$138:$K$151
Name Tl_ug_mr_t: Tabel!$E$139:$K$151
Name Tl_ug_ur: Tabel!$D$105:$K$119
Name Tl_ug_ur_l: Tabel!$D$106:$K$119
Name Tl_ug_ur_t: Tabel!$E$107:$K$119

Sheet Opskrift
K1: Udregninger for R-værdien (Isolansen) | Q1: Til tabelopslag
A2: BETON | B2: Gulvvarme i betondæk
C3: 41 | D3: 38 | E3: 35 | F3: 34 | G3: 33 | H3: 31 | I3: 22 | K3: Delelementer | L3: mm | M3: Isolans
B4: 100 | C4: =1/($M$4+((B4-75)/1000)/($C$3/1000)+(75/1000)/(($C$3/1000)*1.2)+$M$5) -> 0.27403669 | D4: =1/($M$4+((B4-75)/1000)/($D$3/1000)+(75/1000)/(($D$3/1000)*1.2)+$M$5) -> 0.26194251 | E4: =1/($M$4+((B4-75)/1000)/($E$3/1000)+(75/1000)/(($E$3/1000)*1.2)+$M$5) -> 0.249066 | F4: =1/($M$4+((B4-75)/1000)/($F$3/1000)+(75/1000)/(($F$3/1000)*1.2)+$M$5) -> 0.24458672 | G4: =1/($M$4+((B4-75)/1000)/($G$3/1000)+(75/1000)/(($G$3/1000)*1.2)+$M$5) -> 0.24000873 | H4: =1/($M$4+((B4-75)/1000)/($H$3/1000)+(75/1000)/(($H$3/1000)*1.2)+$M$5) -> 0.23054326 | I4: =1/($M$4+((B4-75)/1000)/($I$3/1000)+(75/1000)/(($I$3/1000)*1.2)+$M$5) -> 0.18207399 | K4: Beton | L4: 30 | M4: =(L4/1000)/(2000/1000) -> 0.015 | Q4: Let terrændæk
B5: 125 | C5: =1/($M$4+((B5-75)/1000)/($C$3/1000)+(75/1000)/(($C$3/1000)*1.2)+$M$5) -> 0.23480228 | D5: =1/($M$4+((B5-75)/1000)/($D$3/1000)+(75/1000)/(($D$3/1000)*1.2)+$M$5) -> 0.22343741 | E5: =1/($M$4+((B5-75)/1000)/($E$3/1000)+(75/1000)/(($E$3/1000)*1.2)+$M$5) -> 0.21144842 | F5: =1/($M$4+((B5-75)/1000)/($F$3/1000)+(75/1000)/(($F$3/1000)*1.2)+$M$5) -> 0.20730443 | G5: =1/($M$4+((B5-75)/1000)/($G$3/1000)+(75/1000)/(($G$3/1000)*1.2)+$M$5) -> 0.20308317 | H5: =1/($M$4+((B5-75)/1000)/($H$3/1000)+(75/1000)/(($H$3/1000)*1.2)+$M$5) -> 0.19440003 | I5: =1/($M$4+((B5-75)/1000)/($I$3/1000)+(75/1000)/(($I$3/1000)*1.2)+$M$5) -> 0.15086059 | K5: Rj | M5: 1.5 | Q5: Terrændæk med beton
B6: 150 | C6: =1/($M$4+((B6-75)/1000)/($C$3/1000)+(75/1000)/(($C$3/1000)*1.2)+$M$5) -> 0.20539539 | D6: =1/($M$4+((B6-75)/1000)/($D$3/1000)+(75/1000)/(($D$3/1000)*1.2)+$M$5) -> 0.19480187 | E6: =1/($M$4+((B6-75)/1000)/($E$3/1000)+(75/1000)/(($E$3/1000)*1.2)+$M$5) -> 0.18370293 | F6: =1/($M$4+((B6-75)/1000)/($F$3/1000)+(75/1000)/(($F$3/1000)*1.2)+$M$5) -> 0.17988466 | G6: =1/($M$4+((B6-75)/1000)/($G$3/1000)+(75/1000)/(($G$3/1000)*1.2)+$M$5) -> 0.17600469 | H6: =1/($M$4+((B6-75)/1000)/($H$3/1000)+(75/1000)/(($H$3/1000)*1.2)+$M$5) -> 0.16805356 | I6: =1/($M$4+((B6-75)/1000)/($I$3/1000)+(75/1000)/(($I$3/1000)*1.2)+$M$5) -> 0.128783
B7: 175 | C7: =1/($M$4+((B7-75)/1000)/($C$3/1000)+(75/1000)/(($C$3/1000)*1.2)+$M$5) -> 0.18253456 | D7: =1/($M$4+((B7-75)/1000)/($D$3/1000)+(75/1000)/(($D$3/1000)*1.2)+$M$5) -> 0.17267233 | E7: =1/($M$4+((B7-75)/1000)/($E$3/1000)+(75/1000)/(($E$3/1000)*1.2)+$M$5) -> 0.16239415 | F7: =1/($M$4+((B7-75)/1000)/($F$3/1000)+(75/1000)/(($F$3/1000)*1.2)+$M$5) -> 0.15887108 | G7: =1/($M$4+((B7-75)/1000)/($G$3/1000)+(75/1000)/(($G$3/1000)*1.2)+$M$5) -> 0.15529777 | H7: =1/($M$4+((B7-75)/1000)/($H$3/1000)+(75/1000)/(($H$3/1000)*1.2)+$M$5) -> 0.14799609 | I7: =1/($M$4+((B7-75)/1000)/($I$3/1000)+(75/1000)/(($I$3/1000)*1.2)+$M$5) -> 0.11234234 | P7: Med Gulvvarme | Q7: Ja
B8: 200 | C8: =1/($M$4+((B8-75)/1000)/($C$3/1000)+(75/1000)/(($C$3/1000)*1.2)+$M$5) -> 0.16425295 | D8: =1/($M$4+((B8-75)/1000)/($D$3/1000)+(75/1000)/(($D$3/1000)*1.2)+$M$5) -> 0.15505774 | E8: =1/($M$4+((B8-75)/1000)/($E$3/1000)+(75/1000)/(($E$3/1000)*1.2)+$M$5) -> 0.14551502 | F8: =1/($M$4+((B8-75)/1000)/($F$3/1000)+(75/1000)/(($F$3/1000)*1.2)+$M$5) -> 0.14225346 | G8: =1/($M$4+((B8-75)/1000)/($G$3/1000)+(75/1000)/(($G$3/1000)*1.2)+$M$5) -> 0.13895029 | H8: =1/($M$4+((B8-75)/1000)/($H$3/1000)+(75/1000)/(($H$3/1000)*1.2)+$M$5) -> 0.1322159 | I8: =1/($M$4+((B8-75)/1000)/($I$3/1000)+(75/1000)/(($I$3/1000)*1.2)+$M$5) -> 0.099624145 | P8: Uden Gulvvarme | Q8: Nej
B9: 225 | C9: =1/($M$4+((B9-75)/1000)/($C$3/1000)+(75/1000)/(($C$3/1000)*1.2)+$M$5) -> 0.14929993 | D9: =1/($M$4+((B9-75)/1000)/($D$3/1000)+(75/1000)/(($D$3/1000)*1.2)+$M$5) -> 0.14070426 | E9: =1/($M$4+((B9-75)/1000)/($E$3/1000)+(75/1000)/(($E$3/1000)*1.2)+$M$5) -> 0.13181433 | F9: =1/($M$4+((B9-75)/1000)/($F$3/1000)+(75/1000)/(($F$3/1000)*1.2)+$M$5) -> 0.128783 | G9: =1/($M$4+((B9-75)/1000)/($G$3/1000)+(75/1000)/(($G$3/1000)*1.2)+$M$5) -> 0.12571668 | H9: =1/($M$4+((B9-75)/1000)/($H$3/1000)+(75/1000)/(($H$3/1000)*1.2)+$M$5) -> 0.11947662 | I9: =1/($M$4+((B9-75)/1000)/($I$3/1000)+(75/1000)/(($I$3/1000)*1.2)+$M$5) -> 0.089492739
B10: 250 | C10: =1/($M$4+((B10-75)/1000)/($C$3/1000)+(75/1000)/(($C$3/1000)*1.2)+$M$5) -> 0.13684228 | D10: =1/($M$4+((B10-75)/1000)/($D$3/1000)+(75/1000)/(($D$3/1000)*1.2)+$M$5) -> 0.128783 | E10: =1/($M$4+((B10-75)/1000)/($E$3/1000)+(75/1000)/(($E$3/1000)*1.2)+$M$5) -> 0.12047156 | F10: =1/($M$4+((B10-75)/1000)/($F$3/1000)+(75/1000)/(($F$3/1000)*1.2)+$M$5) -> 0.11764299 | G10: =1/($M$4+((B10-75)/1000)/($G$3/1000)+(75/1000)/(($G$3/1000)*1.2)+$M$5) -> 0.1147846 | H10: =1/($M$4+((B10-75)/1000)/($H$3/1000)+(75/1000)/(($H$3/1000)*1.2)+$M$5) -> 0.1089765 | I10: =1/($M$4+((B10-75)/1000)/($I$3/1000)+(75/1000)/(($I$3/1000)*1.2)+$M$5) -> 0.081231769 | P10: Med Radonsugeplade | Q10: Ja
B11: 275 | C11: =1/($M$4+((B11-75)/1000)/($C$3/1000)+(75/1000)/(($C$3/1000)*1.2)+$M$5) -> 0.12630347 | D11: =1/($M$4+((B11-75)/1000)/($D$3/1000)+(75/1000)/(($D$3/1000)*1.2)+$M$5) -> 0.11872403 | E11: =1/($M$4+((B11-75)/1000)/($E$3/1000)+(75/1000)/(($E$3/1000)*1.2)+$M$5) -> 0.11092623 | F11: =1/($M$4+((B11-75)/1000)/($F$3/1000)+(75/1000)/(($F$3/1000)*1.2)+$M$5) -> 0.10827681 | G11: =1/($M$4+((B11-75)/1000)/($G$3/1000)+(75/1000)/(($G$3/1000)*1.2)+$M$5) -> 0.10560169 | H11: =1/($M$4+((B11-75)/1000)/($H$3/1000)+(75/1000)/(($H$3/1000)*1.2)+$M$5) -> 0.10017288 | I11: =1/($M$4+((B11-75)/1000)/($I$3/1000)+(75/1000)/(($I$3/1000)*1.2)+$M$5) -> 0.074367035 | P11: Uden Radonsugeplade | Q11: Nej
B12: 300 | C12: =1/($M$4+((B12-75)/1000)/($C$3/1000)+(75/1000)/(($C$3/1000)*1.2)+$M$5) -> 0.11727186 | D12: =1/($M$4+((B12-75)/1000)/($D$3/1000)+(75/1000)/(($D$3/1000)*1.2)+$M$5) -> 0.11012258 | E12: =1/($M$4+((B12-75)/1000)/($E$3/1000)+(75/1000)/(($E$3/1000)*1.2)+$M$5) -> 0.10278247 | F12: =1/($M$4+((B12-75)/1000)/($F$3/1000)+(75/1000)/(($F$3/1000)*1.2)+$M$5) -> 0.10029203 | G12: =1/($M$4+((B12-75)/1000)/($G$3/1000)+(75/1000)/(($G$3/1000)*1.2)+$M$5) -> 0.097779226 | H12: =1/($M$4+((B12-75)/1000)/($H$3/1000)+(75/1000)/(($H$3/1000)*1.2)+$M$5) -> 0.092685333 | I12: =1/($M$4+((B12-75)/1000)/($I$3/1000)+(75/1000)/(($I$3/1000)*1.2)+$M$5) -> 0.068572141
B13: 325 | C13: =1/($M$4+((B13-75)/1000)/($C$3/1000)+(75/1000)/(($C$3/1000)*1.2)+$M$5) -> 0.1094457 | D13: =1/($M$4+((B13-75)/1000)/($D$3/1000)+(75/1000)/(($D$3/1000)*1.2)+$M$5) -> 0.10268328 | E13: =1/($M$4+((B13-75)/1000)/($E$3/1000)+(75/1000)/(($E$3/1000)*1.2)+$M$5) -> 0.095752684 | F13: =1/($M$4+((B13-75)/1000)/($F$3/1000)+(75/1000)/(($F$3/1000)*1.2)+$M$5) -> 0.093404027 | G13: =1/($M$4+((B13-75)/1000)/($G$3/1000)+(75/1000)/(($G$3/1000)*1.2)+$M$5) -> 0.091035738 | H13: =1/($M$4+((B13-75)/1000)/($H$3/1000)+(75/1000)/(($H$3/1000)*1.2)+$M$5) -> 0.086239272 | I13: =1/($M$4+((B13-75)/1000)/($I$3/1000)+(75/1000)/(($I$3/1000)*1.2)+$M$5) -> 0.063615071 | P13: Højde tilgængelig | Q13: 100
B14: 350 | C14: =1/($M$4+((B14-75)/1000)/($C$3/1000)+(75/1000)/(($C$3/1000)*1.2)+$M$5) -> 0.10259875 | D14: =1/($M$4+((B14-75)/1000)/($D$3/1000)+(75/1000)/(($D$3/1000)*1.2)+$M$5) -> 0.096185486 | E14: =1/($M$4+((B14-75)/1000)/($E$3/1000)+(75/1000)/(($E$3/1000)*1.2)+$M$5) -> 0.089622943 | F14: =1/($M$4+((B14-75)/1000)/($F$3/1000)+(75/1000)/(($F$3/1000)*1.2)+$M$5) -> 0.087401352 | G14: =1/($M$4+((B14-75)/1000)/($G$3/1000)+(75/1000)/(($G$3/1000)*1.2)+$M$5) -> 0.085162389 | H14: =1/($M$4+((B14-75)/1000)/($H$3/1000)+(75/1000)/(($H$3/1000)*1.2)+$M$5) -> 0.080631527 | I14: =1/($M$4+((B14-75)/1000)/($I$3/1000)+(75/1000)/(($I$3/1000)*1.2)+$M$5) -> 0.059326376 | Q14: 125
B15: 375 | C15: =1/($M$4+((B15-75)/1000)/($C$3/1000)+(75/1000)/(($C$3/1000)*1.2)+$M$5) -> 0.096558058 | D15: =1/($M$4+((B15-75)/1000)/($D$3/1000)+(75/1000)/(($D$3/1000)*1.2)+$M$5) -> 0.090461114 | E15: =1/($M$4+((B15-75)/1000)/($E$3/1000)+(75/1000)/(($E$3/1000)*1.2)+$M$5) -> 0.084230792 | F15: =1/($M$4+((B15-75)/1000)/($F$3/1000)+(75/1000)/(($F$3/1000)*1.2)+$M$5) -> 0.08212362 | G15: =1/($M$4+((B15-75)/1000)/($G$3/1000)+(75/1000)/(($G$3/1000)*1.2)+$M$5) -> 0.08000097 | H15: =1/($M$4+((B15-75)/1000)/($H$3/1000)+(75/1000)/(($H$3/1000)*1.2)+$M$5) -> 0.075708547 | I15: =1/($M$4+((B15-75)/1000)/($I$3/1000)+(75/1000)/(($I$3/1000)*1.2)+$M$5) -> 0.055579415 | Q15: 150
B16: 400 | C16: =1/($M$4+((B16-75)/1000)/($C$3/1000)+(75/1000)/(($C$3/1000)*1.2)+$M$5) -> 0.091189128 | D16: =1/($M$4+((B16-75)/1000)/($D$3/1000)+(75/1000)/(($D$3/1000)*1.2)+$M$5) -> 0.085379828 | E16: =1/($M$4+((B16-75)/1000)/($E$3/1000)+(75/1000)/(($E$3/1000)*1.2)+$M$5) -> 0.079450655 | F16: =1/($M$4+((B16-75)/1000)/($F$3/1000)+(75/1000)/(($F$3/1000)*1.2)+$M$5) -> 0.077446983 | G16: =1/($M$4+((B16-75)/1000)/($G$3/1000)+(75/1000)/(($G$3/1000)*1.2)+$M$5) -> 0.075429433 | H16: =1/($M$4+((B16-75)/1000)/($H$3/1000)+(75/1000)/(($H$3/1000)*1.2)+$M$5) -> 0.071352123 | I16: =1/($M$4+((B16-75)/1000)/($I$3/1000)+(75/1000)/(($I$3/1000)*1.2)+$M$5) -> 0.052277642 | Q16: 175
Q17: 200
A18: BETON | B18: Uden gulvvarme i betondæk | Q18: 225
C19: 41 | D19: 38 | E19: 35 | F19: 34 | G19: 33 | H19: 31 | I19: 22 | K19: Delelementer | L19: mm | M19: Isolans | Q19: 250
B20: 100 | C20: =1/($M$20+$M$21+$M$22+((B20-75)/1000)/($C$19/1000)+(75/1000)/(($C$19/1000)*1.2)+$M$23) -> 0.25240806 | D20: =1/($M$20+$M$21+$M$22+((B20-75)/1000)/($D$19/1000)+(75/1000)/(($D$19/1000)*1.2)+$M$23) -> 0.24211176 | E20: =1/($M$20+$M$21+$M$22+((B20-75)/1000)/($E$19/1000)+(75/1000)/(($E$19/1000)*1.2)+$M$23) -> 0.23107003 | F20: =1/($M$20+$M$21+$M$22+((B20-75)/1000)/($F$19/1000)+(75/1000)/(($F$19/1000)*1.2)+$M$23) -> 0.22720964 | G20: =1/($M$20+$M$21+$M$22+((B20-75)/1000)/($G$19/1000)+(75/1000)/(($G$19/1000)*1.2)+$M$23) -> 0.22325378 | H20: =1/($M$20+$M$21+$M$22+((B20-75)/1000)/($H$19/1000)+(75/1000)/(($H$19/1000)*1.2)+$M$23) -> 0.21504114 | I20: =1/($M$20+$M$21+$M$22+((B20-75)/1000)/($I$19/1000)+(75/1000)/(($I$19/1000)*1.2)+$M$23) -> 0.17226633 | K20: Rsi | M20: 0.17 | Q20: 275
B21: 125 | C21: =1/($M$20+$M$21+$M$22+((B21-75)/1000)/($C$19/1000)+(75/1000)/(($C$19/1000)*1.2)+$M$23) -> 0.21874205 | D21: =1/($M$20+$M$21+$M$22+((B21-75)/1000)/($D$19/1000)+(75/1000)/(($D$19/1000)*1.2)+$M$23) -> 0.20884594 | E21: =1/($M$20+$M$21+$M$22+((B21-75)/1000)/($E$19/1000)+(75/1000)/(($E$19/1000)*1.2)+$M$23) -> 0.19833486 | F21: =1/($M$20+$M$21+$M$22+((B21-75)/1000)/($F$19/1000)+(75/1000)/(($F$19/1000)*1.2)+$M$23) -> 0.1946845 | G21: =1/($M$20+$M$21+$M$22+((B21-75)/1000)/($G$19/1000)+(75/1000)/(($G$19/1000)*1.2)+$M$23) -> 0.19095692 | H21: =1/($M$20+$M$21+$M$22+((B21-75)/1000)/($H$19/1000)+(75/1000)/(($H$19/1000)*1.2)+$M$23) -> 0.18326012 | I21: =1/($M$20+$M$21+$M$22+((B21-75)/1000)/($I$19/1000)+(75/1000)/(($I$19/1000)*1.2)+$M$23) -> 0.14406464 | K21: Parketgulv | L21: 14 | M21: =(L21/1000)/(130/1000) -> 0.10769231 | Q21: 300
B22: 150 | C22: =1/($M$20+$M$21+$M$22+((B22-75)/1000)/($C$19/1000)+(75/1000)/(($C$19/1000)*1.2)+$M$23) -> 0.19299986 | D22: =1/($M$20+$M$21+$M$22+((B22-75)/1000)/($D$19/1000)+(75/1000)/(($D$19/1000)*1.2)+$M$23) -> 0.18361718 | E22: =1/($M$20+$M$21+$M$22+((B22-75)/1000)/($E$19/1000)+(75/1000)/(($E$19/1000)*1.2)+$M$23) -> 0.1737238 | F22: =1/($M$20+$M$21+$M$22+((B22-75)/1000)/($F$19/1000)+(75/1000)/(($F$19/1000)*1.2)+$M$23) -> 0.17030524 | G22: =1/($M$20+$M$21+$M$22+((B22-75)/1000)/($G$19/1000)+(75/1000)/(($G$19/1000)*1.2)+$M$23) -> 0.16682351 | H22: =1/($M$20+$M$21+$M$22+((B22-75)/1000)/($H$19/1000)+(75/1000)/(($H$19/1000)*1.2)+$M$23) -> 0.1596634 | I22: =1/($M$20+$M$21+$M$22+((B22-75)/1000)/($I$19/1000)+(75/1000)/(($I$19/1000)*1.2)+$M$23) -> 0.12379773 | K22: Beton | L22: 100 | M22: =(L22/1000)/(2000/1000) -> 0.05 | Q22: 325
B23: 175 | C23: =1/($M$20+$M$21+$M$22+((B23-75)/1000)/($C$19/1000)+(75/1000)/(($C$19/1000)*1.2)+$M$23) -> 0.17267856 | D23: =1/($M$20+$M$21+$M$22+((B23-75)/1000)/($D$19/1000)+(75/1000)/(($D$19/1000)*1.2)+$M$23) -> 0.16382678 | E23: =1/($M$20+$M$21+$M$22+((B23-75)/1000)/($E$19/1000)+(75/1000)/(($E$19/1000)*1.2)+$M$23) -> 0.15454638 | F23: =1/($M$20+$M$21+$M$22+((B23-75)/1000)/($F$19/1000)+(75/1000)/(($F$19/1000)*1.2)+$M$23) -> 0.15135224 | G23: =1/($M$20+$M$21+$M$22+((B23-75)/1000)/($G$19/1000)+(75/1000)/(($G$19/1000)*1.2)+$M$23) -> 0.1481057 | H23: =1/($M$20+$M$21+$M$22+((B23-75)/1000)/($H$19/1000)+(75/1000)/(($H$19/1000)*1.2)+$M$23) -> 0.14145016 | I23: =1/($M$20+$M$21+$M$22+((B23-75)/1000)/($I$19/1000)+(75/1000)/(($I$19/1000)*1.2)+$M$23) -> 0.10852984 | K23: Rj | M23: 1.5 | Q23: 350
B24: 200 | C24: =1/($M$20+$M$21+$M$22+((B24-75)/1000)/($C$19/1000)+(75/1000)/(($C$19/1000)*1.2)+$M$23) -> 0.15622893 | D24: =1/($M$20+$M$21+$M$22+((B24-75)/1000)/($D$19/1000)+(75/1000)/(($D$19/1000)*1.2)+$M$23) -> 0.14788737 | E24: =1/($M$20+$M$21+$M$22+((B24-75)/1000)/($E$19/1000)+(75/1000)/(($E$19/1000)*1.2)+$M$23) -> 0.13918204 | F24: =1/($M$20+$M$21+$M$22+((B24-75)/1000)/($F$19/1000)+(75/1000)/(($F$19/1000)*1.2)+$M$23) -> 0.13619528 | G24: =1/($M$20+$M$21+$M$22+((B24-75)/1000)/($G$19/1000)+(75/1000)/(($G$19/1000)*1.2)+$M$23) -> 0.13316447 | H24: =1/($M$20+$M$21+$M$22+((B24-75)/1000)/($H$19/1000)+(75/1000)/(($H$19/1000)*1.2)+$M$23) -> 0.12696672 | I24: =1/($M$20+$M$21+$M$22+((B24-75)/1000)/($I$19/1000)+(75/1000)/(($I$19/1000)*1.2)+$M$23) -> 0.096614441 | Q24: 375
B25: 225 | C25: =1/($M$20+$M$21+$M$22+((B25-75)/1000)/($C$19/1000)+(75/1000)/(($C$19/1000)*1.2)+$M$23) -> 0.14264075 | D25: =1/($M$20+$M$21+$M$22+((B25-75)/1000)/($D$19/1000)+(75/1000)/(($D$19/1000)*1.2)+$M$23) -> 0.13477457 | E25: =1/($M$20+$M$21+$M$22+((B25-75)/1000)/($E$19/1000)+(75/1000)/(($E$19/1000)*1.2)+$M$23) -> 0.12659637 | F25: =1/($M$20+$M$21+$M$22+((B25-75)/1000)/($F$19/1000)+(75/1000)/(($F$19/1000)*1.2)+$M$23) -> 0.12379773 | G25: =1/($M$20+$M$21+$M$22+((B25-75)/1000)/($G$19/1000)+(75/1000)/(($G$19/1000)*1.2)+$M$23) -> 0.1209616 | H25: =1/($M$20+$M$21+$M$22+((B25-75)/1000)/($H$19/1000)+(75/1000)/(($H$19/1000)*1.2)+$M$23) -> 0.11517379 | I25: =1/($M$20+$M$21+$M$22+((B25-75)/1000)/($I$19/1000)+(75/1000)/(($I$19/1000)*1.2)+$M$23) -> 0.087056575 | Q25: 400
B26: 250 | C26: =1/($M$20+$M$21+$M$22+((B26-75)/1000)/($C$19/1000)+(75/1000)/(($C$19/1000)*1.2)+$M$23) -> 0.13122713 | D26: =1/($M$20+$M$21+$M$22+((B26-75)/1000)/($D$19/1000)+(75/1000)/(($D$19/1000)*1.2)+$M$23) -> 0.12379773 | E26: =1/($M$20+$M$21+$M$22+((B26-75)/1000)/($E$19/1000)+(75/1000)/(($E$19/1000)*1.2)+$M$23) -> 0.11609808 | F26: =1/($M$20+$M$21+$M$22+((B26-75)/1000)/($F$19/1000)+(75/1000)/(($F$19/1000)*1.2)+$M$23) -> 0.11346891 | G26: =1/($M$20+$M$21+$M$22+((B26-75)/1000)/($G$19/1000)+(75/1000)/(($G$19/1000)*1.2)+$M$23) -> 0.11080747 | H26: =1/($M$20+$M$21+$M$22+((B26-75)/1000)/($H$19/1000)+(75/1000)/(($H$19/1000)*1.2)+$M$23) -> 0.10538538 | I26: =1/($M$20+$M$21+$M$22+((B26-75)/1000)/($I$19/1000)+(75/1000)/(($I$19/1000)*1.2)+$M$23) -> 0.079219549
B27: 275 | C27: =1/($M$20+$M$21+$M$22+((B27-75)/1000)/($C$19/1000)+(75/1000)/(($C$19/1000)*1.2)+$M$23) -> 0.12150474 | D27: =1/($M$20+$M$21+$M$22+((B27-75)/1000)/($D$19/1000)+(75/1000)/(($D$19/1000)*1.2)+$M$23) -> 0.11447428 | E27: =1/($M$20+$M$21+$M$22+((B27-75)/1000)/($E$19/1000)+(75/1000)/(($E$19/1000)*1.2)+$M$23) -> 0.10720765 | F27: =1/($M$20+$M$21+$M$22+((B27-75)/1000)/($F$19/1000)+(75/1000)/(($F$19/1000)*1.2)+$M$23) -> 0.1047309 | G27: =1/($M$20+$M$21+$M$22+((B27-75)/1000)/($G$19/1000)+(75/1000)/(($G$19/1000)*1.2)+$M$23) -> 0.1022261 | H27: =1/($M$20+$M$21+$M$22+((B27-75)/1000)/($H$19/1000)+(75/1000)/(($H$19/1000)*1.2)+$M$23) -> 0.097130434 | I27: =1/($M$20+$M$21+$M$22+((B27-75)/1000)/($I$19/1000)+(75/1000)/(($I$19/1000)*1.2)+$M$23) -> 0.072677004 | P27: lambda værdi | Q27: λ=41
B28: 300 | C28: =1/($M$20+$M$21+$M$22+((B28-75)/1000)/($C$19/1000)+(75/1000)/(($C$19/1000)*1.2)+$M$23) -> 0.11312361 | D28: =1/($M$20+$M$21+$M$22+((B28-75)/1000)/($D$19/1000)+(75/1000)/(($D$19/1000)*1.2)+$M$23) -> 0.1064568 | E28: =1/($M$20+$M$21+$M$22+((B28-75)/1000)/($E$19/1000)+(75/1000)/(($E$19/1000)*1.2)+$M$23) -> 0.099581975 | F28: =1/($M$20+$M$21+$M$22+((B28-75)/1000)/($F$19/1000)+(75/1000)/(($F$19/1000)*1.2)+$M$23) -> 0.097242451 | G28: =1/($M$20+$M$21+$M$22+((B28-75)/1000)/($G$19/1000)+(75/1000)/(($G$19/1000)*1.2)+$M$23) -> 0.094878339 | H28: =1/($M$20+$M$21+$M$22+((B28-75)/1000)/($H$19/1000)+(75/1000)/(($H$19/1000)*1.2)+$M$23) -> 0.090074787 | I28: =1/($M$20+$M$21+$M$22+((B28-75)/1000)/($I$19/1000)+(75/1000)/(($I$19/1000)*1.2)+$M$23) -> 0.067132683 | Q28: λ=38
B29: 325 | C29: =1/($M$20+$M$21+$M$22+((B29-75)/1000)/($C$19/1000)+(75/1000)/(($C$19/1000)*1.2)+$M$23) -> 0.1058241 | D29: =1/($M$20+$M$21+$M$22+((B29-75)/1000)/($D$19/1000)+(75/1000)/(($D$19/1000)*1.2)+$M$23) -> 0.099488861 | E29: =1/($M$20+$M$21+$M$22+((B29-75)/1000)/($E$19/1000)+(75/1000)/(($E$19/1000)*1.2)+$M$23) -> 0.092969085 | F29: =1/($M$20+$M$21+$M$22+((B29-75)/1000)/($F$19/1000)+(75/1000)/(($F$19/1000)*1.2)+$M$23) -> 0.090753418 | G29: =1/($M$20+$M$21+$M$22+((B29-75)/1000)/($G$19/1000)+(75/1000)/(($G$19/1000)*1.2)+$M$23) -> 0.088516026 | H29: =1/($M$20+$M$21+$M$22+((B29-75)/1000)/($H$19/1000)+(75/1000)/(($H$19/1000)*1.2)+$M$23) -> 0.083974778 | I29: =1/($M$20+$M$21+$M$22+((B29-75)/1000)/($I$19/1000)+(75/1000)/(($I$19/1000)*1.2)+$M$23) -> 0.062374324 | Q29: λ=35
B30: 350 | C30: =1/($M$20+$M$21+$M$22+((B30-75)/1000)/($C$19/1000)+(75/1000)/(($C$19/1000)*1.2)+$M$23) -> 0.099409511 | D30: =1/($M$20+$M$21+$M$22+((B30-75)/1000)/($D$19/1000)+(75/1000)/(($D$19/1000)*1.2)+$M$23) -> 0.093377035 | E30: =1/($M$20+$M$21+$M$22+((B30-75)/1000)/($E$19/1000)+(75/1000)/(($E$19/1000)*1.2)+$M$23) -> 0.087179782 | F30: =1/($M$20+$M$21+$M$22+((B30-75)/1000)/($F$19/1000)+(75/1000)/(($F$19/1000)*1.2)+$M$23) -> 0.085076241 | G30: =1/($M$20+$M$21+$M$22+((B30-75)/1000)/($G$19/1000)+(75/1000)/(($G$19/1000)*1.2)+$M$23) -> 0.082953372 | H30: =1/($M$20+$M$21+$M$22+((B30-75)/1000)/($H$19/1000)+(75/1000)/(($H$19/1000)*1.2)+$M$23) -> 0.078648572 | I30: =1/($M$20+$M$21+$M$22+((B30-75)/1000)/($I$19/1000)+(75/1000)/(($I$19/1000)*1.2)+$M$23) -> 0.058245863 | Q30: λ=34
B31: 375 | C31: =1/($M$20+$M$21+$M$22+((B31-75)/1000)/($C$19/1000)+(75/1000)/(($C$19/1000)*1.2)+$M$23) -> 0.093728129 | D31: =1/($M$20+$M$21+$M$22+((B31-75)/1000)/($D$19/1000)+(75/1000)/(($D$19/1000)*1.2)+$M$23) -> 0.087972675 | E31: =1/($M$20+$M$21+$M$22+((B31-75)/1000)/($E$19/1000)+(75/1000)/(($E$19/1000)*1.2)+$M$23) -> 0.082069227 | F31: =1/($M$20+$M$21+$M$22+((B31-75)/1000)/($F$19/1000)+(75/1000)/(($F$19/1000)*1.2)+$M$23) -> 0.080067532 | G31: =1/($M$20+$M$21+$M$22+((B31-75)/1000)/($G$19/1000)+(75/1000)/(($G$19/1000)*1.2)+$M$23) -> 0.078048532 | H31: =1/($M$20+$M$21+$M$22+((B31-75)/1000)/($H$19/1000)+(75/1000)/(($H$19/1000)*1.2)+$M$23) -> 0.07395771 | I31: =1/($M$20+$M$21+$M$22+((B31-75)/1000)/($I$19/1000)+(75/1000)/(($I$19/1000)*1.2)+$M$23) -> 0.054629987 | Q31: λ=33
B32: 400 | C32: =1/($M$20+$M$21+$M$22+((B32-75)/1000)/($C$19/1000)+(75/1000)/(($C$19/1000)*1.2)+$M$23) -> 0.088661035 | D32: =1/($M$20+$M$21+$M$22+((B32-75)/1000)/($D$19/1000)+(75/1000)/(($D$19/1000)*1.2)+$M$23) -> 0.083159663 | E32: =1/($M$20+$M$21+$M$22+((B32-75)/1000)/($E$19/1000)+(75/1000)/(($E$19/1000)*1.2)+$M$23) -> 0.077524663 | F32: =1/($M$20+$M$21+$M$22+((B32-75)/1000)/($F$19/1000)+(75/1000)/(($F$19/1000)*1.2)+$M$23) -> 0.07561579 | G32: =1/($M$20+$M$21+$M$22+((B32-75)/1000)/($G$19/1000)+(75/1000)/(($G$19/1000)*1.2)+$M$23) -> 0.073691335 | H32: =1/($M$20+$M$21+$M$22+((B32-75)/1000)/($H$19/1000)+(75/1000)/(($H$19/1000)*1.2)+$M$23) -> 0.06979491 | I32: =1/($M$20+$M$21+$M$22+((B32-75)/1000)/($I$19/1000)+(75/1000)/(($I$19/1000)*1.2)+$M$23) -> 0.051436814 | Q32: λ=31
Q33: λ=22
A34: BETON | B34: Gulvvarme i betondæk med radonsugeplade
C35: 41 | D35: 38 | E35: 35 | F35: 34 | G35: 33 | H35: 31 | I35: 22 | K35: Delelementer | L35: mm | M35: Isolans
B36: 100 | C36: =1/($M$36+((B36-75)/1000)/($C$35/1000)+(25/1000)/(($C$35/1000)*1.2)+$M$37+$M$38) -> 0.29651746 | D36: =1/($M$36+((B36-75)/1000)/($D$35/1000)+(25/1000)/(($D$35/1000)*1.2)+$M$37+$M$38) -> 0.2889558 | E36: =1/($M$36+((B36-75)/1000)/($E$35/1000)+(25/1000)/(($E$35/1000)*1.2)+$M$37+$M$38) -> 0.28057414 | F36: =1/($M$36+((B36-75)/1000)/($F$35/1000)+(25/1000)/(($F$35/1000)*1.2)+$M$37+$M$38) -> 0.27757455 | G36: =1/($M$36+((B36-75)/1000)/($G$35/1000)+(25/1000)/(($G$35/1000)*1.2)+$M$37+$M$38) -> 0.27446247 | H36: =1/($M$36+((B36-75)/1000)/($H$35/1000)+(25/1000)/(($H$35/1000)*1.2)+$M$37+$M$38) -> 0.26787452 | I36: =1/($M$36+((B36-75)/1000)/($I$35/1000)+(25/1000)/(($I$35/1000)*1.2)+$M$37+$M$38) -> 0.23052471 | K36: Beton | L36: 30 | M36: =(L36/1000)/(2000/1000) -> 0.015
B37: 125 | C37: =1/($M$36+((B37-75)/1000)/($C$35/1000)+(25/1000)/(($C$35/1000)*1.2)+$M$37+$M$38) -> 0.25111503 | D37: =1/($M$36+((B37-75)/1000)/($D$35/1000)+(25/1000)/(($D$35/1000)*1.2)+$M$37+$M$38) -> 0.24279909 | E37: =1/($M$36+((B37-75)/1000)/($E$35/1000)+(25/1000)/(($E$35/1000)*1.2)+$M$37+$M$38) -> 0.23373191 | F37: =1/($M$36+((B37-75)/1000)/($F$35/1000)+(25/1000)/(($F$35/1000)*1.2)+$M$37+$M$38) -> 0.23052471 | G37: =1/($M$36+((B37-75)/1000)/($G$35/1000)+(25/1000)/(($G$35/1000)*1.2)+$M$37+$M$38) -> 0.22721793 | H37: =1/($M$36+((B37-75)/1000)/($H$35/1000)+(25/1000)/(($H$35/1000)*1.2)+$M$37+$M$38) -> 0.2202865 | I37: =1/($M$36+((B37-75)/1000)/($I$35/1000)+(25/1000)/(($I$35/1000)*1.2)+$M$37+$M$38) -> 0.18267198 | K37: Radonsugeplade + Tek. Inst. (Reelt 50mm) | L37: 20 | M37: =0.301+(L37/1000)/((38/1000)*1.2) -> 0.73959649
B38: 150 | C38: =1/($M$36+((B38-75)/1000)/($C$35/1000)+(25/1000)/(($C$35/1000)*1.2)+$M$37+$M$38) -> 0.21777028 | D38: =1/($M$36+((B38-75)/1000)/($D$35/1000)+(25/1000)/(($D$35/1000)*1.2)+$M$37+$M$38) -> 0.20935716 | E38: =1/($M$36+((B38-75)/1000)/($E$35/1000)+(25/1000)/(($E$35/1000)*1.2)+$M$37+$M$38) -> 0.20029276 | F38: =1/($M$36+((B38-75)/1000)/($F$35/1000)+(25/1000)/(($F$35/1000)*1.2)+$M$37+$M$38) -> 0.19711332 | G38: =1/($M$36+((B38-75)/1000)/($G$35/1000)+(25/1000)/(($G$35/1000)*1.2)+$M$37+$M$38) -> 0.19384966 | H38: =1/($M$36+((B38-75)/1000)/($H$35/1000)+(25/1000)/(($H$35/1000)*1.2)+$M$37+$M$38) -> 0.18705594 | I38: =1/($M$36+((B38-75)/1000)/($I$35/1000)+(25/1000)/(($I$35/1000)*1.2)+$M$37+$M$38) -> 0.15127089 | K38: Rj | M38: 1.5
B39: 175 | C39: =1/($M$36+((B39-75)/1000)/($C$35/1000)+(25/1000)/(($C$35/1000)*1.2)+$M$37+$M$38) -> 0.19224296 | D39: =1/($M$36+((B39-75)/1000)/($D$35/1000)+(25/1000)/(($D$35/1000)*1.2)+$M$37+$M$38) -> 0.18401224 | E39: =1/($M$36+((B39-75)/1000)/($E$35/1000)+(25/1000)/(($E$35/1000)*1.2)+$M$37+$M$38) -> 0.1752241 | F39: =1/($M$36+((B39-75)/1000)/($F$35/1000)+(25/1000)/(($F$35/1000)*1.2)+$M$37+$M$38) -> 0.17216095 | G39: =1/($M$36+((B39-75)/1000)/($G$35/1000)+(25/1000)/(($G$35/1000)*1.2)+$M$37+$M$38) -> 0.16902705 | H39: =1/($M$36+((B39-75)/1000)/($H$35/1000)+(25/1000)/(($H$35/1000)*1.2)+$M$37+$M$38) -> 0.16253698 | I39: =1/($M$36+((B39-75)/1000)/($I$35/1000)+(25/1000)/(($I$35/1000)*1.2)+$M$37+$M$38) -> 0.12908188
B40: 200 | C40: =1/($M$36+((B40-75)/1000)/($C$35/1000)+(25/1000)/(($C$35/1000)*1.2)+$M$37+$M$38) -> 0.17207241 | D40: =1/($M$36+((B40-75)/1000)/($D$35/1000)+(25/1000)/(($D$35/1000)*1.2)+$M$37+$M$38) -> 0.1641412 | E40: =1/($M$36+((B40-75)/1000)/($E$35/1000)+(25/1000)/(($E$35/1000)*1.2)+$M$37+$M$38) -> 0.1557326 | F40: =1/($M$36+((B40-75)/1000)/($F$35/1000)+(25/1000)/(($F$35/1000)*1.2)+$M$37+$M$38) -> 0.15281612 | G40: =1/($M$36+((B40-75)/1000)/($G$35/1000)+(25/1000)/(($G$35/1000)*1.2)+$M$37+$M$38) -> 0.14983993 | H40: =1/($M$36+((B40-75)/1000)/($H$35/1000)+(25/1000)/(($H$35/1000)*1.2)+$M$37+$M$38) -> 0.14370092 | I40: =1/($M$36+((B40-75)/1000)/($I$35/1000)+(25/1000)/(($I$35/1000)*1.2)+$M$37+$M$38) -> 0.11256971
B41: 225 | C41: =1/($M$36+((B41-75)/1000)/($C$35/1000)+(25/1000)/(($C$35/1000)*1.2)+$M$37+$M$38) -> 0.1557326 | D41: =1/($M$36+((B41-75)/1000)/($D$35/1000)+(25/1000)/(($D$35/1000)*1.2)+$M$37+$M$38) -> 0.14814353 | E41: =1/($M$36+((B41-75)/1000)/($E$35/1000)+(25/1000)/(($E$35/1000)*1.2)+$M$37+$M$38) -> 0.14014339 | F41: =1/($M$36+((B41-75)/1000)/($F$35/1000)+(25/1000)/(($F$35/1000)*1.2)+$M$37+$M$38) -> 0.1373795 | G41: =1/($M$36+((B41-75)/1000)/($G$35/1000)+(25/1000)/(($G$35/1000)*1.2)+$M$37+$M$38) -> 0.1345648 | H41: =1/($M$36+((B41-75)/1000)/($H$35/1000)+(25/1000)/(($H$35/1000)*1.2)+$M$37+$M$38) -> 0.12877721 | I41: =1/($M$36+((B41-75)/1000)/($I$35/1000)+(25/1000)/(($I$35/1000)*1.2)+$M$37+$M$38) -> 0.099802909
B42: 250 | C42: =1/($M$36+((B42-75)/1000)/($C$35/1000)+(25/1000)/(($C$35/1000)*1.2)+$M$37+$M$38) -> 0.14222689 | D42: =1/($M$36+((B42-75)/1000)/($D$35/1000)+(25/1000)/(($D$35/1000)*1.2)+$M$37+$M$38) -> 0.13498728 | E42: =1/($M$36+((B42-75)/1000)/($E$35/1000)+(25/1000)/(($E$35/1000)*1.2)+$M$37+$M$38) -> 0.12739122 | F42: =1/($M$36+((B42-75)/1000)/($F$35/1000)+(25/1000)/(($F$35/1000)*1.2)+$M$37+$M$38) -> 0.1247754 | G42: =1/($M$36+((B42-75)/1000)/($G$35/1000)+(25/1000)/(($G$35/1000)*1.2)+$M$37+$M$38) -> 0.12211593 | H42: =1/($M$36+((B42-75)/1000)/($H$35/1000)+(25/1000)/(($H$35/1000)*1.2)+$M$37+$M$38) -> 0.1166616 | I42: =1/($M$36+((B42-75)/1000)/($I$35/1000)+(25/1000)/(($I$35/1000)*1.2)+$M$37+$M$38) -> 0.089636966
B43: 275 | C43: =1/($M$36+((B43-75)/1000)/($C$35/1000)+(25/1000)/(($C$35/1000)*1.2)+$M$37+$M$38) -> 0.13087677 | D43: =1/($M$36+((B43-75)/1000)/($D$35/1000)+(25/1000)/(($D$35/1000)*1.2)+$M$37+$M$38) -> 0.12397719 | E43: =1/($M$36+((B43-75)/1000)/($E$35/1000)+(25/1000)/(($E$35/1000)*1.2)+$M$37+$M$38) -> 0.11676623 | F43: =1/($M$36+((B43-75)/1000)/($F$35/1000)+(25/1000)/(($F$35/1000)*1.2)+$M$37+$M$38) -> 0.1142897 | G43: =1/($M$36+((B43-75)/1000)/($G$35/1000)+(25/1000)/(($G$35/1000)*1.2)+$M$37+$M$38) -> 0.11177536 | H43: =1/($M$36+((B43-75)/1000)/($H$35/1000)+(25/1000)/(($H$35/1000)*1.2)+$M$37+$M$38) -> 0.10662967 | I43: =1/($M$36+((B43-75)/1000)/($I$35/1000)+(25/1000)/(($I$35/1000)*1.2)+$M$37+$M$38) -> 0.081350581
B44: 300 | C44: =1/($M$36+((B44-75)/1000)/($C$35/1000)+(25/1000)/(($C$35/1000)*1.2)+$M$37+$M$38) -> 0.12120431 | D44: =1/($M$36+((B44-75)/1000)/($D$35/1000)+(25/1000)/(($D$35/1000)*1.2)+$M$37+$M$38) -> 0.1146277 | E44: =1/($M$36+((B44-75)/1000)/($E$35/1000)+(25/1000)/(($E$35/1000)*1.2)+$M$37+$M$38) -> 0.10777713 | F44: =1/($M$36+((B44-75)/1000)/($F$35/1000)+(25/1000)/(($F$35/1000)*1.2)+$M$37+$M$38) -> 0.10542975 | G44: =1/($M$36+((B44-75)/1000)/($G$35/1000)+(25/1000)/(($G$35/1000)*1.2)+$M$37+$M$38) -> 0.10304932 | H44: =1/($M$36+((B44-75)/1000)/($H$35/1000)+(25/1000)/(($H$35/1000)*1.2)+$M$37+$M$38) -> 0.098186457 | I44: =1/($M$36+((B44-75)/1000)/($I$35/1000)+(25/1000)/(($I$35/1000)*1.2)+$M$37+$M$38) -> 0.074466602
B45: 325 | C45: =1/($M$36+((B45-75)/1000)/($C$35/1000)+(25/1000)/(($C$35/1000)*1.2)+$M$37+$M$38) -> 0.11286315 | D45: =1/($M$36+((B45-75)/1000)/($D$35/1000)+(25/1000)/(($D$35/1000)*1.2)+$M$37+$M$38) -> 0.10658947 | E45: =1/($M$36+((B45-75)/1000)/($E$35/1000)+(25/1000)/(($E$35/1000)*1.2)+$M$37+$M$38) -> 0.10007314 | F45: =1/($M$36+((B45-75)/1000)/($F$35/1000)+(25/1000)/(($F$35/1000)*1.2)+$M$37+$M$38) -> 0.097844651 | G45: =1/($M$36+((B45-75)/1000)/($G$35/1000)+(25/1000)/(($G$35/1000)*1.2)+$M$37+$M$38) -> 0.095587059 | H45: =1/($M$36+((B45-75)/1000)/($H$35/1000)+(25/1000)/(($H$35/1000)*1.2)+$M$37+$M$38) -> 0.090982244 | I45: =1/($M$36+((B45-75)/1000)/($I$35/1000)+(25/1000)/(($I$35/1000)*1.2)+$M$37+$M$38) -> 0.068656786
B46: 350 | C46: =1/($M$36+((B46-75)/1000)/($C$35/1000)+(25/1000)/(($C$35/1000)*1.2)+$M$37+$M$38) -> 0.10559613 | D46: =1/($M$36+((B46-75)/1000)/($D$35/1000)+(25/1000)/(($D$35/1000)*1.2)+$M$37+$M$38) -> 0.099604727 | E46: =1/($M$36+((B46-75)/1000)/($E$35/1000)+(25/1000)/(($E$35/1000)*1.2)+$M$37+$M$38) -> 0.09339704 | F46: =1/($M$36+((B46-75)/1000)/($F$35/1000)+(25/1000)/(($F$35/1000)*1.2)+$M$37+$M$38) -> 0.091277713 | G46: =1/($M$36+((B46-75)/1000)/($G$35/1000)+(25/1000)/(($G$35/1000)*1.2)+$M$37+$M$38) -> 0.089132574 | H46: =1/($M$36+((B46-75)/1000)/($H$35/1000)+(25/1000)/(($H$35/1000)*1.2)+$M$37+$M$38) -> 0.084762951 | I46: =1/($M$36+((B46-75)/1000)/($I$35/1000)+(25/1000)/(($I$35/1000)*1.2)+$M$37+$M$38) -> 0.063687914
B47: 375 | C47: =1/($M$36+((B47-75)/1000)/($C$35/1000)+(25/1000)/(($C$35/1000)*1.2)+$M$37+$M$38) -> 0.09920832 | D47: =1/($M$36+((B47-75)/1000)/($D$35/1000)+(25/1000)/(($D$35/1000)*1.2)+$M$37+$M$38) -> 0.093479095 | E47: =1/($M$36+((B47-75)/1000)/($E$35/1000)+(25/1000)/(($E$35/1000)*1.2)+$M$37+$M$38) -> 0.08755599 | F47: =1/($M$36+((B47-75)/1000)/($F$35/1000)+(25/1000)/(($F$35/1000)*1.2)+$M$37+$M$38) -> 0.085536826 | G47: =1/($M$36+((B47-75)/1000)/($G$35/1000)+(25/1000)/(($G$35/1000)*1.2)+$M$37+$M$38) -> 0.083494626 | H47: =1/($M$36+((B47-75)/1000)/($H$35/1000)+(25/1000)/(($H$35/1000)*1.2)+$M$37+$M$38) -> 0.079339522 | I47: =1/($M$36+((B47-75)/1000)/($I$35/1000)+(25/1000)/(($I$35/1000)*1.2)+$M$37+$M$38) -> 0.059389724
B48: 400 | C48: =1/($M$36+((B48-75)/1000)/($C$35/1000)+(25/1000)/(($C$35/1000)*1.2)+$M$37+$M$38) -> 0.093549256 | D48: =1/($M$36+((B48-75)/1000)/($D$35/1000)+(25/1000)/(($D$35/1000)*1.2)+$M$37+$M$38) -> 0.088063257 | E48: =1/($M$36+((B48-75)/1000)/($E$35/1000)+(25/1000)/(($E$35/1000)*1.2)+$M$37+$M$38) -> 0.082402536 | F48: =1/($M$36+((B48-75)/1000)/($F$35/1000)+(25/1000)/(($F$35/1000)*1.2)+$M$37+$M$38) -> 0.080475351 | G48: =1/($M$36+((B48-75)/1000)/($G$35/1000)+(25/1000)/(($G$35/1000)*1.2)+$M$37+$M$38) -> 0.078527487 | H48: =1/($M$36+((B48-75)/1000)/($H$35/1000)+(25/1000)/(($H$35/1000)*1.2)+$M$37+$M$38) -> 0.074568377 | I48: =1/($M$36+((B48-75)/1000)/($I$35/1000)+(25/1000)/(($I$35/1000)*1.2)+$M$37+$M$38) -> 0.05563501
A50: BETON | B50: Uden gulvvarme i betondæk med randonsugeplade
C51: 41 | D51: 38 | E51: 35 | F51: 34 | G51: 33 | H51: 31 | I51: 22 | K51: Delelementer | L51: mm | M51: Isolans
B52: 100 | C52: =1/($M$52+$M$53+$M$54+((B52-75)/1000)/($C$51/1000)+(25/1000)/(($C$51/1000)*1.2)+$M$55+$M$56) -> 0.27135754 | D52: =1/($M$52+$M$53+$M$54+((B52-75)/1000)/($D$51/1000)+(25/1000)/(($D$51/1000)*1.2)+$M$55+$M$56) -> 0.26501094 | E52: =1/($M$52+$M$53+$M$54+((B52-75)/1000)/($E$51/1000)+(25/1000)/(($E$51/1000)*1.2)+$M$55+$M$56) -> 0.25794386 | F52: =1/($M$52+$M$53+$M$54+((B52-75)/1000)/($F$51/1000)+(25/1000)/(($F$51/1000)*1.2)+$M$55+$M$56) -> 0.25540644 | G52: =1/($M$52+$M$53+$M$54+((B52-75)/1000)/($G$51/1000)+(25/1000)/(($G$51/1000)*1.2)+$M$55+$M$56) -> 0.25276923 | H52: =1/($M$52+$M$53+$M$54+((B52-75)/1000)/($H$51/1000)+(25/1000)/(($H$51/1000)*1.2)+$M$55+$M$56) -> 0.24717092 | I52: =1/($M$52+$M$53+$M$54+((B52-75)/1000)/($I$51/1000)+(25/1000)/(($I$51/1000)*1.2)+$M$55+$M$56) -> 0.21502499 | K52: Rsi | M52: 0.17
B53: 125 | C53: =1/($M$52+$M$53+$M$54+((B53-75)/1000)/($C$51/1000)+(25/1000)/(($C$51/1000)*1.2)+$M$55+$M$56) -> 0.23283261 | D53: =1/($M$52+$M$53+$M$54+((B53-75)/1000)/($D$51/1000)+(25/1000)/(($D$51/1000)*1.2)+$M$55+$M$56) -> 0.22566619 | E53: =1/($M$52+$M$53+$M$54+((B53-75)/1000)/($E$51/1000)+(25/1000)/(($E$51/1000)*1.2)+$M$55+$M$56) -> 0.2178128 | F53: =1/($M$52+$M$53+$M$54+((B53-75)/1000)/($F$51/1000)+(25/1000)/(($F$51/1000)*1.2)+$M$55+$M$56) -> 0.21502499 | G53: =1/($M$52+$M$53+$M$54+((B53-75)/1000)/($G$51/1000)+(25/1000)/(($G$51/1000)*1.2)+$M$55+$M$56) -> 0.21214516 | H53: =1/($M$52+$M$53+$M$54+((B53-75)/1000)/($H$51/1000)+(25/1000)/(($H$51/1000)*1.2)+$M$55+$M$56) -> 0.20609059 | I53: =1/($M$52+$M$53+$M$54+((B53-75)/1000)/($I$51/1000)+(25/1000)/(($I$51/1000)*1.2)+$M$55+$M$56) -> 0.17280153 | K53: Parketgulv | L53: 14 | M53: =(L53/1000)/(130/1000) -> 0.10769231
B54: 150 | C54: =1/($M$52+$M$53+$M$54+((B54-75)/1000)/($C$51/1000)+(25/1000)/(($C$51/1000)*1.2)+$M$55+$M$56) -> 0.2038866 | D54: =1/($M$52+$M$53+$M$54+((B54-75)/1000)/($D$51/1000)+(25/1000)/(($D$51/1000)*1.2)+$M$55+$M$56) -> 0.19649382 | E54: =1/($M$52+$M$53+$M$54+((B54-75)/1000)/($E$51/1000)+(25/1000)/(($E$51/1000)*1.2)+$M$55+$M$56) -> 0.18848777 | F54: =1/($M$52+$M$53+$M$54+((B54-75)/1000)/($F$51/1000)+(25/1000)/(($F$51/1000)*1.2)+$M$55+$M$56) -> 0.18566943 | G54: =1/($M$52+$M$53+$M$54+((B54-75)/1000)/($G$51/1000)+(25/1000)/(($G$51/1000)*1.2)+$M$55+$M$56) -> 0.18277094 | H54: =1/($M$52+$M$53+$M$54+((B54-75)/1000)/($H$51/1000)+(25/1000)/(($H$51/1000)*1.2)+$M$55+$M$56) -> 0.17671945 | I54: =1/($M$52+$M$53+$M$54+((B54-75)/1000)/($I$51/1000)+(25/1000)/(($I$51/1000)*1.2)+$M$55+$M$56) -> 0.14443876 | K54: Beton | L54: 100 | M54: =(L54/1000)/(2000/1000) -> 0.05
B55: 175 | C55: =1/($M$52+$M$53+$M$54+((B55-75)/1000)/($C$51/1000)+(25/1000)/(($C$51/1000)*1.2)+$M$55+$M$56) -> 0.18134197 | D55: =1/($M$52+$M$53+$M$54+((B55-75)/1000)/($D$51/1000)+(25/1000)/(($D$51/1000)*1.2)+$M$55+$M$56) -> 0.1740004 | E55: =1/($M$52+$M$53+$M$54+((B55-75)/1000)/($E$51/1000)+(25/1000)/(($E$51/1000)*1.2)+$M$55+$M$56) -> 0.16612207 | F55: =1/($M$52+$M$53+$M$54+((B55-75)/1000)/($F$51/1000)+(25/1000)/(($F$51/1000)*1.2)+$M$55+$M$56) -> 0.16336638 | G55: =1/($M$52+$M$53+$M$54+((B55-75)/1000)/($G$51/1000)+(25/1000)/(($G$51/1000)*1.2)+$M$55+$M$56) -> 0.16054186 | H55: =1/($M$52+$M$53+$M$54+((B55-75)/1000)/($H$51/1000)+(25/1000)/(($H$51/1000)*1.2)+$M$55+$M$56) -> 0.15467573 | I55: =1/($M$52+$M$53+$M$54+((B55-75)/1000)/($I$51/1000)+(25/1000)/(($I$51/1000)*1.2)+$M$55+$M$56) -> 0.1240739 | K55: Radonsugeplade + Tek. Inst. (Reelt 50mm) | L55: 20 | M55: =0.301+(L55/1000)/((38/1000)*1.2) -> 0.73959649
B56: 200 | C56: =1/($M$52+$M$53+$M$54+((B56-75)/1000)/($C$51/1000)+(25/1000)/(($C$51/1000)*1.2)+$M$55+$M$56) -> 0.16328665 | D56: =1/($M$52+$M$53+$M$54+((B56-75)/1000)/($D$51/1000)+(25/1000)/(($D$51/1000)*1.2)+$M$55+$M$56) -> 0.15612783 | E56: =1/($M$52+$M$53+$M$54+((B56-75)/1000)/($E$51/1000)+(25/1000)/(($E$51/1000)*1.2)+$M$55+$M$56) -> 0.14850113 | F56: =1/($M$52+$M$53+$M$54+((B56-75)/1000)/($F$51/1000)+(25/1000)/(($F$51/1000)*1.2)+$M$55+$M$56) -> 0.14584691 | G56: =1/($M$52+$M$53+$M$54+((B56-75)/1000)/($G$51/1000)+(25/1000)/(($G$51/1000)*1.2)+$M$55+$M$56) -> 0.14313358 | H56: =1/($M$52+$M$53+$M$54+((B56-75)/1000)/($H$51/1000)+(25/1000)/(($H$51/1000)*1.2)+$M$55+$M$56) -> 0.13752151 | I56: =1/($M$52+$M$53+$M$54+((B56-75)/1000)/($I$51/1000)+(25/1000)/(($I$51/1000)*1.2)+$M$55+$M$56) -> 0.10874203 | K56: Rj | M56: 1.5
B57: 225 | C57: =1/($M$52+$M$53+$M$54+((B57-75)/1000)/($C$51/1000)+(25/1000)/(($C$51/1000)*1.2)+$M$55+$M$56) -> 0.14850113 | D57: =1/($M$52+$M$53+$M$54+((B57-75)/1000)/($D$51/1000)+(25/1000)/(($D$51/1000)*1.2)+$M$55+$M$56) -> 0.14158484 | E57: =1/($M$52+$M$53+$M$54+((B57-75)/1000)/($E$51/1000)+(25/1000)/(($E$51/1000)*1.2)+$M$55+$M$56) -> 0.13425988 | F57: =1/($M$52+$M$53+$M$54+((B57-75)/1000)/($F$51/1000)+(25/1000)/(($F$51/1000)*1.2)+$M$55+$M$56) -> 0.13172109 | G57: =1/($M$52+$M$53+$M$54+((B57-75)/1000)/($G$51/1000)+(25/1000)/(($G$51/1000)*1.2)+$M$55+$M$56) -> 0.12913129 | H57: =1/($M$52+$M$53+$M$54+((B57-75)/1000)/($H$51/1000)+(25/1000)/(($H$51/1000)*1.2)+$M$55+$M$56) -> 0.12379238 | I57: =1/($M$52+$M$53+$M$54+((B57-75)/1000)/($I$51/1000)+(25/1000)/(($I$51/1000)*1.2)+$M$55+$M$56) -> 0.096782558
B58: 250 | C58: =1/($M$52+$M$53+$M$54+((B58-75)/1000)/($C$51/1000)+(25/1000)/(($C$51/1000)*1.2)+$M$55+$M$56) -> 0.13617093 | D58: =1/($M$52+$M$53+$M$54+((B58-75)/1000)/($D$51/1000)+(25/1000)/(($D$51/1000)*1.2)+$M$55+$M$56) -> 0.1295203 | E58: =1/($M$52+$M$53+$M$54+((B58-75)/1000)/($E$51/1000)+(25/1000)/(($E$51/1000)*1.2)+$M$55+$M$56) -> 0.12251108 | F58: =1/($M$52+$M$53+$M$54+((B58-75)/1000)/($F$51/1000)+(25/1000)/(($F$51/1000)*1.2)+$M$55+$M$56) -> 0.12008993 | G58: =1/($M$52+$M$53+$M$54+((B58-75)/1000)/($G$51/1000)+(25/1000)/(($G$51/1000)*1.2)+$M$55+$M$56) -> 0.11762447 | H58: =1/($M$52+$M$53+$M$54+((B58-75)/1000)/($H$51/1000)+(25/1000)/(($H$51/1000)*1.2)+$M$55+$M$56) -> 0.11255566 | I58: =1/($M$52+$M$53+$M$54+((B58-75)/1000)/($I$51/1000)+(25/1000)/(($I$51/1000)*1.2)+$M$55+$M$56) -> 0.08719305
B59: 275 | C59: =1/($M$52+$M$53+$M$54+((B59-75)/1000)/($C$51/1000)+(25/1000)/(($C$51/1000)*1.2)+$M$55+$M$56) -> 0.12573132 | D59: =1/($M$52+$M$53+$M$54+((B59-75)/1000)/($D$51/1000)+(25/1000)/(($D$51/1000)*1.2)+$M$55+$M$56) -> 0.11935037 | E59: =1/($M$52+$M$53+$M$54+((B59-75)/1000)/($E$51/1000)+(25/1000)/(($E$51/1000)*1.2)+$M$55+$M$56) -> 0.11265305 | F59: =1/($M$52+$M$53+$M$54+((B59-75)/1000)/($F$51/1000)+(25/1000)/(($F$51/1000)*1.2)+$M$55+$M$56) -> 0.11034621 | G59: =1/($M$52+$M$53+$M$54+((B59-75)/1000)/($G$51/1000)+(25/1000)/(($G$51/1000)*1.2)+$M$55+$M$56) -> 0.1080006 | H59: =1/($M$52+$M$53+$M$54+((B59-75)/1000)/($H$51/1000)+(25/1000)/(($H$51/1000)*1.2)+$M$55+$M$56) -> 0.10318911 | I59: =1/($M$52+$M$53+$M$54+((B59-75)/1000)/($I$51/1000)+(25/1000)/(($I$51/1000)*1.2)+$M$55+$M$56) -> 0.079332543
B60: 300 | C60: =1/($M$52+$M$53+$M$54+((B60-75)/1000)/($C$51/1000)+(25/1000)/(($C$51/1000)*1.2)+$M$55+$M$56) -> 0.11677845 | D60: =1/($M$52+$M$53+$M$54+((B60-75)/1000)/($D$51/1000)+(25/1000)/(($D$51/1000)*1.2)+$M$55+$M$56) -> 0.11066125 | E60: =1/($M$52+$M$53+$M$54+((B60-75)/1000)/($E$51/1000)+(25/1000)/(($E$51/1000)*1.2)+$M$55+$M$56) -> 0.10426335 | F60: =1/($M$52+$M$53+$M$54+((B60-75)/1000)/($F$51/1000)+(25/1000)/(($F$51/1000)*1.2)+$M$55+$M$56) -> 0.10206497 | G60: =1/($M$52+$M$53+$M$54+((B60-75)/1000)/($G$51/1000)+(25/1000)/(($G$51/1000)*1.2)+$M$55+$M$56) -> 0.099832444 | H60: =1/($M$52+$M$53+$M$54+((B60-75)/1000)/($H$51/1000)+(25/1000)/(($H$51/1000)*1.2)+$M$55+$M$56) -> 0.095261717 | I60: =1/($M$52+$M$53+$M$54+((B60-75)/1000)/($I$51/1000)+(25/1000)/(($I$51/1000)*1.2)+$M$55+$M$56) -> 0.072772094
B61: 325 | C61: =1/($M$52+$M$53+$M$54+((B61-75)/1000)/($C$51/1000)+(25/1000)/(($C$51/1000)*1.2)+$M$55+$M$56) -> 0.10901583 | D61: =1/($M$52+$M$53+$M$54+((B61-75)/1000)/($D$51/1000)+(25/1000)/(($D$51/1000)*1.2)+$M$55+$M$56) -> 0.10315147 | E61: =1/($M$52+$M$53+$M$54+((B61-75)/1000)/($E$51/1000)+(25/1000)/(($E$51/1000)*1.2)+$M$55+$M$56) -> 0.097036655 | F61: =1/($M$52+$M$53+$M$54+((B61-75)/1000)/($F$51/1000)+(25/1000)/(($F$51/1000)*1.2)+$M$55+$M$56) -> 0.094939938 | G61: =1/($M$52+$M$53+$M$54+((B61-75)/1000)/($G$51/1000)+(25/1000)/(($G$51/1000)*1.2)+$M$55+$M$56) -> 0.092812942 | H61: =1/($M$52+$M$53+$M$54+((B61-75)/1000)/($H$51/1000)+(25/1000)/(($H$51/1000)*1.2)+$M$55+$M$56) -> 0.08846545 | I61: =1/($M$52+$M$53+$M$54+((B61-75)/1000)/($I$51/1000)+(25/1000)/(($I$51/1000)*1.2)+$M$55+$M$56) -> 0.06721381
B62: 350 | C62: =1/($M$52+$M$53+$M$54+((B62-75)/1000)/($C$51/1000)+(25/1000)/(($C$51/1000)*1.2)+$M$55+$M$56) -> 0.10222089 | D62: =1/($M$52+$M$53+$M$54+((B62-75)/1000)/($D$51/1000)+(25/1000)/(($D$51/1000)*1.2)+$M$55+$M$56) -> 0.096596178 | E62: =1/($M$52+$M$53+$M$54+((B62-75)/1000)/($E$51/1000)+(25/1000)/(($E$51/1000)*1.2)+$M$55+$M$56) -> 0.090746821 | F62: =1/($M$52+$M$53+$M$54+((B62-75)/1000)/($F$51/1000)+(25/1000)/(($F$51/1000)*1.2)+$M$55+$M$56) -> 0.088744774 | G62: =1/($M$52+$M$53+$M$54+((B62-75)/1000)/($G$51/1000)+(25/1000)/(($G$51/1000)*1.2)+$M$55+$M$56) -> 0.086715714 | H62: =1/($M$52+$M$53+$M$54+((B62-75)/1000)/($H$51/1000)+(25/1000)/(($H$51/1000)*1.2)+$M$55+$M$56) -> 0.082574341 | I62: =1/($M$52+$M$53+$M$54+((B62-75)/1000)/($I$51/1000)+(25/1000)/(($I$51/1000)*1.2)+$M$55+$M$56) -> 0.062444352
B63: 375 | C63: =1/($M$52+$M$53+$M$54+((B63-75)/1000)/($C$51/1000)+(25/1000)/(($C$51/1000)*1.2)+$M$55+$M$56) -> 0.096223312 | D63: =1/($M$52+$M$53+$M$54+((B63-75)/1000)/($D$51/1000)+(25/1000)/(($D$51/1000)*1.2)+$M$55+$M$56) -> 0.090824284 | E63: =1/($M$52+$M$53+$M$54+((B63-75)/1000)/($E$51/1000)+(25/1000)/(($E$51/1000)*1.2)+$M$55+$M$56) -> 0.085222754 | F63: =1/($M$52+$M$53+$M$54+((B63-75)/1000)/($F$51/1000)+(25/1000)/(($F$51/1000)*1.2)+$M$55+$M$56) -> 0.083308595 | G63: =1/($M$52+$M$53+$M$54+((B63-75)/1000)/($G$51/1000)+(25/1000)/(($G$51/1000)*1.2)+$M$55+$M$56) -> 0.081370202 | H63: =1/($M$52+$M$53+$M$54+((B63-75)/1000)/($H$51/1000)+(25/1000)/(($H$51/1000)*1.2)+$M$55+$M$56) -> 0.077418848 | I63: =1/($M$52+$M$53+$M$54+((B63-75)/1000)/($I$51/1000)+(25/1000)/(($I$51/1000)*1.2)+$M$55+$M$56) -> 0.058306923
B64: 400 | C64: =1/($M$52+$M$53+$M$54+((B64-75)/1000)/($C$51/1000)+(25/1000)/(($C$51/1000)*1.2)+$M$55+$M$56) -> 0.090890515 | D64: =1/($M$52+$M$53+$M$54+((B64-75)/1000)/($D$51/1000)+(25/1000)/(($D$51/1000)*1.2)+$M$55+$M$56) -> 0.085703272 | E64: =1/($M$52+$M$53+$M$54+((B64-75)/1000)/($E$51/1000)+(25/1000)/(($E$51/1000)*1.2)+$M$55+$M$56) -> 0.080332634 | F64: =1/($M$52+$M$53+$M$54+((B64-75)/1000)/($F$51/1000)+(25/1000)/(($F$51/1000)*1.2)+$M$55+$M$56) -> 0.078499976 | G64: =1/($M$52+$M$53+$M$54+((B64-75)/1000)/($G$51/1000)+(25/1000)/(($G$51/1000)*1.2)+$M$55+$M$56) -> 0.076645462 | H64: =1/($M$52+$M$53+$M$54+((B64-75)/1000)/($H$51/1000)+(25/1000)/(($H$51/1000)*1.2)+$M$55+$M$56) -> 0.072869287 | I64: =1/($M$52+$M$53+$M$54+((B64-75)/1000)/($I$51/1000)+(25/1000)/(($I$51/1000)*1.2)+$M$55+$M$56) -> 0.054683698
A66: Let terrændæk | B66: Gulvvarme i let terrændæk
C67: 41 | D67: 38 | E67: 35 | F67: 34 | G67: 33 | H67: 31 | I67: 22 | K67: Delelementer | L67: mm | M67: Isolans
B68: 100 | C68: =1/($M$68+((B68-75)/1000)/($C$67/1000)+(75/1000)/(($C$67/1000)*1.2)+$M$69) -> 0.25398911 | D68: =1/($M$68+((B68-75)/1000)/($D$67/1000)+(75/1000)/(($D$67/1000)*1.2)+$M$69) -> 0.24356609 | E68: =1/($M$68+((B68-75)/1000)/($E$67/1000)+(75/1000)/(($E$67/1000)*1.2)+$M$69) -> 0.23239437 | F68: =1/($M$68+((B68-75)/1000)/($F$67/1000)+(75/1000)/(($F$67/1000)*1.2)+$M$69) -> 0.22848997 | G68: =1/($M$68+((B68-75)/1000)/($G$67/1000)+(75/1000)/(($G$67/1000)*1.2)+$M$69) -> 0.2244898 | H68: =1/($M$68+((B68-75)/1000)/($H$67/1000)+(75/1000)/(($H$67/1000)*1.2)+$M$69) -> 0.21618766 | I68: =1/($M$68+((B68-75)/1000)/($I$67/1000)+(75/1000)/(($I$67/1000)*1.2)+$M$69) -> 0.17300131 | K68: Gulvvarmeplade (Reelt 30mm) | L68: 10 | M68: =(L68/1000)/(33/1000) -> 0.3030303
B69: 125 | C69: =1/($M$68+((B69-75)/1000)/($C$67/1000)+(75/1000)/(($C$67/1000)*1.2)+$M$69) -> 0.21992848 | D69: =1/($M$68+((B69-75)/1000)/($D$67/1000)+(75/1000)/(($D$67/1000)*1.2)+$M$69) -> 0.20992718 | E69: =1/($M$68+((B69-75)/1000)/($E$67/1000)+(75/1000)/(($E$67/1000)*1.2)+$M$69) -> 0.19930975 | F69: =1/($M$68+((B69-75)/1000)/($F$67/1000)+(75/1000)/(($F$67/1000)*1.2)+$M$69) -> 0.19562375 | G69: =1/($M$68+((B69-75)/1000)/($G$67/1000)+(75/1000)/(($G$67/1000)*1.2)+$M$69) -> 0.19186047 | H69: =1/($M$68+((B69-75)/1000)/($H$67/1000)+(75/1000)/(($H$67/1000)*1.2)+$M$69) -> 0.18409214 | I69: =1/($M$68+((B69-75)/1000)/($I$67/1000)+(75/1000)/(($I$67/1000)*1.2)+$M$69) -> 0.14457831 | K69: Rj | M69: 1.5
B70: 150 | C70: =1/($M$68+((B70-75)/1000)/($C$67/1000)+(75/1000)/(($C$67/1000)*1.2)+$M$69) -> 0.19392289 | D70: =1/($M$68+((B70-75)/1000)/($D$67/1000)+(75/1000)/(($D$67/1000)*1.2)+$M$69) -> 0.18445245 | E70: =1/($M$68+((B70-75)/1000)/($E$67/1000)+(75/1000)/(($E$67/1000)*1.2)+$M$69) -> 0.1744713 | F70: =1/($M$68+((B70-75)/1000)/($F$67/1000)+(75/1000)/(($F$67/1000)*1.2)+$M$69) -> 0.17102355 | G70: =1/($M$68+((B70-75)/1000)/($G$67/1000)+(75/1000)/(($G$67/1000)*1.2)+$M$69) -> 0.16751269 | H70: =1/($M$68+((B70-75)/1000)/($H$67/1000)+(75/1000)/(($H$67/1000)*1.2)+$M$69) -> 0.16029458 | I70: =1/($M$68+((B70-75)/1000)/($I$67/1000)+(75/1000)/(($I$67/1000)*1.2)+$M$69) -> 0.12417686
B71: 175 | C71: =1/($M$68+((B71-75)/1000)/($C$67/1000)+(75/1000)/(($C$67/1000)*1.2)+$M$69) -> 0.17341707 | D71: =1/($M$68+((B71-75)/1000)/($D$67/1000)+(75/1000)/(($D$67/1000)*1.2)+$M$69) -> 0.16449138 | E71: =1/($M$68+((B71-75)/1000)/($E$67/1000)+(75/1000)/(($E$67/1000)*1.2)+$M$69) -> 0.15513768 | F71: =1/($M$68+((B71-75)/1000)/($F$67/1000)+(75/1000)/(($F$67/1000)*1.2)+$M$69) -> 0.1519193 | G71: =1/($M$68+((B71-75)/1000)/($G$67/1000)+(75/1000)/(($G$67/1000)*1.2)+$M$69) -> 0.14864865 | H71: =1/($M$68+((B71-75)/1000)/($H$67/1000)+(75/1000)/(($H$67/1000)*1.2)+$M$69) -> 0.14194533 | I71: =1/($M$68+((B71-75)/1000)/($I$67/1000)+(75/1000)/(($I$67/1000)*1.2)+$M$69) -> 0.1088211
B72: 200 | C72: =1/($M$68+((B72-75)/1000)/($C$67/1000)+(75/1000)/(($C$67/1000)*1.2)+$M$69) -> 0.1568332 | D72: =1/($M$68+((B72-75)/1000)/($D$67/1000)+(75/1000)/(($D$67/1000)*1.2)+$M$69) -> 0.14842872 | E72: =1/($M$68+((B72-75)/1000)/($E$67/1000)+(75/1000)/(($E$67/1000)*1.2)+$M$69) -> 0.13966143 | F72: =1/($M$68+((B72-75)/1000)/($F$67/1000)+(75/1000)/(($F$67/1000)*1.2)+$M$69) -> 0.13665428 | G72: =1/($M$68+((B72-75)/1000)/($G$67/1000)+(75/1000)/(($G$67/1000)*1.2)+$M$69) -> 0.13360324 | H72: =1/($M$68+((B72-75)/1000)/($H$67/1000)+(75/1000)/(($H$67/1000)*1.2)+$M$69) -> 0.12736554 | I72: =1/($M$68+((B72-75)/1000)/($I$67/1000)+(75/1000)/(($I$67/1000)*1.2)+$M$69) -> 0.096845194
B73: 225 | C73: =1/($M$68+((B73-75)/1000)/($C$67/1000)+(75/1000)/(($C$67/1000)*1.2)+$M$69) -> 0.14314431 | D73: =1/($M$68+((B73-75)/1000)/($D$67/1000)+(75/1000)/(($D$67/1000)*1.2)+$M$69) -> 0.13522403 | E73: =1/($M$68+((B73-75)/1000)/($E$67/1000)+(75/1000)/(($E$67/1000)*1.2)+$M$69) -> 0.12699285 | F73: =1/($M$68+((B73-75)/1000)/($F$67/1000)+(75/1000)/(($F$67/1000)*1.2)+$M$69) -> 0.12417686 | G73: =1/($M$68+((B73-75)/1000)/($G$67/1000)+(75/1000)/(($G$67/1000)*1.2)+$M$69) -> 0.12132353 | H73: =1/($M$68+((B73-75)/1000)/($H$67/1000)+(75/1000)/(($H$67/1000)*1.2)+$M$69) -> 0.11550186 | I73: =1/($M$68+((B73-75)/1000)/($I$67/1000)+(75/1000)/(($I$67/1000)*1.2)+$M$69) -> 0.087243886
B74: 250 | C74: =1/($M$68+((B74-75)/1000)/($C$67/1000)+(75/1000)/(($C$67/1000)*1.2)+$M$69) -> 0.13165321 | D74: =1/($M$68+((B74-75)/1000)/($D$67/1000)+(75/1000)/(($D$67/1000)*1.2)+$M$69) -> 0.12417686 | E74: =1/($M$68+((B74-75)/1000)/($E$67/1000)+(75/1000)/(($E$67/1000)*1.2)+$M$69) -> 0.11643145 | F74: =1/($M$68+((B74-75)/1000)/($F$67/1000)+(75/1000)/(($F$67/1000)*1.2)+$M$69) -> 0.11378733 | G74: =1/($M$68+((B74-75)/1000)/($G$67/1000)+(75/1000)/(($G$67/1000)*1.2)+$M$69) -> 0.11111111 | H74: =1/($M$68+((B74-75)/1000)/($H$67/1000)+(75/1000)/(($H$67/1000)*1.2)+$M$69) -> 0.10565999 | I74: =1/($M$68+((B74-75)/1000)/($I$67/1000)+(75/1000)/(($I$67/1000)*1.2)+$M$69) -> 0.079374624
B75: 275 | C75: =1/($M$68+((B75-75)/1000)/($C$67/1000)+(75/1000)/(($C$67/1000)*1.2)+$M$69) -> 0.12186993 | D75: =1/($M$68+((B75-75)/1000)/($D$67/1000)+(75/1000)/(($D$67/1000)*1.2)+$M$69) -> 0.11479837 | E75: =1/($M$68+((B75-75)/1000)/($E$67/1000)+(75/1000)/(($E$67/1000)*1.2)+$M$69) -> 0.10749186 | F75: =1/($M$68+((B75-75)/1000)/($F$67/1000)+(75/1000)/(($F$67/1000)*1.2)+$M$69) -> 0.10500211 | G75: =1/($M$68+((B75-75)/1000)/($G$67/1000)+(75/1000)/(($G$67/1000)*1.2)+$M$69) -> 0.10248447 | H75: =1/($M$68+((B75-75)/1000)/($H$67/1000)+(75/1000)/(($H$67/1000)*1.2)+$M$69) -> 0.097363662 | I75: =1/($M$68+((B75-75)/1000)/($I$67/1000)+(75/1000)/(($I$67/1000)*1.2)+$M$69) -> 0.072807501
B76: 300 | C76: =1/($M$68+((B76-75)/1000)/($C$67/1000)+(75/1000)/(($C$67/1000)*1.2)+$M$69) -> 0.11344009 | D76: =1/($M$68+((B76-75)/1000)/($D$67/1000)+(75/1000)/(($D$67/1000)*1.2)+$M$69) -> 0.10673703 | E76: =1/($M$68+((B76-75)/1000)/($E$67/1000)+(75/1000)/(($E$67/1000)*1.2)+$M$69) -> 0.099827139 | F76: =1/($M$68+((B76-75)/1000)/($F$67/1000)+(75/1000)/(($F$67/1000)*1.2)+$M$69) -> 0.097476217 | G76: =1/($M$68+((B76-75)/1000)/($G$67/1000)+(75/1000)/(($G$67/1000)*1.2)+$M$69) -> 0.095100865 | H76: =1/($M$68+((B76-75)/1000)/($H$67/1000)+(75/1000)/(($H$67/1000)*1.2)+$M$69) -> 0.090275327 | I76: =1/($M$68+((B76-75)/1000)/($I$67/1000)+(75/1000)/(($I$67/1000)*1.2)+$M$69) -> 0.067244014
B77: 325 | C77: =1/($M$68+((B77-75)/1000)/($C$67/1000)+(75/1000)/(($C$67/1000)*1.2)+$M$69) -> 0.106101 | D77: =1/($M$68+((B77-75)/1000)/($D$67/1000)+(75/1000)/(($D$67/1000)*1.2)+$M$69) -> 0.099733567 | E77: =1/($M$68+((B77-75)/1000)/($E$67/1000)+(75/1000)/(($E$67/1000)*1.2)+$M$69) -> 0.093182735 | F77: =1/($M$68+((B77-75)/1000)/($F$67/1000)+(75/1000)/(($F$67/1000)*1.2)+$M$69) -> 0.090956994 | G77: =1/($M$68+((B77-75)/1000)/($G$67/1000)+(75/1000)/(($G$67/1000)*1.2)+$M$69) -> 0.088709677 | H77: =1/($M$68+((B77-75)/1000)/($H$67/1000)+(75/1000)/(($H$67/1000)*1.2)+$M$69) -> 0.08414905 | I77: =1/($M$68+((B77-75)/1000)/($I$67/1000)+(75/1000)/(($I$67/1000)*1.2)+$M$69) -> 0.062470421
B78: 350 | C78: =1/($M$68+((B78-75)/1000)/($C$67/1000)+(75/1000)/(($C$67/1000)*1.2)+$M$69) -> 0.099653826 | D78: =1/($M$68+((B78-75)/1000)/($D$67/1000)+(75/1000)/(($D$67/1000)*1.2)+$M$69) -> 0.093592566 | E78: =1/($M$68+((B78-75)/1000)/($E$67/1000)+(75/1000)/(($E$67/1000)*1.2)+$M$69) -> 0.087367625 | F78: =1/($M$68+((B78-75)/1000)/($F$67/1000)+(75/1000)/(($F$67/1000)*1.2)+$M$69) -> 0.085255119 | G78: =1/($M$68+((B78-75)/1000)/($G$67/1000)+(75/1000)/(($G$67/1000)*1.2)+$M$69) -> 0.083123426 | H78: =1/($M$68+((B78-75)/1000)/($H$67/1000)+(75/1000)/(($H$67/1000)*1.2)+$M$69) -> 0.078801417 | I78: =1/($M$68+((B78-75)/1000)/($I$67/1000)+(75/1000)/(($I$67/1000)*1.2)+$M$69) -> 0.058329651
B79: 375 | C79: =1/($M$68+((B79-75)/1000)/($C$67/1000)+(75/1000)/(($C$67/1000)*1.2)+$M$69) -> 0.093945285 | D79: =1/($M$68+((B79-75)/1000)/($D$67/1000)+(75/1000)/(($D$67/1000)*1.2)+$M$69) -> 0.088163954 | E79: =1/($M$68+((B79-75)/1000)/($E$67/1000)+(75/1000)/(($E$67/1000)*1.2)+$M$69) -> 0.082235671 | F79: =1/($M$68+((B79-75)/1000)/($F$67/1000)+(75/1000)/(($F$67/1000)*1.2)+$M$69) -> 0.080225948 | G79: =1/($M$68+((B79-75)/1000)/($G$67/1000)+(75/1000)/(($G$67/1000)*1.2)+$M$69) -> 0.078199052 | H79: =1/($M$68+((B79-75)/1000)/($H$67/1000)+(75/1000)/(($H$67/1000)*1.2)+$M$69) -> 0.074092851 | I79: =1/($M$68+((B79-75)/1000)/($I$67/1000)+(75/1000)/(($I$67/1000)*1.2)+$M$69) -> 0.054703688
B80: 400 | C80: =1/($M$68+((B80-75)/1000)/($C$67/1000)+(75/1000)/(($C$67/1000)*1.2)+$M$69) -> 0.088855323 | D80: =1/($M$68+((B80-75)/1000)/($D$67/1000)+(75/1000)/(($D$67/1000)*1.2)+$M$69) -> 0.083330565 | E80: =1/($M$68+((B80-75)/1000)/($E$67/1000)+(75/1000)/(($E$67/1000)*1.2)+$M$69) -> 0.077673167 | F80: =1/($M$68+((B80-75)/1000)/($F$67/1000)+(75/1000)/(($F$67/1000)*1.2)+$M$69) -> 0.075757064 | G80: =1/($M$68+((B80-75)/1000)/($G$67/1000)+(75/1000)/(($G$67/1000)*1.2)+$M$69) -> 0.073825503 | H80: =1/($M$68+((B80-75)/1000)/($H$67/1000)+(75/1000)/(($H$67/1000)*1.2)+$M$69) -> 0.069915254 | I80: =1/($M$68+((B80-75)/1000)/($I$67/1000)+(75/1000)/(($I$67/1000)*1.2)+$M$69) -> 0.051502146
A82: Let terrændæk | B82: Uden gulvvarme i let terrændæk
C83: 41 | D83: 38 | E83: 35 | F83: 34 | G83: 33 | H83: 31 | I83: 22 | K83: Delelementer | L83: mm | M83: Isolans
B84: 100 | C84: =1/($M$84+$M$85+$M$86+((B84-75)/1000)/($C$83/1000)+(75/1000)/(($C$83/1000)*1.2)+$M$87) -> 0.24788917 | D84: =1/($M$84+$M$85+$M$86+((B84-75)/1000)/($D$83/1000)+(75/1000)/(($D$83/1000)*1.2)+$M$87) -> 0.23795099 | E84: =1/($M$84+$M$85+$M$86+((B84-75)/1000)/($E$83/1000)+(75/1000)/(($E$83/1000)*1.2)+$M$87) -> 0.22727714 | F84: =1/($M$84+$M$85+$M$86+((B84-75)/1000)/($F$83/1000)+(75/1000)/(($F$83/1000)*1.2)+$M$87) -> 0.22354142 | G84: =1/($M$84+$M$85+$M$86+((B84-75)/1000)/($G$83/1000)+(75/1000)/(($G$83/1000)*1.2)+$M$87) -> 0.21971118 | H84: =1/($M$84+$M$85+$M$86+((B84-75)/1000)/($H$83/1000)+(75/1000)/(($H$83/1000)*1.2)+$M$87) -> 0.21175247 | I84: =1/($M$84+$M$85+$M$86+((B84-75)/1000)/($I$83/1000)+(75/1000)/(($I$83/1000)*1.2)+$M$87) -> 0.17014942 | K84: Rsi | M84: 0.17
B85: 125 | C85: =1/($M$84+$M$85+$M$86+((B85-75)/1000)/($C$83/1000)+(75/1000)/(($C$83/1000)*1.2)+$M$87) -> 0.2153401 | D85: =1/($M$84+$M$85+$M$86+((B85-75)/1000)/($D$83/1000)+(75/1000)/(($D$83/1000)*1.2)+$M$87) -> 0.20574265 | E85: =1/($M$84+$M$85+$M$86+((B85-75)/1000)/($E$83/1000)+(75/1000)/(($E$83/1000)*1.2)+$M$87) -> 0.19553399 | F85: =1/($M$84+$M$85+$M$86+((B85-75)/1000)/($F$83/1000)+(75/1000)/(($F$83/1000)*1.2)+$M$87) -> 0.19198508 | G85: =1/($M$84+$M$85+$M$86+((B85-75)/1000)/($G$83/1000)+(75/1000)/(($G$83/1000)*1.2)+$M$87) -> 0.1883592 | H85: =1/($M$84+$M$85+$M$86+((B85-75)/1000)/($H$83/1000)+(75/1000)/(($H$83/1000)*1.2)+$M$87) -> 0.18086627 | I85: =1/($M$84+$M$85+$M$86+((B85-75)/1000)/($I$83/1000)+(75/1000)/(($I$83/1000)*1.2)+$M$87) -> 0.14258113 | K85: Parketgulv | L85: 14 | M85: =(L85/1000)/(130/1000) -> 0.10769231
B86: 150 | C86: =1/($M$84+$M$85+$M$86+((B86-75)/1000)/($C$83/1000)+(75/1000)/(($C$83/1000)*1.2)+$M$87) -> 0.19034664 | D86: =1/($M$84+$M$85+$M$86+((B86-75)/1000)/($D$83/1000)+(75/1000)/(($D$83/1000)*1.2)+$M$87) -> 0.18121406 | E86: =1/($M$84+$M$85+$M$86+((B86-75)/1000)/($E$83/1000)+(75/1000)/(($E$83/1000)*1.2)+$M$87) -> 0.17157114 | F86: =1/($M$84+$M$85+$M$86+((B86-75)/1000)/($F$83/1000)+(75/1000)/(($F$83/1000)*1.2)+$M$87) -> 0.16823597 | G86: =1/($M$84+$M$85+$M$86+((B86-75)/1000)/($G$83/1000)+(75/1000)/(($G$83/1000)*1.2)+$M$87) -> 0.16483749 | H86: =1/($M$84+$M$85+$M$86+((B86-75)/1000)/($H$83/1000)+(75/1000)/(($H$83/1000)*1.2)+$M$87) -> 0.15784327 | I86: =1/($M$84+$M$85+$M$86+((B86-75)/1000)/($I$83/1000)+(75/1000)/(($I$83/1000)*1.2)+$M$87) -> 0.12270067 | K86: Spånplade | L86: 22 | M86: =(L86/1000)/(180/1000) -> 0.12222222
B87: 175 | C87: =1/($M$84+$M$85+$M$86+((B87-75)/1000)/($C$83/1000)+(75/1000)/(($C$83/1000)*1.2)+$M$87) -> 0.17055157 | D87: =1/($M$84+$M$85+$M$86+((B87-75)/1000)/($D$83/1000)+(75/1000)/(($D$83/1000)*1.2)+$M$87) -> 0.16191106 | E87: =1/($M$84+$M$85+$M$86+((B87-75)/1000)/($E$83/1000)+(75/1000)/(($E$83/1000)*1.2)+$M$87) -> 0.15284042 | F87: =1/($M$84+$M$85+$M$86+((B87-75)/1000)/($F$83/1000)+(75/1000)/(($F$83/1000)*1.2)+$M$87) -> 0.1497157 | G87: =1/($M$84+$M$85+$M$86+((B87-75)/1000)/($G$83/1000)+(75/1000)/(($G$83/1000)*1.2)+$M$87) -> 0.14653825 | H87: =1/($M$84+$M$85+$M$86+((B87-75)/1000)/($H$83/1000)+(75/1000)/(($H$83/1000)*1.2)+$M$87) -> 0.14001974 | I87: =1/($M$84+$M$85+$M$86+((B87-75)/1000)/($I$83/1000)+(75/1000)/(($I$83/1000)*1.2)+$M$87) -> 0.10768577 | K87: Rj | M87: 1.5
B88: 200 | C88: =1/($M$84+$M$85+$M$86+((B88-75)/1000)/($C$83/1000)+(75/1000)/(($C$83/1000)*1.2)+$M$87) -> 0.15448584 | D88: =1/($M$84+$M$85+$M$86+((B88-75)/1000)/($D$83/1000)+(75/1000)/(($D$83/1000)*1.2)+$M$87) -> 0.14632451 | E88: =1/($M$84+$M$85+$M$86+((B88-75)/1000)/($E$83/1000)+(75/1000)/(($E$83/1000)*1.2)+$M$87) -> 0.1377969 | F88: =1/($M$84+$M$85+$M$86+((B88-75)/1000)/($F$83/1000)+(75/1000)/(($F$83/1000)*1.2)+$M$87) -> 0.13486867 | G88: =1/($M$84+$M$85+$M$86+((B88-75)/1000)/($G$83/1000)+(75/1000)/(($G$83/1000)*1.2)+$M$87) -> 0.13189597 | H88: =1/($M$84+$M$85+$M$86+((B88-75)/1000)/($H$83/1000)+(75/1000)/(($H$83/1000)*1.2)+$M$87) -> 0.12581304 | I88: =1/($M$84+$M$85+$M$86+((B88-75)/1000)/($I$83/1000)+(75/1000)/(($I$83/1000)*1.2)+$M$87) -> 0.095944965
B89: 225 | C89: =1/($M$84+$M$85+$M$86+((B89-75)/1000)/($C$83/1000)+(75/1000)/(($C$83/1000)*1.2)+$M$87) -> 0.14118628 | D89: =1/($M$84+$M$85+$M$86+((B89-75)/1000)/($D$83/1000)+(75/1000)/(($D$83/1000)*1.2)+$M$87) -> 0.13347535 | E89: =1/($M$84+$M$85+$M$86+((B89-75)/1000)/($E$83/1000)+(75/1000)/(($E$83/1000)*1.2)+$M$87) -> 0.12544937 | F89: =1/($M$84+$M$85+$M$86+((B89-75)/1000)/($F$83/1000)+(75/1000)/(($F$83/1000)*1.2)+$M$87) -> 0.12270067 | G89: =1/($M$84+$M$85+$M$86+((B89-75)/1000)/($G$83/1000)+(75/1000)/(($G$83/1000)*1.2)+$M$87) -> 0.11991402 | H89: =1/($M$84+$M$85+$M$86+((B89-75)/1000)/($H$83/1000)+(75/1000)/(($H$83/1000)*1.2)+$M$87) -> 0.11422366 | I89: =1/($M$84+$M$85+$M$86+((B89-75)/1000)/($I$83/1000)+(75/1000)/(($I$83/1000)*1.2)+$M$87) -> 0.086512633
B90: 250 | C90: =1/($M$84+$M$85+$M$86+((B90-75)/1000)/($C$83/1000)+(75/1000)/(($C$83/1000)*1.2)+$M$87) -> 0.1299951 | D90: =1/($M$84+$M$85+$M$86+((B90-75)/1000)/($D$83/1000)+(75/1000)/(($D$83/1000)*1.2)+$M$87) -> 0.12270067 | E90: =1/($M$84+$M$85+$M$86+((B90-75)/1000)/($E$83/1000)+(75/1000)/(($E$83/1000)*1.2)+$M$87) -> 0.11513271 | F90: =1/($M$84+$M$85+$M$86+((B90-75)/1000)/($F$83/1000)+(75/1000)/(($F$83/1000)*1.2)+$M$87) -> 0.1125466 | G90: =1/($M$84+$M$85+$M$86+((B90-75)/1000)/($G$83/1000)+(75/1000)/(($G$83/1000)*1.2)+$M$87) -> 0.10992775 | H90: =1/($M$84+$M$85+$M$86+((B90-75)/1000)/($H$83/1000)+(75/1000)/(($H$83/1000)*1.2)+$M$87) -> 0.10458933 | I90: =1/($M$84+$M$85+$M$86+((B90-75)/1000)/($I$83/1000)+(75/1000)/(($I$83/1000)*1.2)+$M$87) -> 0.07876888
B91: 275 | C91: =1/($M$84+$M$85+$M$86+((B91-75)/1000)/($C$83/1000)+(75/1000)/(($C$83/1000)*1.2)+$M$87) -> 0.12044777 | D91: =1/($M$84+$M$85+$M$86+((B91-75)/1000)/($D$83/1000)+(75/1000)/(($D$83/1000)*1.2)+$M$87) -> 0.11353561 | E91: =1/($M$84+$M$85+$M$86+((B91-75)/1000)/($E$83/1000)+(75/1000)/(($E$83/1000)*1.2)+$M$87) -> 0.10638395 | F91: =1/($M$84+$M$85+$M$86+((B91-75)/1000)/($F$83/1000)+(75/1000)/(($F$83/1000)*1.2)+$M$87) -> 0.10394467 | G91: =1/($M$84+$M$85+$M$86+((B91-75)/1000)/($G$83/1000)+(75/1000)/(($G$83/1000)*1.2)+$M$87) -> 0.10147689 | H91: =1/($M$84+$M$85+$M$86+((B91-75)/1000)/($H$83/1000)+(75/1000)/(($H$83/1000)*1.2)+$M$87) -> 0.096453813 | I91: =1/($M$84+$M$85+$M$86+((B91-75)/1000)/($I$83/1000)+(75/1000)/(($I$83/1000)*1.2)+$M$87) -> 0.072297522
B92: 300 | C92: =1/($M$84+$M$85+$M$86+((B92-75)/1000)/($C$83/1000)+(75/1000)/(($C$83/1000)*1.2)+$M$87) -> 0.11220688 | D92: =1/($M$84+$M$85+$M$86+((B92-75)/1000)/($D$83/1000)+(75/1000)/(($D$83/1000)*1.2)+$M$87) -> 0.10564455 | E92: =1/($M$84+$M$85+$M$86+((B92-75)/1000)/($E$83/1000)+(75/1000)/(($E$83/1000)*1.2)+$M$87) -> 0.098870892 | F92: =1/($M$84+$M$85+$M$86+((B92-75)/1000)/($F$83/1000)+(75/1000)/(($F$83/1000)*1.2)+$M$87) -> 0.096564273 | G92: =1/($M$84+$M$85+$M$86+((B92-75)/1000)/($G$83/1000)+(75/1000)/(($G$83/1000)*1.2)+$M$87) -> 0.094232626 | H92: =1/($M$84+$M$85+$M$86+((B92-75)/1000)/($H$83/1000)+(75/1000)/(($H$83/1000)*1.2)+$M$87) -> 0.089492601 | I92: =1/($M$84+$M$85+$M$86+((B92-75)/1000)/($I$83/1000)+(75/1000)/(($I$83/1000)*1.2)+$M$87) -> 0.066808763
B93: 325 | C93: =1/($M$84+$M$85+$M$86+((B93-75)/1000)/($C$83/1000)+(75/1000)/(($C$83/1000)*1.2)+$M$87) -> 0.10502143 | D93: =1/($M$84+$M$85+$M$86+((B93-75)/1000)/($D$83/1000)+(75/1000)/(($D$83/1000)*1.2)+$M$87) -> 0.098779103 | E93: =1/($M$84+$M$85+$M$86+((B93-75)/1000)/($E$83/1000)+(75/1000)/(($E$83/1000)*1.2)+$M$87) -> 0.092349014 | F93: =1/($M$84+$M$85+$M$86+((B93-75)/1000)/($F$83/1000)+(75/1000)/(($F$83/1000)*1.2)+$M$87) -> 0.090162456 | G93: =1/($M$84+$M$85+$M$86+((B93-75)/1000)/($G$83/1000)+(75/1000)/(($G$83/1000)*1.2)+$M$87) -> 0.087953753 | H93: =1/($M$84+$M$85+$M$86+((B93-75)/1000)/($H$83/1000)+(75/1000)/(($H$83/1000)*1.2)+$M$87) -> 0.083468555 | I93: =1/($M$84+$M$85+$M$86+((B93-75)/1000)/($I$83/1000)+(75/1000)/(($I$83/1000)*1.2)+$M$87) -> 0.0620946
B94: 350 | C94: =1/($M$84+$M$85+$M$86+((B94-75)/1000)/($C$83/1000)+(75/1000)/(($C$83/1000)*1.2)+$M$87) -> 0.098700881 | D94: =1/($M$84+$M$85+$M$86+((B94-75)/1000)/($D$83/1000)+(75/1000)/(($D$83/1000)*1.2)+$M$87) -> 0.092751529 | E94: =1/($M$84+$M$85+$M$86+((B94-75)/1000)/($E$83/1000)+(75/1000)/(($E$83/1000)*1.2)+$M$87) -> 0.086634305 | F94: =1/($M$84+$M$85+$M$86+((B94-75)/1000)/($F$83/1000)+(75/1000)/(($F$83/1000)*1.2)+$M$87) -> 0.084556692 | G94: =1/($M$84+$M$85+$M$86+((B94-75)/1000)/($G$83/1000)+(75/1000)/(($G$83/1000)*1.2)+$M$87) -> 0.082459352 | H94: =1/($M$84+$M$85+$M$86+((B94-75)/1000)/($H$83/1000)+(75/1000)/(($H$83/1000)*1.2)+$M$87) -> 0.078204357 | I94: =1/($M$84+$M$85+$M$86+((B94-75)/1000)/($I$83/1000)+(75/1000)/(($I$83/1000)*1.2)+$M$87) -> 0.058001869
B95: 375 | C95: =1/($M$84+$M$85+$M$86+((B95-75)/1000)/($C$83/1000)+(75/1000)/(($C$83/1000)*1.2)+$M$87) -> 0.093097925 | D95: =1/($M$84+$M$85+$M$86+((B95-75)/1000)/($D$83/1000)+(75/1000)/(($D$83/1000)*1.2)+$M$87) -> 0.087417262 | E95: =1/($M$84+$M$85+$M$86+((B95-75)/1000)/($E$83/1000)+(75/1000)/(($E$83/1000)*1.2)+$M$87) -> 0.08158565 | F95: =1/($M$84+$M$85+$M$86+((B95-75)/1000)/($F$83/1000)+(75/1000)/(($F$83/1000)*1.2)+$M$87) -> 0.079607191 | G95: =1/($M$84+$M$85+$M$86+((B95-75)/1000)/($G$83/1000)+(75/1000)/(($G$83/1000)*1.2)+$M$87) -> 0.077611051 | H95: =1/($M$84+$M$85+$M$86+((B95-75)/1000)/($H$83/1000)+(75/1000)/(($H$83/1000)*1.2)+$M$87) -> 0.073564772 | I95: =1/($M$84+$M$85+$M$86+((B95-75)/1000)/($I$83/1000)+(75/1000)/(($I$83/1000)*1.2)+$M$87) -> 0.054415291
B96: 400 | C96: =1/($M$84+$M$85+$M$86+((B96-75)/1000)/($C$83/1000)+(75/1000)/(($C$83/1000)*1.2)+$M$87) -> 0.088096925 | D96: =1/($M$84+$M$85+$M$86+((B96-75)/1000)/($D$83/1000)+(75/1000)/(($D$83/1000)*1.2)+$M$87) -> 0.08266319 | E96: =1/($M$84+$M$85+$M$86+((B96-75)/1000)/($E$83/1000)+(75/1000)/(($E$83/1000)*1.2)+$M$87) -> 0.077093019 | F96: =1/($M$84+$M$85+$M$86+((B96-75)/1000)/($F$83/1000)+(75/1000)/(($F$83/1000)*1.2)+$M$87) -> 0.075205084 | G96: =1/($M$84+$M$85+$M$86+((B96-75)/1000)/($G$83/1000)+(75/1000)/(($G$83/1000)*1.2)+$M$87) -> 0.073301214 | H96: =1/($M$84+$M$85+$M$86+((B96-75)/1000)/($H$83/1000)+(75/1000)/(($H$83/1000)*1.2)+$M$87) -> 0.069444857 | I96: =1/($M$84+$M$85+$M$86+((B96-75)/1000)/($I$83/1000)+(75/1000)/(($I$83/1000)*1.2)+$M$87) -> 0.051246439
A98: Let terrændæk | B98: Gulvvarme i let terrændæk med radonsugeplade
C99: 41 | D99: 38 | E99: 35 | F99: 34 | G99: 33 | H99: 31 | I99: 22 | K99: Delelementer | L99: mm | M99: Isolans
B100: 100 | C100: =1/($M$100+((B100-75)/1000)/($C$99/1000)+(25/1000)/(($C$99/1000)*1.2)+$M$101+$M$102) -> 0.26831469 | D100: =1/($M$100+((B100-75)/1000)/($D$99/1000)+(25/1000)/(($D$99/1000)*1.2)+$M$101+$M$102) -> 0.262108 | E100: =1/($M$100+((B100-75)/1000)/($E$99/1000)+(25/1000)/(($E$99/1000)*1.2)+$M$101+$M$102) -> 0.25519288 | F100: =1/($M$100+((B100-75)/1000)/($F$99/1000)+(25/1000)/(($F$99/1000)*1.2)+$M$101+$M$102) -> 0.25270904 | G100: =1/($M$100+((B100-75)/1000)/($G$99/1000)+(25/1000)/(($G$99/1000)*1.2)+$M$101+$M$102) -> 0.25012696 | H100: =1/($M$100+((B100-75)/1000)/($H$99/1000)+(25/1000)/(($H$99/1000)*1.2)+$M$101+$M$102) -> 0.2446438 | I100: =1/($M$100+((B100-75)/1000)/($I$99/1000)+(25/1000)/(($I$99/1000)*1.2)+$M$101+$M$102) -> 0.21310992 | K100: Gulvvarmeplade (Reelt 30mm) | L100: 10 | M100: =(L100/1000)/(33/1000) -> 0.3030303
B101: 125 | C101: =1/($M$100+((B101-75)/1000)/($C$99/1000)+(25/1000)/(($C$99/1000)*1.2)+$M$101+$M$102) -> 0.23058885 | D101: =1/($M$100+((B101-75)/1000)/($D$99/1000)+(25/1000)/(($D$99/1000)*1.2)+$M$101+$M$102) -> 0.22355781 | E101: =1/($M$100+((B101-75)/1000)/($E$99/1000)+(25/1000)/(($E$99/1000)*1.2)+$M$101+$M$102) -> 0.21584798 | F101: =1/($M$100+((B101-75)/1000)/($F$99/1000)+(25/1000)/(($F$99/1000)*1.2)+$M$101+$M$102) -> 0.21310992 | G101: =1/($M$100+((B101-75)/1000)/($G$99/1000)+(25/1000)/(($G$99/1000)*1.2)+$M$101+$M$102) -> 0.21028082 | H101: =1/($M$100+((B101-75)/1000)/($H$99/1000)+(25/1000)/(($H$99/1000)*1.2)+$M$101+$M$102) -> 0.20433071 | I101: =1/($M$100+((B101-75)/1000)/($I$99/1000)+(25/1000)/(($I$99/1000)*1.2)+$M$101+$M$102) -> 0.17156255 | K101: Radonsugeplade + Tek. Inst. (Reelt 50mm) | L101: 20 | M101: =0.301+(L101/1000)/((33/1000)*1.2) -> 0.80605051
B102: 150 | C102: =1/($M$100+((B102-75)/1000)/($C$99/1000)+(25/1000)/(($C$99/1000)*1.2)+$M$101+$M$102) -> 0.202164 | D102: =1/($M$100+((B102-75)/1000)/($D$99/1000)+(25/1000)/(($D$99/1000)*1.2)+$M$101+$M$102) -> 0.19489338 | E102: =1/($M$100+((B102-75)/1000)/($E$99/1000)+(25/1000)/(($E$99/1000)*1.2)+$M$101+$M$102) -> 0.1870146 | F102: =1/($M$100+((B102-75)/1000)/($F$99/1000)+(25/1000)/(($F$99/1000)*1.2)+$M$101+$M$102) -> 0.18423982 | G102: =1/($M$100+((B102-75)/1000)/($G$99/1000)+(25/1000)/(($G$99/1000)*1.2)+$M$101+$M$102) -> 0.18138546 | H102: =1/($M$100+((B102-75)/1000)/($H$99/1000)+(25/1000)/(($H$99/1000)*1.2)+$M$101+$M$102) -> 0.17542387 | I102: =1/($M$100+((B102-75)/1000)/($I$99/1000)+(25/1000)/(($I$99/1000)*1.2)+$M$101+$M$102) -> 0.1435721 | K102: Rj | M102: 1.5
B103: 175 | C103: =1/($M$100+((B103-75)/1000)/($C$99/1000)+(25/1000)/(($C$99/1000)*1.2)+$M$101+$M$102) -> 0.17997798 | D103: =1/($M$100+((B103-75)/1000)/($D$99/1000)+(25/1000)/(($D$99/1000)*1.2)+$M$101+$M$102) -> 0.17274423 | E103: =1/($M$100+((B103-75)/1000)/($E$99/1000)+(25/1000)/(($E$99/1000)*1.2)+$M$101+$M$102) -> 0.16497671 | F103: =1/($M$100+((B103-75)/1000)/($F$99/1000)+(25/1000)/(($F$99/1000)*1.2)+$M$101+$M$102) -> 0.16225858 | G103: =1/($M$100+((B103-75)/1000)/($G$99/1000)+(25/1000)/(($G$99/1000)*1.2)+$M$101+$M$102) -> 0.15947191 | H103: =1/($M$100+((B103-75)/1000)/($H$99/1000)+(25/1000)/(($H$99/1000)*1.2)+$M$101+$M$102) -> 0.1536823 | I103: =1/($M$100+((B103-75)/1000)/($I$99/1000)+(25/1000)/(($I$99/1000)*1.2)+$M$101+$M$102) -> 0.12343386 | K103: OBS: Bæreevne ved letteterrændæk mindskes ved brug af radonplade
B104: 200 | C104: =1/($M$100+((B104-75)/1000)/($C$99/1000)+(25/1000)/(($C$99/1000)*1.2)+$M$101+$M$102) -> 0.16217992 | D104: =1/($M$100+((B104-75)/1000)/($D$99/1000)+(25/1000)/(($D$99/1000)*1.2)+$M$101+$M$102) -> 0.15511571 | E104: =1/($M$100+((B104-75)/1000)/($E$99/1000)+(25/1000)/(($E$99/1000)*1.2)+$M$101+$M$102) -> 0.14758519 | F104: =1/($M$100+((B104-75)/1000)/($F$99/1000)+(25/1000)/(($F$99/1000)*1.2)+$M$101+$M$102) -> 0.14496333 | G104: =1/($M$100+((B104-75)/1000)/($G$99/1000)+(25/1000)/(($G$99/1000)*1.2)+$M$101+$M$102) -> 0.14228247 | H104: =1/($M$100+((B104-75)/1000)/($H$99/1000)+(25/1000)/(($H$99/1000)*1.2)+$M$101+$M$102) -> 0.13673565 | I104: =1/($M$100+((B104-75)/1000)/($I$99/1000)+(25/1000)/(($I$99/1000)*1.2)+$M$101+$M$102) -> 0.10825008
...

Sheet Tabel
A1: Terrændæk tabelopslag | B1: Indtast i de orange felter
A3: Type terrændæk | B3: Terrændæk med beton | D3: Din valgte terrændækstabel | M3: Din valgte terrændækstabel
A4: Gulvvarme | B4: Ja | D4: Højde | E4: λ=41 | F4: λ=38 | G4: λ=35 | H4: λ=34 | I4: λ=33 | J4: λ=31 | K4: λ=22 | N4: λ=41 | O4: λ=38 | P4: λ=35 | Q4: λ=34 | R4: λ=33 | S4: λ=31 | T4: λ=22
A5: Radonsugeplade | B5: Ja | D5: {=_xlfn.XLOOKUP( B6, INDEX( CHOOSE( 1+(B3="Let terrændæk")*4+(B5="Ja")*2+(B4="Ja"), Tb_ug_ur, Tb_mg_ur, Tb_ug_mr, Tb_mg_mr, Tl_ug_ur, Tl_mg_ur, Tl_ug_mr, Tl_mg_mr ), , 1 ), CHOOSE( 1+(B3="Let terrændæk")*4+(B5="Ja")*2+(B4="Ja"), Tb_ug_ur, Tb_mg_ur, Tb_ug_mr, Tb_mg_mr, Tl_ug_ur, Tl_mg_ur, Tl_ug_mr, Tl_mg_mr ) )} -> 350 | E5: 0.10559613 | F5: 0.099604727 | G5: 0.09339704 | H5: 0.091277713 | I5: 0.089132574 | J5: 0.084762951 | K5: 0.063687914 | M5: 100 | N5: {=CHOOSE( 1 +(B3="Let terrændæk")*4 +(B5="Ja")*2 +(B4="Ja"), Tb_ug_ur_t, Tb_mg_ur_t, Tb_ug_mr_t, Tb_mg_mr_t, Tl_ug_ur_t, Tl_mg_ur_t, Tl_ug_mr_t, Tl_mg_mr_t )} -> 0.29651746 | O5: 0.2889558 | P5: 0.28057414 | Q5: 0.27757455 | R5: 0.27446247 | S5: 0.26787452 | T5: 0.23052471
A6: Højde tilgængelig | B6: 350 | M6: 125 | N6: 0.25111503 | O6: 0.24279909 | P6: 0.23373191 | Q6: 0.23052471 | R6: 0.22721793 | S6: 0.2202865 | T6: 0.18267198
A7: Lambda værdi | B7: λ=33 | M7: 150 | N7: 0.21777028 | O7: 0.20935716 | P7: 0.20029276 | Q7: 0.19711332 | R7: 0.19384966 | S7: 0.18705594 | T7: 0.15127089
M8: 175 | N8: 0.19224296 | O8: 0.18401224 | P8: 0.1752241 | Q8: 0.17216095 | R8: 0.16902705 | S8: 0.16253698 | T8: 0.12908188
A9: Endelig U-værdi ud fra dine valg | B9: =_xlfn.LET( _xlpm.T, CHOOSE(1+(B3="Let terrændæk")*4+(B5="Ja")*2+(B4="Ja"), Tb_ug_ur_l, Tb_mg_ur_l, Tb_ug_mr_l, Tb_mg_mr_l, Tl_ug_ur_l, Tl_mg_ur_l, Tl_ug_mr_l, Tl_mg_mr_l ), _xlpm.r, MATCH(B6, INDEX(_xlpm.T,,1), 0), _xlpm.c, MATCH(B7, INDEX(_xlpm.T,1,), 0), INDEX(_xlpm.T, _xlpm.r, _xlpm.c) ) -> 0.089132574 | M9: 200 | N9: 0.17207241 | O9: 0.1641412 | P9: 0.1557326 | Q9: 0.15281612 | R9: 0.14983993 | S9: 0.14370092 | T9: 0.11256971
M10: 225 | N10: 0.1557326 | O10: 0.14814353 | P10: 0.14014339 | Q10: 0.1373795 | R10: 0.1345648 | S10: 0.12877721 | T10: 0.099802909
M11: 250 | N11: 0.14222689 | O11: 0.13498728 | P11: 0.12739122 | Q11: 0.1247754 | R11: 0.12211593 | S11: 0.1166616 | T11: 0.089636966
M12: 275 | N12: 0.13087677 | O12: 0.12397719 | P12: 0.11676623 | Q12: 0.1142897 | R12: 0.11177536 | S12: 0.10662967 | T12: 0.081350581
M13: 300 | N13: 0.12120431 | O13: 0.1146277 | P13: 0.10777713 | Q13: 0.10542975 | R13: 0.10304932 | S13: 0.098186457 | T13: 0.074466602
M14: 325 | N14: 0.11286315 | O14: 0.10658947 | P14: 0.10007314 | Q14: 0.097844651 | R14: 0.095587059 | S14: 0.090982244 | T14: 0.068656786
M15: 350 | N15: 0.10559613 | O15: 0.099604727 | P15: 0.09339704 | Q15: 0.091277713 | R15: 0.089132574 | S15: 0.084762951 | T15: 0.063687914
M16: 375 | N16: 0.09920832 | O16: 0.093479095 | P16: 0.08755599 | Q16: 0.085536826 | R16: 0.083494626 | S16: 0.079339522 | T16: 0.059389724
M17: 400 | N17: 0.093549256 | O17: 0.088063257 | P17: 0.082402536 | Q17: 0.080475351 | R17: 0.078527487 | S17: 0.074568377 | T17: 0.05563501
A25: BETON | D25: Terrændæk med beton og gulvvarme
E26: λ=41 | F26: λ=38 | G26: λ=35 | H26: λ=34 | I26: λ=33 | J26: λ=31 | K26: λ=22
D27: 100 | E27: =Opskrift!C4 -> 0.27403669 | F27: =Opskrift!D4 -> 0.26194251 | G27: =Opskrift!E4 -> 0.249066 | H27: =Opskrift!F4 -> 0.24458672 | I27: =Opskrift!G4 -> 0.24000873 | J27: =Opskrift!H4 -> 0.23054326 | K27: =Opskrift!I4 -> 0.18207399
D28: 125 | E28: =Opskrift!C5 -> 0.23480228 | F28: =Opskrift!D5 -> 0.22343741 | G28: =Opskrift!E5 -> 0.21144842 | H28: =Opskrift!F5 -> 0.20730443 | I28: =Opskrift!G5 -> 0.20308317 | J28: =Opskrift!H5 -> 0.19440003 | K28: =Opskrift!I5 -> 0.15086059
D29: 150 | E29: =Opskrift!C6 -> 0.20539539 | F29: =Opskrift!D6 -> 0.19480187 | G29: =Opskrift!E6 -> 0.18370293 | H29: =Opskrift!F6 -> 0.17988466 | I29: =Opskrift!G6 -> 0.17600469 | J29: =Opskrift!H6 -> 0.16805356 | K29: =Opskrift!I6 -> 0.128783
A30: Med gulvvarme | D30: 175 | E30: =Opskrift!C7 -> 0.18253456 | F30: =Opskrift!D7 -> 0.17267233 | G30: =Opskrift!E7 -> 0.16239415 | H30: =Opskrift!F7 -> 0.15887108 | I30: =Opskrift!G7 -> 0.15529777 | J30: =Opskrift!H7 -> 0.14799609 | K30: =Opskrift!I7 -> 0.11234234
A31: Uden radonsugeplade | D31: 200 | E31: =Opskrift!C8 -> 0.16425295 | F31: =Opskrift!D8 -> 0.15505774 | G31: =Opskrift!E8 -> 0.14551502 | H31: =Opskrift!F8 -> 0.14225346 | I31: =Opskrift!G8 -> 0.13895029 | J31: =Opskrift!H8 -> 0.1322159 | K31: =Opskrift!I8 -> 0.099624145
D32: 225 | E32: =Opskrift!C9 -> 0.14929993 | F32: =Opskrift!D9 -> 0.14070426 | G32: =Opskrift!E9 -> 0.13181433 | H32: =Opskrift!F9 -> 0.128783 | I32: =Opskrift!G9 -> 0.12571668 | J32: =Opskrift!H9 -> 0.11947662 | K32: =Opskrift!I9 -> 0.089492739
D33: 250 | E33: =Opskrift!C10 -> 0.13684228 | F33: =Opskrift!D10 -> 0.128783 | G33: =Opskrift!E10 -> 0.12047156 | H33: =Opskrift!F10 -> 0.11764299 | I33: =Opskrift!G10 -> 0.1147846 | J33: =Opskrift!H10 -> 0.1089765 | K33: =Opskrift!I10 -> 0.081231769
D34: 275 | E34: =Opskrift!C11 -> 0.12630347 | F34: =Opskrift!D11 -> 0.11872403 | G34: =Opskrift!E11 -> 0.11092623 | H34: =Opskrift!F11 -> 0.10827681 | I34: =Opskrift!G11 -> 0.10560169 | J34: =Opskrift!H11 -> 0.10017288 | K34: =Opskrift!I11 -> 0.074367035
D35: 300 | E35: =Opskrift!C12 -> 0.11727186 | F35: =Opskrift!D12 -> 0.11012258 | G35: =Opskrift!E12 -> 0.10278247 | H35: =Opskrift!F12 -> 0.10029203 | I35: =Opskrift!G12 -> 0.097779226 | J35: =Opskrift!H12 -> 0.092685333 | K35: =Opskrift!I12 -> 0.068572141
D36: 325 | E36: =Opskrift!C13 -> 0.1094457 | F36: =Opskrift!D13 -> 0.10268328 | G36: =Opskrift!E13 -> 0.095752684 | H36: =Opskrift!F13 -> 0.093404027 | I36: =Opskrift!G13 -> 0.091035738 | J36: =Opskrift!H13 -> 0.086239272 | K36: =Opskrift!I13 -> 0.063615071
D37: 350 | E37: =Opskrift!C14 -> 0.10259875 | F37: =Opskrift!D14 -> 0.096185486 | G37: =Opskrift!E14 -> 0.089622943 | H37: =Opskrift!F14 -> 0.087401352 | I37: =Opskrift!G14 -> 0.085162389 | J37: =Opskrift!H14 -> 0.080631527 | K37: =Opskrift!I14 -> 0.059326376
D38: 375 | E38: =Opskrift!C15 -> 0.096558058 | F38: =Opskrift!D15 -> 0.090461114 | G38: =Opskrift!E15 -> 0.084230792 | H38: =Opskrift!F15 -> 0.08212362 | I38: =Opskrift!G15 -> 0.08000097 | J38: =Opskrift!H15 -> 0.075708547 | K38: =Opskrift!I15 -> 0.055579415
D39: 400 | E39: =Opskrift!C16 -> 0.091189128 | F39: =Opskrift!D16 -> 0.085379828 | G39: =Opskrift!E16 -> 0.079450655 | H39: =Opskrift!F16 -> 0.077446983 | I39: =Opskrift!G16 -> 0.075429433 | J39: =Opskrift!H16 -> 0.071352123 | K39: =Opskrift!I16 -> 0.052277642
A41: BETON | D41: Terrændæk med beton uden gulvvarme
E42: λ=41 | F42: λ=38 | G42: λ=35 | H42: λ=34 | I42: λ=33 | J42: λ=31 | K42: λ=22
D43: 100 | E43: =Opskrift!C20 -> 0.25240806 | F43: =Opskrift!D20 -> 0.24211176 | G43: =Opskrift!E20 -> 0.23107003 | H43: =Opskrift!F20 -> 0.22720964 | I43: =Opskrift!G20 -> 0.22325378 | J43: =Opskrift!H20 -> 0.21504114 | K43: =Opskrift!I20 -> 0.17226633
D44: 125 | E44: =Opskrift!C21 -> 0.21874205 | F44: =Opskrift!D21 -> 0.20884594 | G44: =Opskrift!E21 -> 0.19833486 | H44: =Opskrift!F21 -> 0.1946845 | I44: =Opskrift!G21 -> 0.19095692 | J44: =Opskrift!H21 -> 0.18326012 | K44: =Opskrift!I21 -> 0.14406464
D45: 150 | E45: =Opskrift!C22 -> 0.19299986 | F45: =Opskrift!D22 -> 0.18361718 | G45: =Opskrift!E22 -> 0.1737238 | H45: =Opskrift!F22 -> 0.17030524 | I45: =Opskrift!G22 -> 0.16682351 | J45: =Opskrift!H22 -> 0.1596634 | K45: =Opskrift!I22 -> 0.12379773
A46: Uden gulvvarme | D46: 175 | E46: =Opskrift!C23 -> 0.17267856 | F46: =Opskrift!D23 -> 0.16382678 | G46: =Opskrift!E23 -> 0.15454638 | H46: =Opskrift!F23 -> 0.15135224 | I46: =Opskrift!G23 -> 0.1481057 | J46: =Opskrift!H23 -> 0.14145016 | K46: =Opskrift!I23 -> 0.10852984
A47: Uden radonsugeplade | D47: 200 | E47: =Opskrift!C24 -> 0.15622893 | F47: =Opskrift!D24 -> 0.14788737 | G47: =Opskrift!E24 -> 0.13918204 | H47: =Opskrift!F24 -> 0.13619528 | I47: =Opskrift!G24 -> 0.13316447 | J47: =Opskrift!H24 -> 0.12696672 | K47: =Opskrift!I24 -> 0.096614441
D48: 225 | E48: =Opskrift!C25 -> 0.14264075 | F48: =Opskrift!D25 -> 0.13477457 | G48: =Opskrift!E25 -> 0.12659637 | H48: =Opskrift!F25 -> 0.12379773 | I48: =Opskrift!G25 -> 0.1209616 | J48: =Opskrift!H25 -> 0.11517379 | K48: =Opskrift!I25 -> 0.087056575
D49: 250 | E49: =Opskrift!C26 -> 0.13122713 | F49: =Opskrift!D26 -> 0.12379773 | G49: =Opskrift!E26 -> 0.11609808 | H49: =Opskrift!F26 -> 0.11346891 | I49: =Opskrift!G26 -> 0.11080747 | J49: =Opskrift!H26 -> 0.10538538 | K49: =Opskrift!I26 -> 0.079219549
D50: 275 | E50: =Opskrift!C27 -> 0.12150474 | F50: =Opskrift!D27 -> 0.11447428 | G50: =Opskrift!E27 -> 0.10720765 | H50: =Opskrift!F27 -> 0.1047309 | I50: =Opskrift!G27 -> 0.1022261 | J50: =Opskrift!H27 -> 0.097130434 | K50: =Opskrift!I27 -> 0.072677004
D51: 300 | E51: =Opskrift!C28 -> 0.11312361 | F51: =Opskrift!D28 -> 0.1064568 | G51: =Opskrift!E28 -> 0.099581975 | H51: =Opskrift!F28 -> 0.097242451 | I51: =Opskrift!G28 -> 0.094878339 | J51: =Opskrift!H28 -> 0.090074787 | K51: =Opskrift!I28 -> 0.067132683
D52: 325 | E52: =Opskrift!C29 -> 0.1058241 | F52: =Opskrift!D29 -> 0.099488861 | G52: =Opskrift!E29 -> 0.092969085 | H52: =Opskrift!F29 -> 0.090753418 | I52: =Opskrift!G29 -> 0.088516026 | J52: =Opskrift!H29 -> 0.083974778 | K52: =Opskrift!I29 -> 0.062374324
D53: 350 | E53: =Opskrift!C30 -> 0.099409511 | F53: =Opskrift!D30 -> 0.093377035 | G53: =Opskrift!E30 -> 0.087179782 | H53: =Opskrift!F30 -> 0.085076241 | I53: =Opskrift!G30 -> 0.082953372 | J53: =Opskrift!H30 -> 0.078648572 | K53: =Opskrift!I30 -> 0.058245863
D54: 375 | E54: =Opskrift!C31 -> 0.093728129 | F54: =Opskrift!D31 -> 0.087972675 | G54: =Opskrift!E31 -> 0.082069227 | H54: =Opskrift!F31 -> 0.080067532 | I54: =Opskrift!G31 -> 0.078048532 | J54: =Opskrift!H31 -> 0.07395771 | K54: =Opskrift!I31 -> 0.054629987
D55: 400 | E55: =Opskrift!C32 -> 0.088661035 | F55: =Opskrift!D32 -> 0.083159663 | G55: =Opskrift!E32 -> 0.077524663 | H55: =Opskrift!F32 -> 0.07561579 | I55: =Opskrift!G32 -> 0.073691335 | J55: =Opskrift!H32 -> 0.06979491 | K55: =Opskrift!I32 -> 0.051436814
A57: BETON | D57: Terrændæk med beton, radonsugeplade og gulvvarme
E58: λ=41 | F58: λ=38 | G58: λ=35 | H58: λ=34 | I58: λ=33 | J58: λ=31 | K58: λ=22
D59: 100 | E59: =Opskrift!C36 -> 0.29651746 | F59: =Opskrift!D36 -> 0.2889558 | G59: =Opskrift!E36 -> 0.28057414 | H59: =Opskrift!F36 -> 0.27757455 | I59: =Opskrift!G36 -> 0.27446247 | J59: =Opskrift!H36 -> 0.26787452 | K59: =Opskrift!I36 -> 0.23052471
D60: 125 | E60: =Opskrift!C37 -> 0.25111503 | F60: =Opskrift!D37 -> 0.24279909 | G60: =Opskrift!E37 -> 0.23373191 | H60: =Opskrift!F37 -> 0.23052471 | I60: =Opskrift!G37 -> 0.22721793 | J60: =Opskrift!H37 -> 0.2202865 | K60: =Opskrift!I37 -> 0.18267198
D61: 150 | E61: =Opskrift!C38 -> 0.21777028 | F61: =Opskrift!D38 -> 0.20935716 | G61: =Opskrift!E38 -> 0.20029276 | H61: =Opskrift!F38 -> 0.19711332 | I61: =Opskrift!G38 -> 0.19384966 | J61: =Opskrift!H38 -> 0.18705594 | K61: =Opskrift!I38 -> 0.15127089
A62: Med gulvvarme | D62: 175 | E62: =Opskrift!C39 -> 0.19224296 | F62: =Opskrift!D39 -> 0.18401224 | G62: =Opskrift!E39 -> 0.1752241 | H62: =Opskrift!F39 -> 0.17216095 | I62: =Opskrift!G39 -> 0.16902705 | J62: =Opskrift!H39 -> 0.16253698 | K62: =Opskrift!I39 -> 0.12908188
A63: Med radonsugeplade | D63: 200 | E63: =Opskrift!C40 -> 0.17207241 | F63: =Opskrift!D40 -> 0.1641412 | G63: =Opskrift!E40 -> 0.1557326 | H63: =Opskrift!F40 -> 0.15281612 | I63: =Opskrift!G40 -> 0.14983993 | J63: =Opskrift!H40 -> 0.14370092 | K63: =Opskrift!I40 -> 0.11256971
D64: 225 | E64: =Opskrift!C41 -> 0.1557326 | F64: =Opskrift!D41 -> 0.14814353 | G64: =Opskrift!E41 -> 0.14014339 | H64: =Opskrift!F41 -> 0.1373795 | I64: =Opskrift!G41 -> 0.1345648 | J64: =Opskrift!H41 -> 0.12877721 | K64: =Opskrift!I41 -> 0.099802909
D65: 250 | E65: =Opskrift!C42 -> 0.14222689 | F65: =Opskrift!D42 -> 0.13498728 | G65: =Opskrift!E42 -> 0.12739122 | H65: =Opskrift!F42 -> 0.1247754 | I65: =Opskrift!G42 -> 0.12211593 | J65: =Opskrift!H42 -> 0.1166616 | K65: =Opskrift!I42 -> 0.089636966
D66: 275 | E66: =Opskrift!C43 -> 0.13087677 | F66: =Opskrift!D43 -> 0.12397719 | G66: =Opskrift!E43 -> 0.11676623 | H66: =Opskrift!F43 -> 0.1142897 | I66: =Opskrift!G43 -> 0.11177536 | J66: =Opskrift!H43 -> 0.10662967 | K66: =Opskrift!I43 -> 0.081350581
D67: 300 | E67: =Opskrift!C44 -> 0.12120431 | F67: =Opskrift!D44 -> 0.1146277 | G67: =Opskrift!E44 -> 0.10777713 | H67: =Opskrift!F44 -> 0.10542975 | I67: =Opskrift!G44 -> 0.10304932 | J67: =Opskrift!H44 -> 0.098186457 | K67: =Opskrift!I44 -> 0.074466602
D68: 325 | E68: =Opskrift!C45 -> 0.11286315 | F68: =Opskrift!D45 -> 0.10658947 | G68: =Opskrift!E45 -> 0.10007314 | H68: =Opskrift!F45 -> 0.097844651 | I68: =Opskrift!G45 -> 0.095587059 | J68: =Opskrift!H45 -> 0.090982244 | K68: =Opskrift!I45 -> 0.068656786
D69: 350 | E69: =Opskrift!C46 -> 0.10559613 | F69: =Opskrift!D46 -> 0.099604727 | G69: =Opskrift!E46 -> 0.09339704 | H69: =Opskrift!F46 -> 0.091277713 | I69: =Opskrift!G46 -> 0.089132574 | J69: =Opskrift!H46 -> 0.084762951 | K69: =Opskrift!I46 -> 0.063687914
D70: 375 | E70: =Opskrift!C47 -> 0.09920832 | F70: =Opskrift!D47 -> 0.093479095 | G70: =Opskrift!E47 -> 0.08755599 | H70: =Opskrift!F47 -> 0.085536826 | I70: =Opskrift!G47 -> 0.083494626 | J70: =Opskrift!H47 -> 0.079339522 | K70: =Opskrift!I47 -> 0.059389724
D71: 400 | E71: =Opskrift!C48 -> 0.093549256 | F71: =Opskrift!D48 -> 0.088063257 | G71: =Opskrift!E48 -> 0.082402536 | H71: =Opskrift!F48 -> 0.080475351 | I71: =Opskrift!G48 -> 0.078527487 | J71: =Opskrift!H48 -> 0.074568377 | K71: =Opskrift!I48 -> 0.05563501
A73: BETON | D73: Terrændæk med beton, radonsugeplade og ingen gulvvarme
E74: λ=41 | F74: λ=38 | G74: λ=35 | H74: λ=34 | I74: λ=33 | J74: λ=31 | K74: λ=22
D75: 100 | E75: =Opskrift!C52 -> 0.27135754 | F75: =Opskrift!D52 -> 0.26501094 | G75: =Opskrift!E52 -> 0.25794386 | H75: =Opskrift!F52 -> 0.25540644 | I75: =Opskrift!G52 -> 0.25276923 | J75: =Opskrift!H52 -> 0.24717092 | K75: =Opskrift!I52 -> 0.21502499
D76: 125 | E76: =Opskrift!C53 -> 0.23283261 | F76: =Opskrift!D53 -> 0.22566619 | G76: =Opskrift!E53 -> 0.2178128 | H76: =Opskrift!F53 -> 0.21502499 | I76: =Opskrift!G53 -> 0.21214516 | J76: =Opskrift!H53 -> 0.20609059 | K76: =Opskrift!I53 -> 0.17280153
D77: 150 | E77: =Opskrift!C54 -> 0.2038866 | F77: =Opskrift!D54 -> 0.19649382 | G77: =Opskrift!E54 -> 0.18848777 | H77: =Opskrift!F54 -> 0.18566943 | I77: =Opskrift!G54 -> 0.18277094 | J77: =Opskrift!H54 -> 0.17671945 | K77: =Opskrift!I54 -> 0.14443876
A78: Uden gulvvarme | D78: 175 | E78: =Opskrift!C55 -> 0.18134197 | F78: =Opskrift!D55 -> 0.1740004 | G78: =Opskrift!E55 -> 0.16612207 | H78: =Opskrift!F55 -> 0.16336638 | I78: =Opskrift!G55 -> 0.16054186 | J78: =Opskrift!H55 -> 0.15467573 | K78: =Opskrift!I55 -> 0.1240739
A79: Med radonsugeplade | D79: 200 | E79: =Opskrift!C56 -> 0.16328665 | F79: =Opskrift!D56 -> 0.15612783 | G79: =Opskrift!E56 -> 0.14850113 | H79: =Opskrift!F56 -> 0.14584691 | I79: =Opskrift!G56 -> 0.14313358 | J79: =Opskrift!H56 -> 0.13752151 | K79: =Opskrift!I56 -> 0.10874203
D80: 225 | E80: =Opskrift!C57 -> 0.14850113 | F80: =Opskrift!D57 -> 0.14158484 | G80: =Opskrift!E57 -> 0.13425988 | H80: =Opskrift!F57 -> 0.13172109 | I80: =Opskrift!G57 -> 0.12913129 | J80: =Opskrift!H57 -> 0.12379238 | K80: =Opskrift!I57 -> 0.096782558
D81: 250 | E81: =Opskrift!C58 -> 0.13617093 | F81: =Opskrift!D58 -> 0.1295203 | G81: =Opskrift!E58 -> 0.12251108 | H81: =Opskrift!F58 -> 0.12008993 | I81: =Opskrift!G58 -> 0.11762447 | J81: =Opskrift!H58 -> 0.11255566 | K81: =Opskrift!I58 -> 0.08719305
D82: 275 | E82: =Opskrift!C59 -> 0.12573132 | F82: =Opskrift!D59 -> 0.11935037 | G82: =Opskrift!E59 -> 0.11265305 | H82: =Opskrift!F59 -> 0.11034621 | I82: =Opskrift!G59 -> 0.1080006 | J82: =Opskrift!H59 -> 0.10318911 | K82: =Opskrift!I59 -> 0.079332543
D83: 300 | E83: =Opskrift!C60 -> 0.11677845 | F83: =Opskrift!D60 -> 0.11066125 | G83: =Opskrift!E60 -> 0.10426335 | H83: =Opskrift!F60 -> 0.10206497 | I83: =Opskrift!G60 -> 0.099832444 | J83: =Opskrift!H60 -> 0.095261717 | K83: =Opskrift!I60 -> 0.072772094
D84: 325 | E84: =Opskrift!C61 -> 0.10901583 | F84: =Opskrift!D61 -> 0.10315147 | G84: =Opskrift!E61 -> 0.097036655 | H84: =Opskrift!F61 -> 0.094939938 | I84: =Opskrift!G61 -> 0.092812942 | J84: =Opskrift!H61 -> 0.08846545 | K84: =Opskrift!I61 -> 0.06721381
D85: 350 | E85: =Opskrift!C62 -> 0.10222089 | F85: =Opskrift!D62 -> 0.096596178 | G85: =Opskrift!E62 -> 0.090746821 | H85: =Opskrift!F62 -> 0.088744774 | I85: =Opskrift!G62 -> 0.086715714 | J85: =Opskrift!H62 -> 0.082574341 | K85: =Opskrift!I62 -> 0.062444352
D86: 375 | E86: =Opskrift!C63 -> 0.096223312 | F86: =Opskrift!D63 -> 0.090824284 | G86: =Opskrift!E63 -> 0.085222754 | H86: =Opskrift!F63 -> 0.083308595 | I86: =Opskrift!G63 -> 0.081370202 | J86: =Opskrift!H63 -> 0.077418848 | K86: =Opskrift!I63 -> 0.058306923
D87: 400 | E87: =Opskrift!C64 -> 0.090890515 | F87: =Opskrift!D64 -> 0.085703272 | G87: =Opskrift!E64 -> 0.080332634 | H87: =Opskrift!F64 -> 0.078499976 | I87: =Opskrift!G64 -> 0.076645462 | J87: =Opskrift!H64 -> 0.072869287 | K87: =Opskrift!I64 -> 0.054683698
A89: Let terrændæk | D89: Let terrændæk med gulvvarme
E90: λ=41 | F90: λ=38 | G90: λ=35 | H90: λ=34 | I90: λ=33 | J90: λ=31 | K90: λ=22
D91: 100 | E91: =Opskrift!C68 -> 0.25398911 | F91: =Opskrift!D68 -> 0.24356609 | G91: =Opskrift!E68 -> 0.23239437 | H91: =Opskrift!F68 -> 0.22848997 | I91: =Opskrift!G68 -> 0.2244898 | J91: =Opskrift!H68 -> 0.21618766 | K91: =Opskrift!I68 -> 0.17300131
D92: 125 | E92: =Opskrift!C69 -> 0.21992848 | F92: =Opskrift!D69 -> 0.20992718 | G92: =Opskrift!E69 -> 0.19930975 | H92: =Opskrift!F69 -> 0.19562375 | I92: =Opskrift!G69 -> 0.19186047 | J92: =Opskrift!H69 -> 0.18409214 | K92: =Opskrift!I69 -> 0.14457831
D93: 150 | E93: =Opskrift!C70 -> 0.19392289 | F93: =Opskrift!D70 -> 0.18445245 | G93: =Opskrift!E70 -> 0.1744713 | H93: =Opskrift!F70 -> 0.17102355 | I93: =Opskrift!G70 -> 0.16751269 | J93: =Opskrift!H70 -> 0.16029458 | K93: =Opskrift!I70 -> 0.12417686
A94: Med gulvvarme | D94: 175 | E94: =Opskrift!C71 -> 0.17341707 | F94: =Opskrift!D71 -> 0.16449138 | G94: =Opskrift!E71 -> 0.15513768 | H94: =Opskrift!F71 -> 0.1519193 | I94: =Opskrift!G71 -> 0.14864865 | J94: =Opskrift!H71 -> 0.14194533 | K94: =Opskrift!I71 -> 0.1088211
A95: Uden radonsugeplade | D95: 200 | E95: =Opskrift!C72 -> 0.1568332 | F95: =Opskrift!D72 -> 0.14842872 | G95: =Opskrift!E72 -> 0.13966143 | H95: =Opskrift!F72 -> 0.13665428 | I95: =Opskrift!G72 -> 0.13360324 | J95: =Opskrift!H72 -> 0.12736554 | K95: =Opskrift!I72 -> 0.096845194
D96: 225 | E96: =Opskrift!C73 -> 0.14314431 | F96: =Opskrift!D73 -> 0.13522403 | G96: =Opskrift!E73 -> 0.12699285 | H96: =Opskrift!F73 -> 0.12417686 | I96: =Opskrift!G73 -> 0.12132353 | J96: =Opskrift!H73 -> 0.11550186 | K96: =Opskrift!I73 -> 0.087243886
D97: 250 | E97: =Opskrift!C74 -> 0.13165321 | F97: =Opskrift!D74 -> 0.12417686 | G97: =Opskrift!E74 -> 0.11643145 | H97: =Opskrift!F74 -> 0.11378733 | I97: =Opskrift!G74 -> 0.11111111 | J97: =Opskrift!H74 -> 0.10565999 | K97: =Opskrift!I74 -> 0.079374624
D98: 275 | E98: =Opskrift!C75 -> 0.12186993 | F98: =Opskrift!D75 -> 0.11479837 | G98: =Opskrift!E75 -> 0.10749186 | H98: =Opskrift!F75 -> 0.10500211 | I98: =Opskrift!G75 -> 0.10248447 | J98: =Opskrift!H75 -> 0.097363662 | K98: =Opskrift!I75 -> 0.072807501
D99: 300 | E99: =Opskrift!C76 -> 0.11344009 | F99: =Opskrift!D76 -> 0.10673703 | G99: =Opskrift!E76 -> 0.099827139 | H99: =Opskrift!F76 -> 0.097476217 | I99: =Opskrift!G76 -> 0.095100865 | J99: =Opskrift!H76 -> 0.090275327 | K99: =Opskrift!I76 -> 0.067244014
D100: 325 | E100: =Opskrift!C77 -> 0.106101 | F100: =Opskrift!D77 -> 0.099733567 | G100: =Opskrift!E77 -> 0.093182735 | H100: =Opskrift!F77 -> 0.090956994 | I100: =Opskrift!G77 -> 0.088709677 | J100: =Opskrift!H77 -> 0.08414905 | K100: =Opskrift!I77 -> 0.062470421
D101: 350 | E101: =Opskrift!C78 -> 0.099653826 | F101: =Opskrift!D78 -> 0.093592566 | G101: =Opskrift!E78 -> 0.087367625 | H101: =Opskrift!F78 -> 0.085255119 | I101: =Opskrift!G78 -> 0.083123426 | J101: =Opskrift!H78 -> 0.078801417 | K101: =Opskrift!I78 -> 0.058329651
D102: 375 | E102: =Opskrift!C79 -> 0.093945285 | F102: =Opskrift!D79 -> 0.088163954 | G102: =Opskrift!E79 -> 0.082235671 | H102: =Opskrift!F79 -> 0.080225948 | I102: =Opskrift!G79 -> 0.078199052 | J102: =Opskrift!H79 -> 0.074092851 | K102: =Opskrift!I79 -> 0.054703688
D103: 400 | E103: =Opskrift!C80 -> 0.088855323 | F103: =Opskrift!D80 -> 0.083330565 | G103: =Opskrift!E80 -> 0.077673167 | H103: =Opskrift!F80 -> 0.075757064 | I103: =Opskrift!G80 -> 0.073825503 | J103: =Opskrift!H80 -> 0.069915254 | K103: =Opskrift!I80 -> 0.051502146
A105: Let terrændæk | D105: Let terrændæk uden gulvvarme
E106: λ=41 | F106: λ=38 | G106: λ=35 | H106: λ=34 | I106: λ=33 | J106: λ=31 | K106: λ=22
D107: 100 | E107: =Opskrift!C84 -> 0.24788917 | F107: =Opskrift!D84 -> 0.23795099 | G107: =Opskrift!E84 -> 0.22727714 | H107: =Opskrift!F84 -> 0.22354142 | I107: =Opskrift!G84 -> 0.21971118 | J107: =Opskrift!H84 -> 0.21175247 | K107: =Opskrift!I84 -> 0.17014942
D108: 125 | E108: =Opskrift!C85 -> 0.2153401 | F108: =Opskrift!D85 -> 0.20574265 | G108: =Opskrift!E85 -> 0.19553399 | H108: =Opskrift!F85 -> 0.19198508 | I108: =Opskrift!G85 -> 0.1883592 | J108: =Opskrift!H85 -> 0.18086627 | K108: =Opskrift!I85 -> 0.14258113
D109: 150 | E109: =Opskrift!C86 -> 0.19034664 | F109: =Opskrift!D86 -> 0.18121406 | G109: =Opskrift!E86 -> 0.17157114 | H109: =Opskrift!F86 -> 0.16823597 | I109: =Opskrift!G86 -> 0.16483749 | J109: =Opskrift!H86 -> 0.15784327 | K109: =Opskrift!I86 -> 0.12270067
A110: Uden gulvvarme | D110: 175 | E110: =Opskrift!C87 -> 0.17055157 | F110: =Opskrift!D87 -> 0.16191106 | G110: =Opskrift!E87 -> 0.15284042 | H110: =Opskrift!F87 -> 0.1497157 | I110: =Opskrift!G87 -> 0.14653825 | J110: =Opskrift!H87 -> 0.14001974 | K110: =Opskrift!I87 -> 0.10768577
A111: Uden radonsugeplade | D111: 200 | E111: =Opskrift!C88 -> 0.15448584 | F111: =Opskrift!D88 -> 0.14632451 | G111: =Opskrift!E88 -> 0.1377969 | H111: =Opskrift!F88 -> 0.13486867 | I111: =Opskrift!G88 -> 0.13189597 | J111: =Opskrift!H88 -> 0.12581304 | K111: =Opskrift!I88 -> 0.095944965
D112: 225 | E112: =Opskrift!C89 -> 0.14118628 | F112: =Opskrift!D89 -> 0.13347535 | G112: =Opskrift!E89 -> 0.12544937 | H112: =Opskrift!F89 -> 0.12270067 | I112: =Opskrift!G89 -> 0.11991402 | J112: =Opskrift!H89 -> 0.11422366 | K112: =Opskrift!I89 -> 0.086512633
D113: 250 | E113: =Opskrift!C90 -> 0.1299951 | F113: =Opskrift!D90 -> 0.12270067 | G113: =Opskrift!E90 -> 0.11513271 | H113: =Opskrift!F90 -> 0.1125466 | I113: =Opskrift!G90 -> 0.10992775 | J113: =Opskrift!H90 -> 0.10458933 | K113: =Opskrift!I90 -> 0.07876888
...
