Workbook
Name Tb_mg_mr: Tabel!$D$57:$K$71
Name Tb_mg_mr_l: Tabel!$D$58:$K$71
Name Tb_mg_mr_t: Tabel!$E$59:$K$71
Name Tb_mg_ur: Tabel!$D$25:$K$39
Name Tb_mg_ur_l: Tabel!$D$26:$K$39
Name Tb_mg_ur_t: Tabel!$E$27:$K$39
Name Tb_ug_mr: Tabel!$D$73:$K$87
Name Tb_ug_mr_l: Tabel!$D$74:$K$87
Name Tb_ug_mr_t: Tabel!$E$75:$K$87
Name Tb_ug_ur: Tabel!$D$41:$K$55
Name Tb_ug_ur_l: Tabel!$D$42:$K$55
Name Tb_ug_ur_t: Tabel!$E$43:$K$55
Name Tl_mg_mr: Tabel!$D$121:$K$135
Name Tl_mg_mr_l: Tabel!$D$122:$K$135
Name Tl_mg_mr_t: Tabel!$E$123:$K$135
Name Tl_mg_ur: Tabel!$D$89:$K$103
Name Tl_mg_ur_l: Tabel!$D$90:$K$103
Name Tl_mg_ur_t: Tabel!$E$91:$K$103
Name Tl_ug_mr: Tabel!$D$137:$K$151
Name Tl_ug_mr_l: Tabel!$D$138:$K$151
Name Tl_ug_mr_t: Tabel!$E$139:$K$151
Name Tl_ug_ur: Tabel!$D$105:$K$119
Name Tl_ug_ur_l: Tabel!$D$106:$K$119
Name Tl_ug_ur_t: Tabel!$E$107:$K$119

Sheet Opskrift
K1: Udregninger for R-værdien (Isolansen) | Q1: Til tabelopslag
A2: BETON | B2: Gulvvarme i betondæk
C3: 41 | D3: 38 | E3: 35 | F3: 34 | G3: 33 | H3: 31 | I3: 22 | K3: Delelementer | L3: mm | M3: Isolans
B4: 100 | C4: =1/($M$4+((B4-75)/1000)/($C$3/1000)+(75/1000)/(($C$3/1000)*1.2)+$M$5) -> 0.27403669 | D4: =1/($M$4+((B4-75)/1000)/($D$3/1000)+(75/1000)/(($D$3/1000)*1.2)+$M$5) -> 0.26194251 | E4: =1/($M$4+((B4-75)/1000)/($E$3/1000)+(75/1000)/(($E$3/1000)*1.2)+$M$5) -> 0.249066 | F4: =1/($M$4+((B4-75)/1000)/($F$3/1000)+(75/1000)/(($F$3/1000)*1.2)+$M$5) -> 0.24458672 | G4: =1/($M$4+((B4-75)/1000)/($G$3/1000)+(75/1000)/(($G$3/1000)*1.2)+$M$5) -> 0.24000873 | H4: =1/($M$4+((B4-75)/1000)/($H$3/1000)+(75/1000)/(($H$3/1000)*1.2)+$M$5) -> 0.23054326 | I4: =1/($M$4+((B4-75)/1000)/($I$3/1000)+(75/1000)/(($I$3/1000)*1.2)+$M$5) -> 0.18207399 | K4: Beton | L4: 30 | M4: =(L4/1000)/(2000/1000) -> 0.015 | Q4: Let terrændæk
B5: 125 | C5: =1/($M$4+((B5-75)/1000)/($C$3/1000)+(75/1000)/(($C$3/1000)*1.2)+$M$5) -> 0.23480228 | D5: =1/($M$4+((B5-75)/1000)/($D$3/1000)+(75/1000)/(($D$3/1000)*1.2)+$M$5) -> 0.22343741 | E5: =1/($M$4+((B5-75)/1000)/($E$3/1000)+(75/1000)/(($E$3/1000)*1.2)+$M$5) -> 0.21144842 | F5: =1/($M$4+((B5-75)/1000)/($F$3/1000)+(75/1000)/(($F$3/1000)*1.2)+$M$5) -> 0.20730443 | G5: =1/($M$4+((B5-75)/1000)/($G$3/1000)+(75/1000)/(($G$3/1000)*1.2)+$M$5) -> 0.20308317 | H5: =1/($M$4+((B5-75)/1000)/($H$3/1000)+(75/1000)/(($H$3/1000)*1.2)+$M$5) -> 0.19440003 | I5: =1/($M$4+((B5-75)/1000)/($I$3/1000)+(75/1000)/(($I$3/1000)*1.2)+$M$5) -> 0.15086059 | K5: Rj | M5: 1.5 | Q5: Terrændæk med beton
B6: 150 | C6: =1/($M$4+((B6-75)/1000)/($C$3/1000)+(75/1000)/(($C$3/1000)*1.2)+$M$5) -> 0.20539539 | D6: =1/($M$4+((B6-75)/1000)/($D$3/1000)+(75/1000)/(($D$3/1000)*1.2)+$M$5) -> 0.19480187 | E6: =1/($M$4+((B6-75)/1000)/($E$3/1000)+(75/1000)/(($E$3/1000)*1.2)+$M$5) -> 0.18370293 | F6: =1/($M$4+((B6-75)/1000)/($F$3/1000)+(75/1000)/(($F$3/1000)*1.2)+$M$5) -> 0.17988466 | G6: =1/($M$4+((B6-75)/1000)/($G$3/1000)+(75/1000)/(($G$3/1000)*1.2)+$M$5) -> 0.17600469 | H6: =1/($M$4+((B6-75)/1000)/($H$3/1000)+(75/1000)/(($H$3/1000)*1.2)+$M$5) -> 0.16805356 | I6: =1/($M$4+((B6-75)/1000)/($I$3/1000)+(75/1000)/(($I$3/1000)*1.2)+$M$5) -> 0.128783
B7: 175 | C7: =1/($M$4+((B7-75)/1000)/($C$3/1000)+(75/1000)/(($C$3/1000)*1.2)+$M$5) -> 0.18253456 | D7: =1/($M$4+((B7-75)/1000)/($D$3/1000)+(75/1000)/(($D$3/1000)*1.2)+$M$5) -> 0.17267233 | E7: =1/($M$4+((B7-75)/1000)/($E$3/1000)+(75/1000)/(($E$3/1000)*1.2)+$M$5) -> 0.16239415 | F7: =1/($M$4+((B7-75)/1000)/($F$3/1000)+(75/1000)/(($F$3/1000)*1.2)+$M$5) -> 0.15887108 | G7: =1/($M$4+((B7-75)/1000)/($G$3/1000)+(75/1000)/(($G$3/1000)*1.2)+$M$5) -> 0.15529777 | H7: =1/($M$4+((B7-75)/1000)/($H$3/1000)+(75/1000)/(($H$3/1000)*1.2)+$M$5) -> 0.14799609 | I7: =1/($M$4+((B7-75)/1000)/($I$3/1000)+(75/1000)/(($I$3/1000)*1.2)+$M$5) -> 0.11234234 | P7: Med Gulvvarme | Q7: Ja
B8: 200 | C8: =1/($M$4+((B8-75)/1000)/($C$3/1000)+(75/1000)/(($C$3/1000)*1.2)+$M$5) -> 0.16425295 | D8: =1/($M$4+((B8-75)/1000)/($D$3/1000)+(75/1000)/(($D$3/1000)*1.2)+$M$5) -> 0.15505774 | E8: =1/($M$4+((B8-75)/1000)/($E$3/1000)+(75/1000)/(($E$3/1000)*1.2)+$M$5) -> 0.14551502 | F8: =1/($M$4+((B8-75)/1000)/($F$3/1000)+(75/1000)/(($F$3/1000)*1.2)+$M$5) -> 0.14225346 | G8: =1/($M$4+((B8-75)/1000)/($G$3/1000)+(75/1000)/(($G$3/1000)*1.2)+$M$5) -> 0.13895029 | H8: =1/($M$4+((B8-75)/1000)/($H$3/1000)+(75/1000)/(($H$3/1000)*1.2)+$M$5) -> 0.1322159 | I8: =1/($M$4+((B8-75)/1000)/($I$3/1000)+(75/1000)/(($I$3/1000)*1.2)+$M$5) -> 0.099624145 | P8: Uden Gulvvarme | Q8: Nej
B9: 225 | C9: =1/($M$4+((B9-75)/1000)/($C$3/1000)+(75/1000)/(($C$3/1000)*1.2)+$M$5) -> 0.14929993 | D9: =1/($M$4+((B9-75)/1000)/($D$3/1000)+(75/1000)/(($D$3/1000)*1.2)+$M$5) -> 0.14070426 | E9: =1/($M$4+((B9-75)/1000)/($E$3/1000)+(75/1000)/(($E$3/1000)*1.2)+$M$5) -> 0.13181433 | F9: =1/($M$4+((B9-75)/1000)/($F$3/1000)+(75/1000)/(($F$3/1000)*1.2)+$M$5) -> 0.128783 | G9: =1/($M$4+((B9-75)/1000)/($G$3/1000)+(75/1000)/(($G$3/1000)*1.2)+$M$5) -> 0.12571668 | H9: =1/($M$4+((B9-75)/1000)/($H$3/1000)+(75/1000)/(($H$3/1000)*1.2)+$M$5) -> 0.11947662 | I9: =1/($M$4+((B9-75)/1000)/($I$3/1000)+(75/1000)/(($I$3/1000)*1.2)+$M$5) -> 0.089492739
B10: 250 | C10: =1/($M$4+((B10-75)/1000)/($C$3/1000)+(75/1000)/(($C$3/1000)*1.2)+$M$5) -> 0.13684228 | D10: =1/($M$4+((B10-75)/1000)/($D$3/1000)+(75/1000)/(($D$3/1000)*1.2)+$M$5) -> 0.128783 | E10: =1/($M$4+((B10-75)/1000)/($E$3/1000)+(75/1000)/(($E$3/1000)*1.2)+$M$5) -> 0.12047156 | F10: =1/($M$4+((B10-75)/1000)/($F$3/1000)+(75/1000)/(($F$3/1000)*1.2)+$M$5) -> 0.11764299 | G10: =1/($M$4+((B10-75)/1000)/($G$3/1000)+(75/1000)/(($G$3/1000)*1.2)+$M$5) -> 0.1147846 | H10: =1/($M$4+((B10-75)/1000)/($H$3/1000)+(75/1000)/(($H$3/1000)*1.2)+$M$5) -> 0.1089765 | I10: =1/($M$4+((B10-75)/1000)/($I$3/1000)+(75/1000)/(($I$3/1000)*1.2)+$M$5) -> 0.081231769 | P10: Med Radonsugeplade | Q10: Ja
B11: 275 | C11: =1/($M$4+((B11-75)/1000)/($C$3/1000)+(75/1000)/(($C$3/1000)*1.2)+$M$5) -> 0.12630347 | D11: =1/($M$4+((B11-75)/1000)/($D$3/1000)+(75/1000)/(($D$3/1000)*1.2)+$M$5) -> 0.11872403 | E11: =1/($M$4+((B11-75)/1000)/($E$3/1000)+(75/1000)/(($E$3/1000)*1.2)+$M$5) -> 0.11092623 | F11: =1/($M$4+((B11-75)/1000)/($F$3/1000)+(75/1000)/(($F$3/1000)*1.2)+$M$5) -> 0.10827681 | G11: =1/($M$4+((B11-75)/1000)/($G$3/1000)+(75/1000)/(($G$3/1000)*1.2)+$M$5) -> 0.10560169 | H11: =1/($M$4+((B11-75)/1000)/($H$3/1000)+(75/1000)/(($H$3/1000)*1.2)+$M$5) -> 0.10017288 | I11: =1/($M$4+((B11-75)/1000)/($I$3/1000)+(75/1000)/(($I$3/1000)*1.2)+$M$5) -> 0.074367035 | P11: Uden Radonsugeplade | Q11: Nej
B12: 300 | C12: =1/($M$4+((B12-75)/1000)/($C$3/1000)+(75/1000)/(($C$3/1000)*1.2)+$M$5) -> 0.11727186 | D12: =1/($M$4+((B12-75)/1000)/($D$3/1000)+(75/1000)/(($D$3/1000)*1.2)+$M$5) -> 0.11012258 | E12: =1/($M$4+((B12-75)/1000)/($E$3/1000)+(75/1000)/(($E$3/1000)*1.2)+$M$5) -> 0.10278247 | F12: =1/($M$4+((B12-75)/1000)/($F$3/1000)+(75/1000)/(($F$3/1000)*1.2)+$M$5) -> 0.10029203 | G12: =1/($M$4+((B12-75)/1000)/($G$3/1000)+(75/1000)/(($G$3/1000)*1.2)+$M$5) -> 0.097779226 | H12: =1/($M$4+((B12-75)/1000)/($H$3/1000)+(75/1000)/(($H$3/1000)*1.2)+$M$5) -> 0.092685333 | I12: =1/($M$4+((B12-75)/1000)/($I$3/1000)+(75/1000)/(($I$3/1000)*1.2)+$M$5) -> 0.068572141
B13: 325 | C13: =1/($M$4+((B13-75)/1000)/($C$3/1000)+(75/1000)/(($C$3/1000)*1.2)+$M$5) -> 0.1094457 | D13: =1/($M$4+((B13-75)/1000)/($D$3/1000)+(75/1000)/(($D$3/1000)*1.2)+$M$5) -> 0.10268328 | E13: =1/($M$4+((B13-75)/1000)/($E$3/1000)+(75/1000)/(($E$3/1000)*1.2)+$M$5) -> 0.095752684 | F13: =1/($M$4+((B13-75)/1000)/($F$3/1000)+(75/1000)/(($F$3/1000)*1.2)+$M$5) -> 0.093404027 | G13: =1/($M$4+((B13-75)/1000)/($G$3/1000)+(75/1000)/(($G$3/1000)*1.2)+$M$5) -> 0.091035738 | H13: =1/($M$4+((B13-75)/1000)/($H$3/1000)+(75/1000)/(($H$3/1000)*1.2)+$M$5) -> 0.086239272 | I13: =1/($M$4+((B13-75)/1000)/($I$3/1000)+(75/1000)/(($I$3/1000)*1.2)+$M$5) -> 0.063615071 | P13: Højde tilgængelig | Q13: 100
B14: 350 | C14: =1/($M$4+((B14-75)/1000)/($C$3/1000)+(75/1000)/(($C$3/1000)*1.2)+$M$5) -> 0.10259875 | D14: =1/($M$4+((B14-75)/1000)/($D$3/1000)+(75/1000)/(($D$3/1000)*1.2)+$M$5) -> 0.096185486 | E14: =1/($M$4+((B14-75)/1000)/($E$3/1000)+(75/1000)/(($E$3/1000)*1.2)+$M$5) -> 0.089622943 | F14: =1/($M$4+((B14-75)/1000)/($F$3/1000)+(75/1000)/(($F$3/1000)*1.2)+$M$5) -> 0.087401352 | G14: =1/($M$4+((B14-75)/1000)/($G$3/1000)+(75/1000)/(($G$3/1000)*1.2)+$M$5) -> 0.085162389 | H14: =1/($M$4+((B14-75)/1000)/($H$3/1000)+(75/1000)/(($H$3/1000)*1.2)+$M$5) -> 0.080631527 | I14: =1/($M$4+((B14-75)/1000)/($I$3/1000)+(75/1000)/(($I$3/1000)*1.2)+$M$5) -> 0.059326376 | Q14: 125
B15: 375 | C15: =1/($M$4+((B15-75)/1000)/($C$3/1000)+(75/1000)/(($C$3/1000)*1.2)+$M$5) -> 0.096558058 | D15: =1/($M$4+((B15-75)/1000)/($D$3/1000)+(75/1000)/(($D$3/1000)*1.2)+$M$5) -> 0.090461114 | E15: =1/($M$4+((B15-75)/1000)/($E$3/1000)+(75/1000)/(($E$3/1000)*1.2)+$M$5) -> 0.084230792 | F15: =1/($M$4+((B15-75)/1000)/($F$3/1000)+(75/1000)/(($F$3/1000)*1.2)+$M$5) -> 0.08212362 | G15: =1/($M$4+((B15-75)/1000)/($G$3/1000)+(75/1000)/(($G$3/1000)*1.2)+$M$5) -> 0.08000097 | H15: =1/($M$4+((B15-75)/1000)/($H$3/1000)+(75/1000)/(($H$3/1000)*1.2)+$M$5) -> 0.075708547 | I15: =1/($M$4+((B15-75)/1000)/($I$3/1000)+(75/1000)/(($I$3/1000)*1.2)+$M$5) -> 0.055579415 | Q15: 150
B16: 400 | C16: =1/($M$4+((B16-75)/1000)/($C$3/1000)+(75/1000)/(($C$3/1000)*1.2)+$M$5) -> 0.091189128 | D16: =1/($M$4+((B16-75)/1000)/($D$3/1000)+(75/1000)/(($D$3/1000)*1.2)+$M$5) -> 0.085379828 | E16: =1/($M$4+((B16-75)/1000)/($E$3/1000)+(75/1000)/(($E$3/1000)*1.2)+$M$5) -> 0.079450655 | F16: =1/($M$4+((B16-75)/1000)/($F$3/1000)+(75/1000)/(($F$3/1000)*1.2)+$M$5) -> 0.077446983 | G16: =1/($M$4+((B16-75)/1000)/($G$3/1000)+(75/1000)/(($G$3/1000)*1.2)+$M$5) -> 0.075429433 | H16: =1/($M$4+((B16-75)/1000)/($H$3/1000)+(75/1000)/(($H$3/1000)*1.2)+$M$5) -> 0.071352123 | I16: =1/($M$4+((B16-75)/1000)/($I$3/1000)+(75/1000)/(($I$3/1000)*1.2)+$M$5) -> 0.052277642 | Q16: 175
Q17: 200
A18: BETON | B18: Uden gulvvarme i betondæk | Q18: 225
C19: 41 | D19: 38 | E19: 35 | F19: 34 | G19: 33 | H19: 31 | I19: 22 | K19: Delelementer | L19: mm | M19: Isolans | Q19: 250
B20: 100 | C20: =1/($M$20+$M$21+$M$22+((B20-75)/1000)/($C$19/1000)+(75/1000)/(($C$19/1000)*1.2)+$M$23) -> 0.25240806 | D20: =1/($M$20+$M$21+$M$22+((B20-75)/1000)/($D$19/1000)+(75/1000)/(($D$19/1000)*1.2)+$M$23) -> 0.24211176 | E20: =1/($M$20+$M$21+$M$22+((B20-75)/1000)/($E$19/1000)+(75/1000)/(($E$19/1000)*1.2)+$M$23) -> 0.23107003 | F20: =1/($M$20+$M$21+$M$22+((B20-75)/1000)/($F$19/1000)+(75/1000)/(($F$19/1000)*1.2)+$M$23) -> 0.22720964 | G20: =1/($M$20+$M$21+$M$22+((B20-75)/1000)/($G$19/1000)+(75/1000)/(($G$19/1000)*1.2)+$M$23) -> 0.22325378 | H20: =1/($M$20+$M$21+$M$22+((B20-75)/1000)/($H$19/1000)+(75/1000)/(($H$19/1000)*1.2)+$M$23) -> 0.21504114 | I20: =1/($M$20+$M$21+$M$22+((B20-75)/1000)/($I$19/1000)+(75/1000)/(($I$19/1000)*1.2)+$M$23) -> 0.17226633 | K20: Rsi | M20: 0.17 | Q20: 275
B21: 125 | C21: =1/($M$20+$M$21+$M$22+((B21-75)/1000)/($C$19/1000)+(75/1000)/(($C$19/1000)*1.2)+$M$23) -> 0.21874205 | D21: =1/($M$20+$M$21+$M$22+((B21-75)/1000)/($D$19/1000)+(75/1000)/(($D$19/1000)*1.2)+$M$23) -> 0.20884594 | E21: =1/($M$20+$M$21+$M$22+((B21-75)/1000)/($E$19/1000)+(75/1000)/(($E$19/1000)*1.2)+$M$23) -> 0.19833486 | F21: =1/($M$20+$M$21+$M$22+((B21-75)/1000)/($F$19/1000)+(75/1000)/(($F$19/1000)*1.2)+$M$23) -> 0.1946845 | G21: =1/($M$20+$M$21+$M$22+((B21-75)/1000)/($G$19/1000)+(75/1000)/(($G$19/1000)*1.2)+$M$23) -> 0.19095692 | H21: =1/($M$20+$M$21+$M$22+((B21-75)/1000)/($H$19/1000)+(75/1000)/(($H$19/1000)*1.2)+$M$23) -> 0.18326012 | I21: =1/($M$20+$M$21+$M$22+((B21-75)/1000)/($I$19/1000)+(75/1000)/(($I$19/1000)*1.2)+$M$23) -> 0.14406464 | K21: Parketgulv | L21: 14 | M21: =(L21/1000)/(130/1000) -> 0.10769231 | Q21: 300
B22: 150 | C22: =1/($M$20+$M$21+$M$22+((B22-75)/1000)/($C$19/1000)+(75/1000)/(($C$19/1000)*1.2)+$M$23) -> 0.19299986 | D22: =1/($M$20+$M$21+$M$22+((B22-75)/1000)/($D$19/1000)+(75/1000)/(($D$19/1000)*1.2)+$M$23) -> 0.18361718 | E22: =1/($M$20+$M$21+$M$22+((B22-75)/1000)/($E$19/1000)+(75/1000)/(($E$19/1000)*1.2)+$M$23) -> 0.1737238 | F22: =1/($M$20+$M$21+$M$22+((B22-75)/1000)/($F$19/1000)+(75/1000)/(($F$19/1000)*1.2)+$M$23) -> 0.17030524 | G22: =1/($M$20+$M$21+$M$22+((B22-75)/1000)/($G$19/1000)+(75/1000)/(($G$19/1000)*1.2)+$M$23) -> 0.16682351 | H22: =1/($M$20+$M$21+$M$22+((B22-75)/1000)/($H$19/1000)+(75/1000)/(($H$19/1000)*1.2)+$M$23) -> 0.1596634 | I22: =1/($M$20+$M$21+$M$22+((B22-75)/1000)/($I$19/1000)+(75/1000)/(($I$19/1000)*1.2)+$M$23) -> 0.12379773 | K22: Beton | L22: 100 | M22: =(L22/1000)/(2000/1000) -> 0.05 | Q22: 325
B23: 175 | C23: =1/($M$20+$M$21+$M$22+((B23-75)/1000)/($C$19/1000)+(75/1000)/(($C$19/1000)*1.2)+$M$23) -> 0.17267856 | D23: =1/($M$20+$M$21+$M$22+((B23-75)/1000)/($D$19/1000)+(75/1000)/(($D$19/1000)*1.2)+$M$23) -> 0.16382678 | E23: =1/($M$20+$M$21+$M$22+((B23-75)/1000)/($E$19/1000)+(75/1000)/(($E$19/1000)*1.2)+$M$23) -> 0.15454638 | F23: =1/($M$20+$M$21+$M$22+((B23-75)/1000)/($F$19/1000)+(75/1000)/(($F$19/1000)*1.2)+$M$23) -> 0.15135224 | G23: =1/($M$20+$M$21+$M$22+((B23-75)/1000)/($G$19/1000)+(75/1000)/(($G$19/1000)*1.2)+$M$23) -> 0.1481057 | H23: =1/($M$20+$M$21+$M$22+((B23-75)/1000)/($H$19/1000)+(75/1000)/(($H$19/1000)*1.2)+$M$23) -> 0.14145016 | I23: =1/($M$20+$M$21+$M$22+((B23-75)/1000)/($I$19/1000)+(75/1000)/(($I$19/1000)*1.2)+$M$23) -> 0.10852984 | K23: Rj | M23: 1.5 | Q23: 350
B24: 200 | C24: =1/($M$20+$M$21+$M$22+((B24-75)/1000)/($C$19/1000)+(75/1000)/(($C$19/1000)*1.2)+$M$23) -> 0.15622893 | D24: =1/($M$20+$M$21+$M$22+((B24-75)/1000)/($D$19/1000)+(75/1000)/(($D$19/1000)*1.2)+$M$23) -> 0.14788737 | E24: =1/($M$20+$M$21+$M$22+((B24-75)/1000)/($E$19/1000)+(75/1000)/(($E$19/1000)*1.2)+$M$23) -> 0.13918204 | F24: =1/($M$20+$M$21+$M$22+((B24-75)/1000)/($F$19/1000)+(75/1000)/(($F$19/1000)*1.2)+$M$23) -> 0.13619528 | G24: =1/($M$20+$M$21+$M$22+((B24-75)/1000)/($G$19/1000)+(75/1000)/(($G$19/1000)*1.2)+$M$23) -> 0.13316447 | H24: =1/($M$20+$M$21+$M$22+((B24-75)/1000)/($H$19/1000)+(75/1000)/(($H$19/1000)*1.2)+$M$23) -> 0.12696672 | I24: =1/($M$20+$M$21+$M$22+((B24-75)/1000)/($I$19/1000)+(75/1000)/(($I$19/1000)*1.2)+$M$23) -> 0.096614441 | Q24: 375
B25: 225 | C25: =1/($M$20+$M$21+$M$22+((B25-75)/1000)/($C$19/1000)+(75/1000)/(($C$19/1000)*1.2)+$M$23) -> 0.14264075 | D25: =1/($M$20+$M$21+$M$22+((B25-75)/1000)/($D$19/1000)+(75/1000)/(($D$19/1000)*1.2)+$M$23) -> 0.13477457 | E25: =1/($M$20+$M$21+$M$22+((B25-75)/1000)/($E$19/1000)+(75/1000)/(($E$19/1000)*1.2)+$M$23) -> 0.12659637 | F25: =1/($M$20+$M$21+$M$22+((B25-75)/1000)/($F$19/1000)+(75/1000)/(($F$19/1000)*1.2)+$M$23) -> 0.12379773 | G25: =1/($M$20+$M$21+$M$22+((B25-75)/1000)/($G$19/1000)+(75/1000)/(($G$19/1000)*1.2)+$M$23) -> 0.1209616 | H25: =1/($M$20+$M$21+$M$22+((B25-75)/1000)/($H$19/1000)+(75/1000)/(($H$19/1000)*1.2)+$M$23) -> 0.11517379 | I25: =1/($M$20+$M$21+$M$22+((B25-75)/1000)/($I$19/1000)+(75/1000)/(($I$19/1000)*1.2)+$M$23) -> 0.087056575 | Q25: 400
B26: 250 | C26: =1/($M$20+$M$21+$M$22+((B26-75)/1000)/($C$19/1000)+(75/1000)/(($C$19/1000)*1.2)+$M$23) -> 0.13122713 | D26: =1/($M$20+$M$21+$M$22+((B26-75)/1000)/($D$19/1000)+(75/1000)/(($D$19/1000)*1.2)+$M$23) -> 0.12379773 | E26: =1/($M$20+$M$21+$M$22+((B26-75)/1000)/($E$19/1000)+(75/1000)/(($E$19/1000)*1.2)+$M$23) -> 0.11609808 | F26: =1/($M$20+$M$21+$M$22+((B26-75)/1000)/($F$19/1000)+(75/1000)/(($F$19/1000)*1.2)+$M$23) -> 0.11346891 | G26: =1/($M$20+$M$21+$M$22+((B26-75)/1000)/($G$19/1000)+(75/1000)/(($G$19/1000)*1.2)+$M$23) -> 0.11080747 | H26: =1/($M$20+$M$21+$M$22+((B26-75)/1000)/($H$19/1000)+(75/1000)/(($H$19/1000)*1.2)+$M$23) -> 0.10538538 | I26: =1/($M$20+$M$21+$M$22+((B26-75)/1000)/($I$19/1000)+(75/1000)/(($I$19/1000)*1.2)+$M$23) -> 0.079219549
B27: 275 | C27: =1/($M$20+$M$21+$M$22+((B27-75)/1000)/($C$19/1000)+(75/1000)/(($C$19/1000)*1.2)+$M$23) -> 0.12150474 | D27: =1/($M$20+$M$21+$M$22+((B27-75)/1000)/($D$19/1000)+(75/1000)/(($D$19/1000)*1.2)+$M$23) -> 0.11447428 | E27: =1/($M$20+$M$21+$M$22+((B27-75)/1000)/($E$19/1000)+(75/1000)/(($E$19/1000)*1.2)+$M$23) -> 0.10720765 | F27: =1/($M$20+$M$21+$M$22+((B27-75)/1000)/($F$19/1000)+(75/1000)/(($F$19/1000)*1.2)+$M$23) -> 0.1047309 | G27: =1/($M$20+$M$21+$M$22+((B27-75)/1000)/($G$19/1000)+(75/1000)/(($G$19/1000)*1.2)+$M$23) -> 0.1022261 | H27: =1/($M$20+$M$21+$M$22+((B27-75)/1000)/($H$19/1000)+(75/1000)/(($H$19/1000)*1.2)+$M$23) -> 0.097130434 | I27: =1/($M$20+$M$21+$M$22+((B27-75)/1000)/($I$19/1000)+(75/1000)/(($I$19/1000)*1.2)+$M$23) -> 0.072677004 | P27: lambda værdi | Q27: λ=41
B28: 300 | C28: =1/($M$20+$M$21+$M$22+((B28-75)/1000)/($C$19/1000)+(75/1000)/(($C$19/1000)*1.2)+$M$23) -> 0.11312361 | D28: =1/($M$20+$M$21+$M$22+((B28-75)/1000)/($D$19/1000)+(75/1000)/(($D$19/1000)*1.2)+$M$23) -> 0.1064568 | E28: =1/($M$20+$M$21+$M$22+((B28-75)/1000)/($E$19/1000)+(75/1000)/(($E$19/1000)*1.2)+$M$23) -> 0.099581975 | F28: =1/($M$20+$M$21+$M$22+((B28-75)/1000)/($F$19/1000)+(75/1000)/(($F$19/1000)*1.2)+$M$23) -> 0.097242451 | G28: =1/($M$20+$M$21+$M$22+((B28-75)/1000)/($G$19/1000)+(75/1000)/(($G$19/1000)*1.2)+$M$23) -> 0.094878339 | H28: =1/($M$20+$M$21+$M$22+((B28-75)/1000)/($H$19/1000)+(75/1000)/(($H$19/1000)*1.2)+$M$23) -> 0.090074787 | I28: =1/($M$20+$M$21+$M$22+((B28-75)/1000)/($I$19/1000)+(75/1000)/(($I$19/1000)*1.2)+$M$23) -> 0.067132683 | Q28: λ=38
B29: 325 | C29: =1/($M$20+$M$21+$M$22+((B29-75)/1000)/($C$19/1000)+(75/1000)/(($C$19/1000)*1.2)+$M$23) -> 0.1058241 | D29: =1/($M$20+$M$21+$M$22+((B29-75)/1000)/($D$19/1000)+(75/1000)/(($D$19/1000)*1.2)+$M$23) -> 0.099488861 | E29: =1/($M$20+$M$21+$M$22+((B29-75)/1000)/($E$19/1000)+(75/1000)/(($E$19/1000)*1.2)+$M$23) -> 0.092969085 | F29: =1/($M$20+$M$21+$M$22+((B29-75)/1000)/($F$19/1000)+(75/1000)/(($F$19/1000)*1.2)+$M$23) -> 0.090753418 | G29: =1/($M$20+$M$21+$M$22+((B29-75)/1000)/($G$19/1000)+(75/1000)/(($G$19/1000)*1.2)+$M$23) -> 0.088516026 | H29: =1/($M$20+$M$21+$M$22+((B29-75)/1000)/($H$19/1000)+(75/1000)/(($H$19/1000)*1.2)+$M$23) -> 0.083974778 | I29: =1/($M$20+$M$21+$M$22+((B29-75)/1000)/($I$19/1000)+(75/1000)/(($I$19/1000)*1.2)+$M$23) -> 0.062374324 | Q29: λ=35
B30: 350 | C30: =1/($M$20+$M$21+$M$22+((B30-75)/1000)/($C$19/1000)+(75/1000)/(($C$19/1000)*1.2)+$M$23) -> 0.099409511 | D30: =1/($M$20+$M$21+$M$22+((B30-75)/1000)/($D$19/1000)+(75/1000)/(($D$19/1000)*1.2)+$M$23) -> 0.093377035 | E30: =1/($M$20+$M$21+$M$22+((B30-75)/1000)/($E$19/1000)+(75/1000)/(($E$19/1000)*1.2)+$M$23) -> 0.087179782 | F30: =1/($M$20+$M$21+$M$22+((B30-75)/1000)/($F$19/1000)+(75/1000)/(($F$19/1000)*1.2)+$M$23) -> 0.085076241 | G30: =1/($M$20+$M$21+$M$22+((B30-75)/1000)/($G$19/1000)+(75/1000)/(($G$19/1000)*1.2)+$M$23) -> 0.082953372 | H30: =1/($M$20+$M$21+$M$22+((B30-75)/1000)/($H$19/1000)+(75/1000)/(($H$19/1000)*1.2)+$M$23) -> 0.078648572 | I30: =1/($M$20+$M$21+$M$22+((B30-75)/1000)/($I$19/1000)+(75/1000)/(($I$19/1000)*1.2)+$M$23) -> 0.058245863 | Q30: λ=34
B31: 375 | C31: =1/($M$20+$M$21+$M$22+((B31-75)/1000)/($C$19/1000)+(75/1000)/(($C$19/1000)*1.2)+$M$23) -> 0.093728129 | D31: =1/($M$20+$M$21+$M$22+((B31-75)/1000)/($D$19/1000)+(75/1000)/(($D$19/1000)*1.2)+$M$23) -> 0.087972675 | E31: =1/($M$20+$M$21+$M$22+((B31-75)/1000)/($E$19/1000)+(75/1000)/(($E$19/1000)*1.2)+$M$23) -> 0.082069227 | F31: =1/($M$20+$M$21+$M$22+((B31-75)/1000)/($F$19/1000)+(75/1000)/(($F$19/1000)*1.2)+$M$23) -> 0.080067532 | G31: =1/($M$20+$M$21+$M$22+((B31-75)/1000)/($G$19/1000)+(75/1000)/(($G$19/1000)*1.2)+$M$23) -> 0.078048532 | H31: =1/($M$20+$M$21+$M$22+((B31-75)/1000)/($H$19/1000)+(75/1000)/(($H$19/1000)*1.2)+$M$23) -> 0.07395771 | I31: =1/($M$20+$M$21+$M$22+((B31-75)/1000)/($I$19/1000)+(75/1000)/(($I$19/1000)*1.2)+$M$23) -> 0.054629987 | Q31: λ=33
B32: 400 | C32: =1/($M$20+$M$21+$M$22+((B32-75)/1000)/($C$19/1000)+(75/1000)/(($C$19/1000)*1.2)+$M$23) -> 0.088661035 | D32: =1/($M$20+$M$21+$M$22+((B32-75)/1000)/($D$19/1000)+(75/1000)/(($D$19/1000)*1.2)+$M$23) -> 0.083159663 | E32: =1/($M$20+$M$21+$M$22+((B32-75)/1000)/($E$19/1000)+(75/1000)/(($E$19/1000)*1.2)+$M$23) -> 0.077524663 | F32: =1/($M$20+$M$21+$M$22+((B32-75)/1000)/($F$19/1000)+(75/1000)/(($F$19/1000)*1.2)+$M$23) -> 0.07561579 | G32: =1/($M$20+$M$21+$M$22+((B32-75)/1000)/($G$19/1000)+(75/1000)/(($G$19/1000)*1.2)+$M$23) -> 0.073691335 | H32: =1/($M$20+$M$21+$M$22+((B32-75)/1000)/($H$19/1000)+(75/1000)/(($H$19/1000)*1.2)+$M$23) -> 0.06979491 | I32: =1/($M$20+$M$21+$M$22+((B32-75)/1000)/($I$19/1000)+(75/1000)/(($I$19/1000)*1.2)+$M$23) -> 0.051436814 | Q32: λ=31
Q33: λ=22
A34: BETON | B34: Gulvvarme i betondæk med radonsugeplade
C35: 41 | D35: 38 | E35: 35 | F35: 34 | G35: 33 | H35: 31 | I35: 22 | K35: Delelementer | L35: mm | M35: Isolans
B36: 100 | C36: =1/($M$36+((B36-75)/1000)/($C$35/1000)+(25/1000)/(($C$35/1000)*1.2)+$M$37+$M$38) -> 0.29651746 | D36: =1/($M$36+((B36-75)/1000)/($D$35/1000)+(25/1000)/(($D$35/1000)*1.2)+$M$37+$M$38) -> 0.2889558 | E36: =1/($M$36+((B36-75)/1000)/($E$35/1000)+(25/1000)/(($E$35/1000)*1.2)+$M$37+$M$38) -> 0.28057414 | F36: =1/($M$36+((B36-75)/1000)/($F$35/1000)+(25/1000)/(($F$35/1000)*1.2)+$M$37+$M$38) -> 0.27757455 | G36: =1/($M$36+((B36-75)/1000)/($G$35/1000)+(25/1000)/(($G$35/1000)*1.2)+$M$37+$M$38) -> 0.27446247 | H36: =1/($M$36+((B36-75)/1000)/($H$35/1000)+(25/1000)/(($H$35/1000)*1.2)+$M$37+$M$38) -> 0.26787452 | I36: =1/($M$36+((B36-75)/1000)/($I$35/1000)+(25/1000)/(($I$35/1000)*1.2)+$M$37+$M$38) -> 0.23052471 | K36: Beton | L36: 30 | M36: =(L36/1000)/(2000/1000) -> 0.015
B37: 125 | C37: =1/($M$36+((B37-75)/1000)/($C$35/1000)+(25/1000)/(($C$35/1000)*1.2)+$M$37+$M$38) -> 0.25111503 | D37: =1/($M$36+((B37-75)/1000)/($D$35/1000)+(25/1000)/(($D$35/1000)*1.2)+$M$37+$M$38) -> 0.24279909 | E37: =1/($M$36+((B37-75)/1000)/($E$35/1000)+(25/1000)/(($E$35/1000)*1.2)+$M$37+$M$38) -> 0.23373191 | F37: =1/($M$36+((B37-75)/1000)/($F$35/1000)+(25/1000)/(($F$35/1000)*1.2)+$M$37+$M$38) -> 0.23052471 | G37: =1/($M$36+((B37-75)/1000)/($G$35/1000)+(25/1000)/(($G$35/1000)*1.2)+$M$37+$M$38) -> 0.22721793 | H37: =1/($M$36+((B37-75)/1000)/($H$35/1000)+(25/1000)/(($H$35/1000)*1.2)+$M$37+$M$38) -> 0.2202865 | I37: =1/($M$36+((B37-75)/1000)/($I$35/1000)+(25/1000)/(($I$35/1000)*1.2)+$M$37+$M$38) -> 0.18267198 | K37: Radonsugeplade + Tek. Inst. (Reelt 50mm) | L37: 20 | M37: =0.301+(L37/1000)/((38/1000)*1.2) -> 0.73959649
B38: 150 | C38: =1/($M$36+((B38-75)/1000)/($C$35/1000)+(25/1000)/(($C$35/1000)*1.2)+$M$37+$M$38) -> 0.21777028 | D38: =1/($M$36+((B38-75)/1000)/($D$35/1000)+(25/1000)/(($D$35/1000)*1.2)+$M$37+$M$38) -> 0.20935716 | E38: =1/($M$36+((B38-75)/1000)/($E$35/1000)+(25/1000)/(($E$35/1000)*1.2)+$M$37+$M$38) -> 0.20029276 | F38: =1/($M$36+((B38-75)/1000)/($F$35/1000)+(25/1000)/(($F$35/1000)*1.2)+$M$37+$M$38) -> 0.19711332 | G38: =1/($M$36+((B38-75)/1000)/($G$35/1000)+(25/1000)/(($G$35/1000)*1.2)+$M$37+$M$38) -> 0.19384966 | H38: =1/($M$36+((B38-75)/1000)/($H$35/1000)+(25/1000)/(($H$35/1000)*1.2)+$M$37+$M$38) -> 0.18705594 | I38: =1/($M$36+((B38-75)/1000)/($I$35/1000)+(25/1000)/(($I$35/1000)*1.2)+$M$37+$M$38) -> 0.15127089 | K38: Rj | M38: 1.5
B39: 175 | C39: =1/($M$36+((B39-75)/1000)/($C$35/1000)+(25/1000)/(($C$35/1000)*1.2)+$M$37+$M$38) -> 0.19224296 | D39: =1/($M$36+((B39-75)/1000)/($D$35/1000)+(25/1000)/(($D$35/1000)*1.2)+$M$37+$M$38) -> 0.18401224 | E39: =1/($M$36+((B39-75)/1000)/($E$35/1000)+(25/1000)/(($E$35/1000)*1.2)+$M$37+$M$38) -> 0.1752241 | F39: =1/($M$36+((B39-75)/1000)/($F$35/1000)+(25/1000)/(($F$35/1000)*1.2)+$M$37+$M$38) -> 0.17216095 | G39: =1/($M$36+((B39-75)/1000)/($G$35/1000)+(25/1000)/(($G$35/1000)*1.2)+$M$37+$M$38) -> 0.16902705 | H39: =1/($M$36+((B39-75)/1000)/($H$35/1000)+(25/1000)/(($H$35/1000)*1.2)+$M$37+$M$38) -> 0.16253698 | I39: =1/($M$36+((B39-75)/1000)/($I$35/1000)+(25/1000)/(($I$35/1000)*1.2)+$M$37+$M$38) -> 0.12908188
B40: 200 | C40: =1/($M$36+((B40-75)/1000)/($C$35/1000)+(25/1000)/(($C$35/1000)*1.2)+$M$37+$M$38) -> 0.17207241 | D40: =1/($M$36+((B40-75)/1000)/($D$35/1000)+(25/1000)/(($D$35/1000)*1.2)+$M$37+$M$38) -> 0.1641412 | E40: =1/($M$36+((B40-75)/1000)/($E$35/1000)+(25/1000)/(($E$35/1000)*1.2)+$M$37+$M$38) -> 0.1557326 | F40: =1/($M$36+((B40-75)/1000)/($F$35/1000)+(25/1000)/(($F$35/1000)*1.2)+$M$37+$M$38) -> 0.15281612 | G40: =1/($M$36+((B40-75)/1000)/($G$35/1000)+(25/1000)/(($G$35/1000)*1.2)+$M$37+$M$38) -> 0.14983993 | H40: =1/($M$36+((B40-75)/1000)/($H$35/1000)+(25/1000)/(($H$35/1000)*1.2)+$M$37+$M$38) -> 0.14370092 | I40: =1/($M$36+((B40-75)/1000)/($I$35/1000)+(25/1000)/(($I$35/1000)*1.2)+$M$37+$M$38) -> 0.11256971
...

Sheet Tabel
A1: Terrændæk tabelopslag | B1: Indtast i de orange felter
A3: Type terrændæk | B3: Terrændæk med beton | D3: Din valgte terrændækstabel | M3: Din valgte terrændækstabel
A4: Gulvvarme | B4: Ja | D4: Højde | E4: λ=41 | F4: λ=38 | G4: λ=35 | H4: λ=34 | I4: λ=33 | J4: λ=31 | K4: λ=22 | N4: λ=41 | O4: λ=38 | P4: λ=35 | Q4: λ=34 | R4: λ=33 | S4: λ=31 | T4: λ=22
A5: Radonsugeplade | B5: Ja | D5: {=_xlfn.XLOOKUP( B6, INDEX( CHOOSE( 1+(B3="Let terrændæk")*4+(B5="Ja")*2+(B4="Ja"), Tb_ug_ur, Tb_mg_ur, Tb_ug_mr, Tb_mg_mr, Tl_ug_ur, Tl_mg_ur, Tl_ug_mr, Tl_mg_mr ), , 1 ), CHOOSE( 1+(B3="Let terrændæk")*4+(B5="Ja")*2+(B4="Ja"), Tb_ug_ur, Tb_mg_ur, Tb_ug_mr, Tb_mg_mr, Tl_ug_ur, Tl_mg_ur, Tl_ug_mr, Tl_mg_mr ) )} -> 350 | E5: 0.10559613 | F5: 0.099604727 | G5: 0.09339704 | H5: 0.091277713 | I5: 0.089132574 | J5: 0.084762951 | K5: 0.063687914 | M5: 100 | N5: {=CHOOSE( 1 +(B3="Let terrændæk")*4 +(B5="Ja")*2 +(B4="Ja"), Tb_ug_ur_t, Tb_mg_ur_t, Tb_ug_mr_t, Tb_mg_mr_t, Tl_ug_ur_t, Tl_mg_ur_t, Tl_ug_mr_t, Tl_mg_mr_t )} -> 0.29651746 | O5: 0.2889558 | P5: 0.28057414 | Q5: 0.27757455 | R5: 0.27446247 | S5: 0.26787452 | T5: 0.23052471
A6: Højde tilgængelig | B6: 350 | M6: 125 | N6: 0.25111503 | O6: 0.24279909 | P6: 0.23373191 | Q6: 0.23052471 | R6: 0.22721793 | S6: 0.2202865 | T6: 0.18267198
A7: Lambda værdi | B7: λ=33 | M7: 150 | N7: 0.21777028 | O7: 0.20935716 | P7: 0.20029276 | Q7: 0.19711332 | R7: 0.19384966 | S7: 0.18705594 | T7: 0.15127089
M8: 175 | N8: 0.19224296 | O8: 0.18401224 | P8: 0.1752241 | Q8: 0.17216095 | R8: 0.16902705 | S8: 0.16253698 | T8: 0.12908188
A9: Endelig U-værdi ud fra dine valg | B9: =_xlfn.LET( _xlpm.T, CHOOSE(1+(B3="Let terrændæk")*4+(B5="Ja")*2+(B4="Ja"), Tb_ug_ur_l, Tb_mg_ur_l, Tb_ug_mr_l, Tb_mg_mr_l, Tl_ug_ur_l, Tl_mg_ur_l, Tl_ug_mr_l, Tl_mg_mr_l ), _xlpm.r, MATCH(B6, INDEX(_xlpm.T,,1), 0), _xlpm.c, MATCH(B7, INDEX(_xlpm.T,1,), 0), INDEX(_xlpm.T, _xlpm.r, _xlpm.c) ) -> 0.089132574 | M9: 200 | N9: 0.17207241 | O9: 0.1641412 | P9: 0.1557326 | Q9: 0.15281612 | R9: 0.14983993 | S9: 0.14370092 | T9: 0.11256971
M10: 225 | N10: 0.1557326 | O10: 0.14814353 | P10: 0.14014339 | Q10: 0.1373795 | R10: 0.1345648 | S10: 0.12877721 | T10: 0.099802909
M11: 250 | N11: 0.14222689 | O11: 0.13498728 | P11: 0.12739122 | Q11: 0.1247754 | R11: 0.12211593 | S11: 0.1166616 | T11: 0.089636966
M12: 275 | N12: 0.13087677 | O12: 0.12397719 | P12: 0.11676623 | Q12: 0.1142897 | R12: 0.11177536 | S12: 0.10662967 | T12: 0.081350581
M13: 300 | N13: 0.12120431 | O13: 0.1146277 | P13: 0.10777713 | Q13: 0.10542975 | R13: 0.10304932 | S13: 0.098186457 | T13: 0.074466602
M14: 325 | N14: 0.11286315 | O14: 0.10658947 | P14: 0.10007314 | Q14: 0.097844651 | R14: 0.095587059 | S14: 0.090982244 | T14: 0.068656786
M15: 350 | N15: 0.10559613 | O15: 0.099604727 | P15: 0.09339704 | Q15: 0.091277713 | R15: 0.089132574 | S15: 0.084762951 | T15: 0.063687914
M16: 375 | N16: 0.09920832 | O16: 0.093479095 | P16: 0.08755599 | Q16: 0.085536826 | R16: 0.083494626 | S16: 0.079339522 | T16: 0.059389724
M17: 400 | N17: 0.093549256 | O17: 0.088063257 | P17: 0.082402536 | Q17: 0.080475351 | R17: 0.078527487 | S17: 0.074568377 | T17: 0.05563501
A25: BETON | D25: Terrændæk med beton og gulvvarme
E26: λ=41 | F26: λ=38 | G26: λ=35 | H26: λ=34 | I26: λ=33 | J26: λ=31 | K26: λ=22
D27: 100 | E27: =Opskrift!C4 -> 0.27403669 | F27: =Opskrift!D4 -> 0.26194251 | G27: =Opskrift!E4 -> 0.249066 | H27: =Opskrift!F4 -> 0.24458672 | I27: =Opskrift!G4 -> 0.24000873 | J27: =Opskrift!H4 -> 0.23054326 | K27: =Opskrift!I4 -> 0.18207399
D28: 125 | E28: =Opskrift!C5 -> 0.23480228 | F28: =Opskrift!D5 -> 0.22343741 | G28: =Opskrift!E5 -> 0.21144842 | H28: =Opskrift!F5 -> 0.20730443 | I28: =Opskrift!G5 -> 0.20308317 | J28: =Opskrift!H5 -> 0.19440003 | K28: =Opskrift!I5 -> 0.15086059
D29: 150 | E29: =Opskrift!C6 -> 0.20539539 | F29: =Opskrift!D6 -> 0.19480187 | G29: =Opskrift!E6 -> 0.18370293 | H29: =Opskrift!F6 -> 0.17988466 | I29: =Opskrift!G6 -> 0.17600469 | J29: =Opskrift!H6 -> 0.16805356 | K29: =Opskrift!I6 -> 0.128783
A30: Med gulvvarme | D30: 175 | E30: =Opskrift!C7 -> 0.18253456 | F30: =Opskrift!D7 -> 0.17267233 | G30: =Opskrift!E7 -> 0.16239415 | H30: =Opskrift!F7 -> 0.15887108 | I30: =Opskrift!G7 -> 0.15529777 | J30: =Opskrift!H7 -> 0.14799609 | K30: =Opskrift!I7 -> 0.11234234
A31: Uden radonsugeplade | D31: 200 | E31: =Opskrift!C8 -> 0.16425295 | F31: =Opskrift!D8 -> 0.15505774 | G31: =Opskrift!E8 -> 0.14551502 | H31: =Opskrift!F8 -> 0.14225346 | I31: =Opskrift!G8 -> 0.13895029 | J31: =Opskrift!H8 -> 0.1322159 | K31: =Opskrift!I8 -> 0.099624145
D32: 225 | E32: =Opskrift!C9 -> 0.14929993 | F32: =Opskrift!D9 -> 0.14070426 | G32: =Opskrift!E9 -> 0.13181433 | H32: =Opskrift!F9 -> 0.128783 | I32: =Opskrift!G9 -> 0.12571668 | J32: =Opskrift!H9 -> 0.11947662 | K32: =Opskrift!I9 -> 0.089492739
D33: 250 | E33: =Opskrift!C10 -> 0.13684228 | F33: =Opskrift!D10 -> 0.128783 | G33: =Opskrift!E10 -> 0.12047156 | H33: =Opskrift!F10 -> 0.11764299 | I33: =Opskrift!G10 -> 0.1147846 | J33: =Opskrift!H10 -> 0.1089765 | K33: =Opskrift!I10 -> 0.081231769
D34: 275 | E34: =Opskrift!C11 -> 0.12630347 | F34: =Opskrift!D11 -> 0.11872403 | G34: =Opskrift!E11 -> 0.11092623 | H34: =Opskrift!F11 -> 0.10827681 | I34: =Opskrift!G11 -> 0.10560169 | J34: =Opskrift!H11 -> 0.10017288 | K34: =Opskrift!I11 -> 0.074367035
D35: 300 | E35: =Opskrift!C12 -> 0.11727186 | F35: =Opskrift!D12 -> 0.11012258 | G35: =Opskrift!E12 -> 0.10278247 | H35: =Opskrift!F12 -> 0.10029203 | I35: =Opskrift!G12 -> 0.097779226 | J35: =Opskrift!H12 -> 0.092685333 | K35: =Opskrift!I12 -> 0.068572141
D36: 325 | E36: =Opskrift!C13 -> 0.1094457 | F36: =Opskrift!D13 -> 0.10268328 | G36: =Opskrift!E13 -> 0.095752684 | H36: =Opskrift!F13 -> 0.093404027 | I36: =Opskrift!G13 -> 0.091035738 | J36: =Opskrift!H13 -> 0.086239272 | K36: =Opskrift!I13 -> 0.063615071
D37: 350 | E37: =Opskrift!C14 -> 0.10259875 | F37: =Opskrift!D14 -> 0.096185486 | G37: =Opskrift!E14 -> 0.089622943 | H37: =Opskrift!F14 -> 0.087401352 | I37: =Opskrift!G14 -> 0.085162389 | J37: =Opskrift!H14 -> 0.080631527 | K37: =Opskrift!I14 -> 0.059326376
D38: 375 | E38: =Opskrift!C15 -> 0.096558058 | F38: =Opskrift!D15 -> 0.090461114 | G38: =Opskrift!E15 -> 0.084230792 | H38: =Opskrift!F15 -> 0.08212362 | I38: =Opskrift!G15 -> 0.08000097 | J38: =Opskrift!H15 -> 0.075708547 | K38: =Opskrift!I15 -> 0.055579415
D39: 400 | E39: =Opskrift!C16 -> 0.091189128 | F39: =Opskrift!D16 -> 0.085379828 | G39: =Opskrift!E16 -> 0.079450655 | H39: =Opskrift!F16 -> 0.077446983 | I39: =Opskrift!G16 -> 0.075429433 | J39: =Opskrift!H16 -> 0.071352123 | K39: =Opskrift!I16 -> 0.052277642
A41: BETON | D41: Terrændæk med beton uden gulvvarme
E42: λ=41 | F42: λ=38 | G42: λ=35 | H42: λ=34 | I42: λ=33 | J42: λ=31 | K42: λ=22
D43: 100 | E43: =Opskrift!C20 -> 0.25240806 | F43: =Opskrift!D20 -> 0.24211176 | G43: =Opskrift!E20 -> 0.23107003 | H43: =Opskrift!F20 -> 0.22720964 | I43: =Opskrift!G20 -> 0.22325378 | J43: =Opskrift!H20 -> 0.21504114 | K43: =Opskrift!I20 -> 0.17226633
D44: 125 | E44: =Opskrift!C21 -> 0.21874205 | F44: =Opskrift!D21 -> 0.20884594 | G44: =Opskrift!E21 -> 0.19833486 | H44: =Opskrift!F21 -> 0.1946845 | I44: =Opskrift!G21 -> 0.19095692 | J44: =Opskrift!H21 -> 0.18326012 | K44: =Opskrift!I21 -> 0.14406464
D45: 150 | E45: =Opskrift!C22 -> 0.19299986 | F45: =Opskrift!D22 -> 0.18361718 | G45: =Opskrift!E22 -> 0.1737238 | H45: =Opskrift!F22 -> 0.17030524 | I45: =Opskrift!G22 -> 0.16682351 | J45: =Opskrift!H22 -> 0.1596634 | K45: =Opskrift!I22 -> 0.12379773
A46: Uden gulvvarme | D46: 175 | E46: =Opskrift!C23 -> 0.17267856 | F46: =Opskrift!D23 -> 0.16382678 | G46: =Opskrift!E23 -> 0.15454638 | H46: =Opskrift!F23 -> 0.15135224 | I46: =Opskrift!G23 -> 0.1481057 | J46: =Opskrift!H23 -> 0.14145016 | K46: =Opskrift!I23 -> 0.10852984
A47: Uden radonsugeplade | D47: 200 | E47: =Opskrift!C24 -> 0.15622893 | F47: =Opskrift!D24 -> 0.14788737 | G47: =Opskrift!E24 -> 0.13918204 | H47: =Opskrift!F24 -> 0.13619528 | I47: =Opskrift!G24 -> 0.13316447 | J47: =Opskrift!H24 -> 0.12696672 | K47: =Opskrift!I24 -> 0.096614441
D48: 225 | E48: =Opskrift!C25 -> 0.14264075 | F48: =Opskrift!D25 -> 0.13477457 | G48: =Opskrift!E25 -> 0.12659637 | H48: =Opskrift!F25 -> 0.12379773 | I48: =Opskrift!G25 -> 0.1209616 | J48: =Opskrift!H25 -> 0.11517379 | K48: =Opskrift!I25 -> 0.087056575
D49: 250 | E49: =Opskrift!C26 -> 0.13122713 | F49: =Opskrift!D26 -> 0.12379773 | G49: =Opskrift!E26 -> 0.11609808 | H49: =Opskrift!F26 -> 0.11346891 | I49: =Opskrift!G26 -> 0.11080747 | J49: =Opskrift!H26 -> 0.10538538 | K49: =Opskrift!I26 -> 0.079219549
...
